• using R version 4.2.0 (2022-04-22)
  • using platform: x86_64-apple-darwin17.0 (64-bit)
  • using session charset: UTF-8
  • checking for file ‘Umpire/DESCRIPTION’ ... OK
  • this is package ‘Umpire’ version ‘2.0.10’
  • checking package namespace information ... OK
  • checking package dependencies ... OK
  • checking if this is a source package ... OK
  • checking if there is a namespace ... OK
  • checking for executable files ... OK
  • checking for hidden files and directories ... OK
  • checking for portable file names ... OK
  • checking for sufficient/correct file permissions ... OK
  • checking whether package ‘Umpire’ can be installed ... [3s/3s] OK
  • checking installed package size ... OK
  • checking package directory ... OK
  • checking ‘build’ directory ... OK
  • checking DESCRIPTION meta-information ... OK
  • checking top-level files ... OK
  • checking for left-over files ... OK
  • checking index information ... OK
  • checking package subdirectories ... OK
  • checking R files for non-ASCII characters ... OK
  • checking R files for syntax errors ... OK
  • checking whether the package can be loaded ... OK
  • checking whether the package can be loaded with stated dependencies ... OK
  • checking whether the package can be unloaded cleanly ... OK
  • checking whether the namespace can be loaded with stated dependencies ... OK
  • checking whether the namespace can be unloaded cleanly ... OK
  • checking loading without being on the library search path ... OK
  • checking dependencies in R code ... OK
  • checking S3 generic/method consistency ... OK
  • checking replacement functions ... OK
  • checking foreign function calls ... OK
  • checking R code for possible problems ... [2s/2s] OK
  • checking Rd files ... [1s/1s] OK
  • checking Rd metadata ... OK
  • checking Rd cross-references ... OK
  • checking for missing documentation entries ... OK
  • checking for code/documentation mismatches ... OK
  • checking Rd \usage sections ... OK
  • checking Rd contents ... OK
  • checking for unstated dependencies in examples ... OK
  • checking sizes of PDF files under ‘inst/doc’ ... OK
  • checking installed files from ‘inst/doc’ ... OK
  • checking files in ‘vignettes’ ... OK
  • checking examples ... [3s/3s] OK
  • checking for unstated dependencies in ‘tests’ ... OK
  • checking tests ... [11s/11s] OK
      Running ‘t01-indNormal.R’ [0s/0s]
      Comparing ‘t01-indNormal.Rout’ to ‘t01-indNormal.Rout.save’ ... OK
      Running ‘t02-1-engine.R’ [0s/0s]
      Comparing ‘t02-1-engine.Rout’ to ‘t02-1-engine.Rout.save’ ... OK
      Running ‘t02-indLogNorm.R’ [1s/1s]
      Comparing ‘t02-indLogNorm.Rout’ to ‘t02-indLogNorm.Rout.save’ ... OK
      Running ‘t03-mvn.R’ [0s/0s]
      Comparing ‘t03-mvn.Rout’ to ‘t03-mvn.Rout.save’ ... OK
      Running ‘t05-noise.R’ [0s/0s]
      Comparing ‘t05-noise.Rout’ to ‘t05-noise.Rout.save’ ... OK
      Running ‘t06-engineAct.R’ [0s/0s]
      Comparing ‘t06-engineAct.Rout’ to ‘t06-engineAct.Rout.save’ ... OK
      Running ‘t07-cancerModel.R’ [1s/1s]
      Comparing ‘t07-cancerModel.Rout’ to ‘t07-cancerModel.Rout.save’ ... OK
      Running ‘t08-cancerEngine.R’ [0s/0s]
      Comparing ‘t08-cancerEngine.Rout’ to ‘t08-cancerEngine.Rout.save’ ... OK
      Running ‘t20-mixed.R’ [0s/0s]
      Running ‘t21-setDT.R’ [4s/4s]
      Running ‘t22-survModel.R’ [1s/1s]
      Running ‘t23-altMTE.R’ [1s/1s]
  • checking for unstated dependencies in vignettes ... OK
  • checking package vignettes in ‘inst/doc’ ... OK
  • checking running R code from vignettes ... [1s/1s] OK
      ‘Umpire2.Rmd’... [0s/0s] OK
      ‘surv.Rmd’... [0s/0s] OK
      ‘Umpire.Rnw’... [1s/1s] OK
  • checking re-building of vignette outputs ... [8s/9s] OK
  • checking PDF version of manual ... OK
  • DONE
    Status: OK
  • using check arguments '--no-clean-on-error '