- using R version 4.2.0 (2022-04-22)
- using platform: x86_64-apple-darwin17.0 (64-bit)
- using session charset: UTF-8
- checking for file ‘UScensus2000tract/DESCRIPTION’ ... OK
- checking extension type ... Package
- this is package ‘UScensus2000tract’ version ‘0.03’
- checking package namespace information ... OK
- checking package dependencies ... OK
- checking if this is a source package ... OK
- checking if there is a namespace ... OK
- checking for executable files ... OK
- checking for hidden files and directories ... OK
- checking for portable file names ... OK
- checking for sufficient/correct file permissions ... OK
- checking whether package ‘UScensus2000tract’ can be installed ... [4s/4s] OK
See the install log for details.
- checking installed package size ... NOTE
installed size is 27.0Mb
sub-directories of 1Mb or more:
data 26.4Mb
- checking package directory ... OK
- checking DESCRIPTION meta-information ... OK
- checking top-level files ... OK
- checking for left-over files ... OK
- checking index information ... OK
- checking package subdirectories ... OK
- checking R files for non-ASCII characters ... OK
- checking R files for syntax errors ... OK
- checking whether the package can be loaded ... OK
- checking whether the package can be loaded with stated dependencies ... OK
- checking whether the package can be unloaded cleanly ... OK
- checking whether the namespace can be loaded with stated dependencies ... OK
- checking whether the namespace can be unloaded cleanly ... OK
- checking loading without being on the library search path ... OK
- checking dependencies in R code ... OK
- checking S3 generic/method consistency ... OK
- checking replacement functions ... OK
- checking foreign function calls ... OK
- checking R code for possible problems ... [2s/2s] NOTE
NB: .First.lib is obsolete and will not be used in R >= 3.0.0
File ‘UScensus2000tract/R/zzz.R’:
.First.lib calls:
cat(paste("'", ehelp[4], "'\n", "Version ", ehelp[2], " created on ", ehelp[3], ".\n", sep = ""))
cat(paste(substring(ehelp[3], first = 16), "\n", "Version ", substring(ehelp[4], first = 16), " created on ", substring(ehelp[5], first = 16), ".\n", sep = ""))
cat(paste("copyright (c) 2009, Zack W. Almquist, University of California-Irvine\n", sep = ""))
cat("For citation information, type citation(\"UScensus2000tract\").\n")
cat("Type help(package=\"UScensus2000tract\") to get started.\n")
Package startup functions should use ‘packageStartupMessage’ to
generate messages.
See section ‘Good practice’ in '?.onAttach'.
- checking Rd files ... [2s/2s] OK
- checking Rd metadata ... OK
- checking Rd cross-references ... OK
- checking for missing documentation entries ... OK
- checking for code/documentation mismatches ... OK
- checking Rd \usage sections ... OK
- checking Rd contents ... OK
- checking for unstated dependencies in examples ... OK
- checking contents of ‘data’ directory ... OK
- checking data for non-ASCII characters ... OK
- checking data for ASCII and uncompressed saves ... OK
- checking examples ... [33s/33s] OK
- checking PDF version of manual ... OK
- DONE
Status: 2 NOTEs
- using check arguments '--no-clean-on-error '