• using R version 4.4.0 (2024-04-24)
  • using platform: x86_64-apple-darwin20
  • R was compiled by     Apple clang version 14.0.0 (clang-1400.0.29.202)     GNU Fortran (GCC) 12.2.0
  • running under: macOS Ventura 13.3.1
  • using session charset: UTF-8
  • checking for file ‘UNPaC/DESCRIPTION’ ... OK
  • this is package ‘UNPaC’ version ‘1.1.1’
  • package encoding: UTF-8
  • checking package namespace information ... OK
  • checking package dependencies ... OK
  • checking if this is a source package ... OK
  • checking if there is a namespace ... OK
  • checking for executable files ... OK
  • checking for hidden files and directories ... OK
  • checking for portable file names ... OK
  • checking for sufficient/correct file permissions ... OK
  • checking whether package ‘UNPaC’ can be installed ... [1s/2s] OK See the install log for details.
  • checking installed package size ... OK
  • checking package directory ... OK
  • checking DESCRIPTION meta-information ... OK
  • checking top-level files ... OK
  • checking for left-over files ... OK
  • checking index information ... OK
  • checking package subdirectories ... OK
  • checking code files for non-ASCII characters ... OK
  • checking R files for syntax errors ... OK
  • checking whether the package can be loaded ... [0s/0s] OK
  • checking whether the package can be loaded with stated dependencies ... [0s/0s] OK
  • checking whether the package can be unloaded cleanly ... [0s/0s] OK
  • checking whether the namespace can be loaded with stated dependencies ... [0s/0s] OK
  • checking whether the namespace can be unloaded cleanly ... [0s/0s] OK
  • checking loading without being on the library search path ... [0s/0s] OK
  • checking dependencies in R code ... OK
  • checking S3 generic/method consistency ... OK
  • checking replacement functions ... OK
  • checking foreign function calls ... OK
  • checking R code for possible problems ... [2s/2s] OK
  • checking Rd files ... [0s/0s] NOTE checkRd: (-1) UNPaC_Copula.Rd:59: Lost braces; missing escapes or markup?     59 | \item{\code{selected_features}}: {A vector of integers indicating the features retained by the feature filtering process.}        | ^ checkRd: (-1) UNPaC_Copula.Rd:60: Lost braces; missing escapes or markup?     60 | \item{\code{sim_CI}}: {vector containing the cluster indices for each generated unimodal reference distribution}        | ^ checkRd: (-1) UNPaC_Copula.Rd:61-62: Lost braces     61 | \item{\code{pvalue_emp}}: {the empirical p-value: the proportion of times the cluster index from the reference        | ^ checkRd: (-1) UNPaC_Copula.Rd:63: Lost braces; missing escapes or markup?     63 | \item{\code{pvalue_norm}}: {the normalized p-value: the simulated p-value based on comparison to a standard normal distribution }        | ^ checkRd: (-1) UNPaC_num_clust.Rd:58-62: Lost braces     58 | \item{\code{BestK}}: {A matrix with 1 row and 4 columns named: "Max_CI","Max_CI_wi_1SE","Max_scaled_CI" and "Max_logWCSS_wi_1SE".        | ^ checkRd: (-1) UNPaC_num_clust.Rd:63-65: Lost braces     63 | \item{\code{full_process}}: {A matrix containing the number of clusters, K, evaluated, the CI from the data, the average CI from the null        | ^ checkRd: (-1) UNPaC_num_clust.Rd:66: Lost braces; missing escapes or markup?     66 | \item{\code{selected_features}}: {A vector of integers indicating the features retained by the feature filtering process.}}        | ^
  • checking Rd metadata ... OK
  • checking Rd cross-references ... OK
  • checking for missing documentation entries ... OK
  • checking for code/documentation mismatches ... OK
  • checking Rd \usage sections ... OK
  • checking Rd contents ... OK
  • checking for unstated dependencies in examples ... OK
  • checking examples ... [7s/8s] OK
  • checking PDF version of manual ... [6s/7s] OK
  • DONE Status: 1 NOTE
  • using check arguments '--no-clean-on-error '