• using R version 4.1.0 (2021-05-18)
  • using platform: x86_64-apple-darwin17.0 (64-bit)
  • using session charset: UTF-8
  • checking for file ‘TTmoment/DESCRIPTION’ ... OK
  • checking extension type ... Package
  • this is package ‘TTmoment’ version ‘1.0’
  • checking package namespace information ... OK
  • checking package dependencies ... OK
  • checking if this is a source package ... OK
  • checking if there is a namespace ... OK
  • checking for executable files ... OK
  • checking for hidden files and directories ... OK
  • checking for portable file names ... OK
  • checking for sufficient/correct file permissions ... OK
  • checking whether package ‘TTmoment’ can be installed ... [2s/2s] OK
  • checking installed package size ... OK
  • checking package directory ... OK
  • checking DESCRIPTION meta-information ... OK
  • checking top-level files ... OK
  • checking for left-over files ... OK
  • checking index information ... OK
  • checking package subdirectories ... OK
  • checking R files for non-ASCII characters ... OK
  • checking R files for syntax errors ... OK
  • checking whether the package can be loaded ... OK
  • checking whether the package can be loaded with stated dependencies ... OK
  • checking whether the package can be unloaded cleanly ... OK
  • checking whether the namespace can be loaded with stated dependencies ... OK
  • checking whether the namespace can be unloaded cleanly ... OK
  • checking loading without being on the library search path ... OK
  • checking dependencies in R code ... OK
  • checking S3 generic/method consistency ... OK
  • checking replacement functions ... OK
  • checking foreign function calls ... OK
  • checking R code for possible problems ... [2s/3s] NOTE
    TT.GS : TT.GS.sp: no visible global function definition for ‘qt’
    TT.GS : TT.GS.sp: no visible global function definition for ‘runif’
    TT.GS : TT.GS.sp: no visible global function definition for ‘pt’
    TT.moment: no visible global function definition for ‘dt’
    TT.moment: no visible global function definition for ‘pt’
    Undefined global functions or variables:
      dt pt qt runif
    Consider adding
      importFrom("stats", "dt", "pt", "qt", "runif")
    to your NAMESPACE file.
  • checking Rd files ... [0s/1s] OK
  • checking Rd metadata ... OK
  • checking Rd cross-references ... OK
  • checking for missing documentation entries ... OK
  • checking for code/documentation mismatches ... OK
  • checking Rd \usage sections ... OK
  • checking Rd contents ... OK
  • checking for unstated dependencies in examples ... OK
  • checking examples ... [1s/2s] OK
  • checking PDF version of manual ... OK
  • DONE
    Status: 1 NOTE
  • using check arguments '--no-clean-on-error '