- using R version 4.2.0 (2022-04-22)
- using platform: x86_64-apple-darwin17.0 (64-bit)
- using session charset: UTF-8
- checking for file ‘Stem/DESCRIPTION’ ... OK
- checking extension type ... Package
- this is package ‘Stem’ version ‘1.0’
- checking package namespace information ... OK
- checking package dependencies ... OK
- checking if this is a source package ... OK
- checking if there is a namespace ... OK
- checking for executable files ... OK
- checking for hidden files and directories ... OK
- checking for portable file names ... OK
- checking for sufficient/correct file permissions ... OK
- checking whether package ‘Stem’ can be installed ... [2s/2s] OK
See the install log for details.
- checking installed package size ... OK
- checking package directory ... OK
- checking DESCRIPTION meta-information ... OK
- checking top-level files ... OK
- checking for left-over files ... OK
- checking index information ... OK
- checking package subdirectories ... OK
- checking R files for non-ASCII characters ... OK
- checking R files for syntax errors ... OK
- checking whether the package can be loaded ... OK
- checking whether the package can be loaded with stated dependencies ... OK
- checking whether the package can be unloaded cleanly ... OK
- checking whether the namespace can be loaded with stated dependencies ... OK
- checking whether the namespace can be unloaded cleanly ... OK
- checking loading without being on the library search path ... OK
- checking dependencies in R code ... NOTE
'library' or 'require' call to ‘MASS’ which was already attached by Depends.
Please remove these calls from your code.
- checking S3 generic/method consistency ... OK
- checking replacement functions ... OK
- checking foreign function calls ... OK
- checking R code for possible problems ... [3s/3s] NOTE
Stem.Bootstrap: no visible global function definition for ‘runif’
filtering: no visible global function definition for ‘is.ts’
filtering: no visible global function definition for ‘ts’
filtering: no visible global function definition for ‘start’
filtering: no visible global function definition for ‘end’
filtering: no visible global function definition for ‘frequency’
kalman: no visible global function definition for ‘ts’
smoothing: no visible global function definition for ‘is.ts’
smoothing: no visible global function definition for ‘ts’
smoothing: no visible global function definition for ‘start’
smoothing: no visible global function definition for ‘end’
smoothing: no visible global function definition for ‘frequency’
Undefined global functions or variables:
end frequency is.ts runif start ts
Consider adding
importFrom("stats", "end", "frequency", "is.ts", "runif", "start",
"ts")
to your NAMESPACE file.
- checking Rd files ... [0s/0s] OK
- checking Rd metadata ... OK
- checking Rd cross-references ... OK
- checking for missing documentation entries ... OK
- checking for code/documentation mismatches ... OK
- checking Rd \usage sections ... OK
- checking Rd contents ... OK
- checking for unstated dependencies in examples ... OK
- checking contents of ‘data’ directory ... OK
- checking data for non-ASCII characters ... OK
- checking data for ASCII and uncompressed saves ... OK
- checking examples ... [7s/7s] OK
- checking PDF version of manual ... OK
- DONE
Status: 2 NOTEs
- using check arguments '--no-clean-on-error '