• using R version 4.4.0 (2024-04-24)
  • using platform: x86_64-apple-darwin20
  • R was compiled by     Apple clang version 14.0.0 (clang-1400.0.29.202)     GNU Fortran (GCC) 12.2.0
  • running under: macOS Ventura 13.3.1
  • using session charset: UTF-8
  • checking for file ‘RobPer/DESCRIPTION’ ... OK
  • checking extension type ... Package
  • this is package ‘RobPer’ version ‘1.2.3’
  • checking package namespace information ... OK
  • checking package dependencies ... OK
  • checking if this is a source package ... OK
  • checking if there is a namespace ... OK
  • checking for executable files ... OK
  • checking for hidden files and directories ... OK
  • checking for portable file names ... OK
  • checking for sufficient/correct file permissions ... OK
  • checking whether package ‘RobPer’ can be installed ... [6s/7s] OK See the install log for details.
  • checking installed package size ... OK
  • checking package directory ... OK
  • checking ‘build’ directory ... OK
  • checking DESCRIPTION meta-information ... OK
  • checking top-level files ... OK
  • checking for left-over files ... OK
  • checking index information ... OK
  • checking package subdirectories ... OK
  • checking code files for non-ASCII characters ... OK
  • checking R files for syntax errors ... OK
  • checking whether the package can be loaded ... [1s/2s] OK
  • checking whether the package can be loaded with stated dependencies ... [1s/1s] OK
  • checking whether the package can be unloaded cleanly ... [1s/1s] OK
  • checking whether the namespace can be loaded with stated dependencies ... [1s/1s] OK
  • checking whether the namespace can be unloaded cleanly ... [1s/1s] OK
  • checking loading without being on the library search path ... [1s/1s] OK
  • checking dependencies in R code ... OK
  • checking S3 generic/method consistency ... OK
  • checking replacement functions ... OK
  • checking foreign function calls ... OK
  • checking R code for possible problems ... [5s/6s] OK
  • checking Rd files ... [0s/0s] NOTE checkRd: (-1) Mrk421.Rd:58: Lost braces     58 | Kestel, M. (2003): TeV gamma-Flux and Spectrum of Markarian 421 in 1999/2000 with Hegra CT1 using refined Analysis Methods. Ph.D. Thesis, Technische \enc{Universit\"{a}t}{Universitaet} \enc{M\"{u}nchen}{Muenchen}        | ^ checkRd: (-1) Mrk421.Rd:58: Lost braces     58 | Kestel, M. (2003): TeV gamma-Flux and Spectrum of Markarian 421 in 1999/2000 with Hegra CT1 using refined Analysis Methods. Ph.D. Thesis, Technische \enc{Universit\"{a}t}{Universitaet} \enc{M\"{u}nchen}{Muenchen}        | ^ checkRd: (-1) Mrk421.Rd:64: Lost braces     64 | Piron, F. (2000): \enc{\'{E}tude}{Etude} des \enc{propri\'{e}t\'{e}s}{proprietes} spectrales et de la \enc{variabilit\'{e}}{variabilite} de l'\enc{\'{e}mission}{emission} Gamma \enc{sup\'{e}rieure}{superieure} \enc{\`{e}}{a} 250 GeV des blazars \enc{observ\'{e}s}{observes} entre Octobre 1996 et \enc{F\'{e}vrier}{Fevrier} 2000 par le \enc{t\'{e}lescope}{telescope} \enc{\`{e}}{a} effet Tcherenkov \enc{athmosph\'{e}rique}{athmospherique} C.A.T. Ph.D. Thesis, \enc{Universit\'{e}}{Universite} de Paris-Sud        | ^ checkRd: (-1) Mrk421.Rd:64: Lost braces     64 | Piron, F. (2000): \enc{\'{E}tude}{Etude} des \enc{propri\'{e}t\'{e}s}{proprietes} spectrales et de la \enc{variabilit\'{e}}{variabilite} de l'\enc{\'{e}mission}{emission} Gamma \enc{sup\'{e}rieure}{superieure} \enc{\`{e}}{a} 250 GeV des blazars \enc{observ\'{e}s}{observes} entre Octobre 1996 et \enc{F\'{e}vrier}{Fevrier} 2000 par le \enc{t\'{e}lescope}{telescope} \enc{\`{e}}{a} effet Tcherenkov \enc{athmosph\'{e}rique}{athmospherique} C.A.T. Ph.D. Thesis, \enc{Universit\'{e}}{Universite} de Paris-Sud        | ^ checkRd: (-1) Mrk421.Rd:64: Lost braces     64 | Piron, F. (2000): \enc{\'{E}tude}{Etude} des \enc{propri\'{e}t\'{e}s}{proprietes} spectrales et de la \enc{variabilit\'{e}}{variabilite} de l'\enc{\'{e}mission}{emission} Gamma \enc{sup\'{e}rieure}{superieure} \enc{\`{e}}{a} 250 GeV des blazars \enc{observ\'{e}s}{observes} entre Octobre 1996 et \enc{F\'{e}vrier}{Fevrier} 2000 par le \enc{t\'{e}lescope}{telescope} \enc{\`{e}}{a} effet Tcherenkov \enc{athmosph\'{e}rique}{athmospherique} C.A.T. Ph.D. Thesis, \enc{Universit\'{e}}{Universite} de Paris-Sud        | ^ checkRd: (-1) Mrk421.Rd:64: Lost braces     64 | Piron, F. (2000): \enc{\'{E}tude}{Etude} des \enc{propri\'{e}t\'{e}s}{proprietes} spectrales et de la \enc{variabilit\'{e}}{variabilite} de l'\enc{\'{e}mission}{emission} Gamma \enc{sup\'{e}rieure}{superieure} \enc{\`{e}}{a} 250 GeV des blazars \enc{observ\'{e}s}{observes} entre Octobre 1996 et \enc{F\'{e}vrier}{Fevrier} 2000 par le \enc{t\'{e}lescope}{telescope} \enc{\`{e}}{a} effet Tcherenkov \enc{athmosph\'{e}rique}{athmospherique} C.A.T. Ph.D. Thesis, \enc{Universit\'{e}}{Universite} de Paris-Sud        | ^ checkRd: (-1) Mrk421.Rd:64: Lost braces     64 | Piron, F. (2000): \enc{\'{E}tude}{Etude} des \enc{propri\'{e}t\'{e}s}{proprietes} spectrales et de la \enc{variabilit\'{e}}{variabilite} de l'\enc{\'{e}mission}{emission} Gamma \enc{sup\'{e}rieure}{superieure} \enc{\`{e}}{a} 250 GeV des blazars \enc{observ\'{e}s}{observes} entre Octobre 1996 et \enc{F\'{e}vrier}{Fevrier} 2000 par le \enc{t\'{e}lescope}{telescope} \enc{\`{e}}{a} effet Tcherenkov \enc{athmosph\'{e}rique}{athmospherique} C.A.T. Ph.D. Thesis, \enc{Universit\'{e}}{Universite} de Paris-Sud        | ^ checkRd: (-1) Mrk421.Rd:64: Lost braces     64 | Piron, F. (2000): \enc{\'{E}tude}{Etude} des \enc{propri\'{e}t\'{e}s}{proprietes} spectrales et de la \enc{variabilit\'{e}}{variabilite} de l'\enc{\'{e}mission}{emission} Gamma \enc{sup\'{e}rieure}{superieure} \enc{\`{e}}{a} 250 GeV des blazars \enc{observ\'{e}s}{observes} entre Octobre 1996 et \enc{F\'{e}vrier}{Fevrier} 2000 par le \enc{t\'{e}lescope}{telescope} \enc{\`{e}}{a} effet Tcherenkov \enc{athmosph\'{e}rique}{athmospherique} C.A.T. Ph.D. Thesis, \enc{Universit\'{e}}{Universite} de Paris-Sud        | ^ checkRd: (-1) Mrk421.Rd:64: Lost braces     64 | Piron, F. (2000): \enc{\'{E}tude}{Etude} des \enc{propri\'{e}t\'{e}s}{proprietes} spectrales et de la \enc{variabilit\'{e}}{variabilite} de l'\enc{\'{e}mission}{emission} Gamma \enc{sup\'{e}rieure}{superieure} \enc{\`{e}}{a} 250 GeV des blazars \enc{observ\'{e}s}{observes} entre Octobre 1996 et \enc{F\'{e}vrier}{Fevrier} 2000 par le \enc{t\'{e}lescope}{telescope} \enc{\`{e}}{a} effet Tcherenkov \enc{athmosph\'{e}rique}{athmospherique} C.A.T. Ph.D. Thesis, \enc{Universit\'{e}}{Universite} de Paris-Sud        | ^ checkRd: (-1) Mrk421.Rd:64: Lost braces     64 | Piron, F. (2000): \enc{\'{E}tude}{Etude} des \enc{propri\'{e}t\'{e}s}{proprietes} spectrales et de la \enc{variabilit\'{e}}{variabilite} de l'\enc{\'{e}mission}{emission} Gamma \enc{sup\'{e}rieure}{superieure} \enc{\`{e}}{a} 250 GeV des blazars \enc{observ\'{e}s}{observes} entre Octobre 1996 et \enc{F\'{e}vrier}{Fevrier} 2000 par le \enc{t\'{e}lescope}{telescope} \enc{\`{e}}{a} effet Tcherenkov \enc{athmosph\'{e}rique}{athmospherique} C.A.T. Ph.D. Thesis, \enc{Universit\'{e}}{Universite} de Paris-Sud        | ^ checkRd: (-1) Mrk421.Rd:64: Lost braces     64 | Piron, F. (2000): \enc{\'{E}tude}{Etude} des \enc{propri\'{e}t\'{e}s}{proprietes} spectrales et de la \enc{variabilit\'{e}}{variabilite} de l'\enc{\'{e}mission}{emission} Gamma \enc{sup\'{e}rieure}{superieure} \enc{\`{e}}{a} 250 GeV des blazars \enc{observ\'{e}s}{observes} entre Octobre 1996 et \enc{F\'{e}vrier}{Fevrier} 2000 par le \enc{t\'{e}lescope}{telescope} \enc{\`{e}}{a} effet Tcherenkov \enc{athmosph\'{e}rique}{athmospherique} C.A.T. Ph.D. Thesis, \enc{Universit\'{e}}{Universite} de Paris-Sud        | ^ checkRd: (-1) Mrk421.Rd:64: Lost braces     64 | Piron, F. (2000): \enc{\'{E}tude}{Etude} des \enc{propri\'{e}t\'{e}s}{proprietes} spectrales et de la \enc{variabilit\'{e}}{variabilite} de l'\enc{\'{e}mission}{emission} Gamma \enc{sup\'{e}rieure}{superieure} \enc{\`{e}}{a} 250 GeV des blazars \enc{observ\'{e}s}{observes} entre Octobre 1996 et \enc{F\'{e}vrier}{Fevrier} 2000 par le \enc{t\'{e}lescope}{telescope} \enc{\`{e}}{a} effet Tcherenkov \enc{athmosph\'{e}rique}{athmospherique} C.A.T. Ph.D. Thesis, \enc{Universit\'{e}}{Universite} de Paris-Sud        | ^ checkRd: (-1) Mrk421.Rd:64: Lost braces     64 | Piron, F. (2000): \enc{\'{E}tude}{Etude} des \enc{propri\'{e}t\'{e}s}{proprietes} spectrales et de la \enc{variabilit\'{e}}{variabilite} de l'\enc{\'{e}mission}{emission} Gamma \enc{sup\'{e}rieure}{superieure} \enc{\`{e}}{a} 250 GeV des blazars \enc{observ\'{e}s}{observes} entre Octobre 1996 et \enc{F\'{e}vrier}{Fevrier} 2000 par le \enc{t\'{e}lescope}{telescope} \enc{\`{e}}{a} effet Tcherenkov \enc{athmosph\'{e}rique}{athmospherique} C.A.T. Ph.D. Thesis, \enc{Universit\'{e}}{Universite} de Paris-Sud        | ^ checkRd: (-1) Mrk421.Rd:64: Lost braces     64 | Piron, F. (2000): \enc{\'{E}tude}{Etude} des \enc{propri\'{e}t\'{e}s}{proprietes} spectrales et de la \enc{variabilit\'{e}}{variabilite} de l'\enc{\'{e}mission}{emission} Gamma \enc{sup\'{e}rieure}{superieure} \enc{\`{e}}{a} 250 GeV des blazars \enc{observ\'{e}s}{observes} entre Octobre 1996 et \enc{F\'{e}vrier}{Fevrier} 2000 par le \enc{t\'{e}lescope}{telescope} \enc{\`{e}}{a} effet Tcherenkov \enc{athmosph\'{e}rique}{athmospherique} C.A.T. Ph.D. Thesis, \enc{Universit\'{e}}{Universite} de Paris-Sud        | ^ checkRd: (-1) Mrk421.Rd:64: Lost braces     64 | Piron, F. (2000): \enc{\'{E}tude}{Etude} des \enc{propri\'{e}t\'{e}s}{proprietes} spectrales et de la \enc{variabilit\'{e}}{variabilite} de l'\enc{\'{e}mission}{emission} Gamma \enc{sup\'{e}rieure}{superieure} \enc{\`{e}}{a} 250 GeV des blazars \enc{observ\'{e}s}{observes} entre Octobre 1996 et \enc{F\'{e}vrier}{Fevrier} 2000 par le \enc{t\'{e}lescope}{telescope} \enc{\`{e}}{a} effet Tcherenkov \enc{athmosph\'{e}rique}{athmospherique} C.A.T. Ph.D. Thesis, \enc{Universit\'{e}}{Universite} de Paris-Sud        | ^ checkRd: (-1) Mrk501.Rd:58: Lost braces     58 | Kestel, M. (2003): TeV gamma-Flux and Spectrum of Markarian 421 in 1999/2000 with Hegra CT1 using refined Analysis Methods. Ph.D. Thesis, Technische \enc{Universit\"{a}t}{Universitaet} \enc{M\"{u}nchen}{Muenchen}        | ^ checkRd: (-1) Mrk501.Rd:58: Lost braces     58 | Kestel, M. (2003): TeV gamma-Flux and Spectrum of Markarian 421 in 1999/2000 with Hegra CT1 using refined Analysis Methods. Ph.D. Thesis, Technische \enc{Universit\"{a}t}{Universitaet} \enc{M\"{u}nchen}{Muenchen}        | ^ checkRd: (-1) Mrk501.Rd:64: Lost braces     64 | Piron, F. (2000): \enc{\'{E}tude}{Etude} des \enc{propri\'{e}t\'{e}s}{proprietes} spectrales et de la \enc{variabilit\'{e}}{variabilite} de l'\enc{\'{e}mission}{emission} Gamma \enc{sup\'{e}rieure}{superieure} \enc{\`{e}}{a} 250 GeV des blazars \enc{observ\'{e}s}{observes} entre Octobre 1996 et \enc{F\'{e}vrier}{Fevrier} 2000 par le \enc{t\'{e}lescope}{telescope} \enc{\`{e}}{a} effet Tcherenkov \enc{athmosph\'{e}rique}{athmospherique} C.A.T. Ph.D. Thesis, \enc{Universit\'{e}}{Universite} de Paris-Sud        | ^ checkRd: (-1) Mrk501.Rd:64: Lost braces     64 | Piron, F. (2000): \enc{\'{E}tude}{Etude} des \enc{propri\'{e}t\'{e}s}{proprietes} spectrales et de la \enc{variabilit\'{e}}{variabilite} de l'\enc{\'{e}mission}{emission} Gamma \enc{sup\'{e}rieure}{superieure} \enc{\`{e}}{a} 250 GeV des blazars \enc{observ\'{e}s}{observes} entre Octobre 1996 et \enc{F\'{e}vrier}{Fevrier} 2000 par le \enc{t\'{e}lescope}{telescope} \enc{\`{e}}{a} effet Tcherenkov \enc{athmosph\'{e}rique}{athmospherique} C.A.T. Ph.D. Thesis, \enc{Universit\'{e}}{Universite} de Paris-Sud        | ^ checkRd: (-1) Mrk501.Rd:64: Lost braces     64 | Piron, F. (2000): \enc{\'{E}tude}{Etude} des \enc{propri\'{e}t\'{e}s}{proprietes} spectrales et de la \enc{variabilit\'{e}}{variabilite} de l'\enc{\'{e}mission}{emission} Gamma \enc{sup\'{e}rieure}{superieure} \enc{\`{e}}{a} 250 GeV des blazars \enc{observ\'{e}s}{observes} entre Octobre 1996 et \enc{F\'{e}vrier}{Fevrier} 2000 par le \enc{t\'{e}lescope}{telescope} \enc{\`{e}}{a} effet Tcherenkov \enc{athmosph\'{e}rique}{athmospherique} C.A.T. Ph.D. Thesis, \enc{Universit\'{e}}{Universite} de Paris-Sud        | ^ checkRd: (-1) Mrk501.Rd:64: Lost braces     64 | Piron, F. (2000): \enc{\'{E}tude}{Etude} des \enc{propri\'{e}t\'{e}s}{proprietes} spectrales et de la \enc{variabilit\'{e}}{variabilite} de l'\enc{\'{e}mission}{emission} Gamma \enc{sup\'{e}rieure}{superieure} \enc{\`{e}}{a} 250 GeV des blazars \enc{observ\'{e}s}{observes} entre Octobre 1996 et \enc{F\'{e}vrier}{Fevrier} 2000 par le \enc{t\'{e}lescope}{telescope} \enc{\`{e}}{a} effet Tcherenkov \enc{athmosph\'{e}rique}{athmospherique} C.A.T. Ph.D. Thesis, \enc{Universit\'{e}}{Universite} de Paris-Sud        | ^ checkRd: (-1) Mrk501.Rd:64: Lost braces     64 | Piron, F. (2000): \enc{\'{E}tude}{Etude} des \enc{propri\'{e}t\'{e}s}{proprietes} spectrales et de la \enc{variabilit\'{e}}{variabilite} de l'\enc{\'{e}mission}{emission} Gamma \enc{sup\'{e}rieure}{superieure} \enc{\`{e}}{a} 250 GeV des blazars \enc{observ\'{e}s}{observes} entre Octobre 1996 et \enc{F\'{e}vrier}{Fevrier} 2000 par le \enc{t\'{e}lescope}{telescope} \enc{\`{e}}{a} effet Tcherenkov \enc{athmosph\'{e}rique}{athmospherique} C.A.T. Ph.D. Thesis, \enc{Universit\'{e}}{Universite} de Paris-Sud        | ^ checkRd: (-1) Mrk501.Rd:64: Lost braces     64 | Piron, F. (2000): \enc{\'{E}tude}{Etude} des \enc{propri\'{e}t\'{e}s}{proprietes} spectrales et de la \enc{variabilit\'{e}}{variabilite} de l'\enc{\'{e}mission}{emission} Gamma \enc{sup\'{e}rieure}{superieure} \enc{\`{e}}{a} 250 GeV des blazars \enc{observ\'{e}s}{observes} entre Octobre 1996 et \enc{F\'{e}vrier}{Fevrier} 2000 par le \enc{t\'{e}lescope}{telescope} \enc{\`{e}}{a} effet Tcherenkov \enc{athmosph\'{e}rique}{athmospherique} C.A.T. Ph.D. Thesis, \enc{Universit\'{e}}{Universite} de Paris-Sud        | ^ checkRd: (-1) Mrk501.Rd:64: Lost braces     64 | Piron, F. (2000): \enc{\'{E}tude}{Etude} des \enc{propri\'{e}t\'{e}s}{proprietes} spectrales et de la \enc{variabilit\'{e}}{variabilite} de l'\enc{\'{e}mission}{emission} Gamma \enc{sup\'{e}rieure}{superieure} \enc{\`{e}}{a} 250 GeV des blazars \enc{observ\'{e}s}{observes} entre Octobre 1996 et \enc{F\'{e}vrier}{Fevrier} 2000 par le \enc{t\'{e}lescope}{telescope} \enc{\`{e}}{a} effet Tcherenkov \enc{athmosph\'{e}rique}{athmospherique} C.A.T. Ph.D. Thesis, \enc{Universit\'{e}}{Universite} de Paris-Sud        | ^ checkRd: (-1) Mrk501.Rd:64: Lost braces     64 | Piron, F. (2000): \enc{\'{E}tude}{Etude} des \enc{propri\'{e}t\'{e}s}{proprietes} spectrales et de la \enc{variabilit\'{e}}{variabilite} de l'\enc{\'{e}mission}{emission} Gamma \enc{sup\'{e}rieure}{superieure} \enc{\`{e}}{a} 250 GeV des blazars \enc{observ\'{e}s}{observes} entre Octobre 1996 et \enc{F\'{e}vrier}{Fevrier} 2000 par le \enc{t\'{e}lescope}{telescope} \enc{\`{e}}{a} effet Tcherenkov \enc{athmosph\'{e}rique}{athmospherique} C.A.T. Ph.D. Thesis, \enc{Universit\'{e}}{Universite} de Paris-Sud        | ^ checkRd: (-1) Mrk501.Rd:64: Lost braces     64 | Piron, F. (2000): \enc{\'{E}tude}{Etude} des \enc{propri\'{e}t\'{e}s}{proprietes} spectrales et de la \enc{variabilit\'{e}}{variabilite} de l'\enc{\'{e}mission}{emission} Gamma \enc{sup\'{e}rieure}{superieure} \enc{\`{e}}{a} 250 GeV des blazars \enc{observ\'{e}s}{observes} entre Octobre 1996 et \enc{F\'{e}vrier}{Fevrier} 2000 par le \enc{t\'{e}lescope}{telescope} \enc{\`{e}}{a} effet Tcherenkov \enc{athmosph\'{e}rique}{athmospherique} C.A.T. Ph.D. Thesis, \enc{Universit\'{e}}{Universite} de Paris-Sud        | ^ checkRd: (-1) Mrk501.Rd:64: Lost braces     64 | Piron, F. (2000): \enc{\'{E}tude}{Etude} des \enc{propri\'{e}t\'{e}s}{proprietes} spectrales et de la \enc{variabilit\'{e}}{variabilite} de l'\enc{\'{e}mission}{emission} Gamma \enc{sup\'{e}rieure}{superieure} \enc{\`{e}}{a} 250 GeV des blazars \enc{observ\'{e}s}{observes} entre Octobre 1996 et \enc{F\'{e}vrier}{Fevrier} 2000 par le \enc{t\'{e}lescope}{telescope} \enc{\`{e}}{a} effet Tcherenkov \enc{athmosph\'{e}rique}{athmospherique} C.A.T. Ph.D. Thesis, \enc{Universit\'{e}}{Universite} de Paris-Sud        | ^ checkRd: (-1) Mrk501.Rd:64: Lost braces     64 | Piron, F. (2000): \enc{\'{E}tude}{Etude} des \enc{propri\'{e}t\'{e}s}{proprietes} spectrales et de la \enc{variabilit\'{e}}{variabilite} de l'\enc{\'{e}mission}{emission} Gamma \enc{sup\'{e}rieure}{superieure} \enc{\`{e}}{a} 250 GeV des blazars \enc{observ\'{e}s}{observes} entre Octobre 1996 et \enc{F\'{e}vrier}{Fevrier} 2000 par le \enc{t\'{e}lescope}{telescope} \enc{\`{e}}{a} effet Tcherenkov \enc{athmosph\'{e}rique}{athmospherique} C.A.T. Ph.D. Thesis, \enc{Universit\'{e}}{Universite} de Paris-Sud        | ^ checkRd: (-1) Mrk501.Rd:64: Lost braces     64 | Piron, F. (2000): \enc{\'{E}tude}{Etude} des \enc{propri\'{e}t\'{e}s}{proprietes} spectrales et de la \enc{variabilit\'{e}}{variabilite} de l'\enc{\'{e}mission}{emission} Gamma \enc{sup\'{e}rieure}{superieure} \enc{\`{e}}{a} 250 GeV des blazars \enc{observ\'{e}s}{observes} entre Octobre 1996 et \enc{F\'{e}vrier}{Fevrier} 2000 par le \enc{t\'{e}lescope}{telescope} \enc{\`{e}}{a} effet Tcherenkov \enc{athmosph\'{e}rique}{athmospherique} C.A.T. Ph.D. Thesis, \enc{Universit\'{e}}{Universite} de Paris-Sud        | ^ checkRd: (-1) Mrk501.Rd:64: Lost braces     64 | Piron, F. (2000): \enc{\'{E}tude}{Etude} des \enc{propri\'{e}t\'{e}s}{proprietes} spectrales et de la \enc{variabilit\'{e}}{variabilite} de l'\enc{\'{e}mission}{emission} Gamma \enc{sup\'{e}rieure}{superieure} \enc{\`{e}}{a} 250 GeV des blazars \enc{observ\'{e}s}{observes} entre Octobre 1996 et \enc{F\'{e}vrier}{Fevrier} 2000 par le \enc{t\'{e}lescope}{telescope} \enc{\`{e}}{a} effet Tcherenkov \enc{athmosph\'{e}rique}{athmospherique} C.A.T. Ph.D. Thesis, \enc{Universit\'{e}}{Universite} de Paris-Sud        | ^
  • checking Rd metadata ... OK
  • checking Rd cross-references ... OK
  • checking for missing documentation entries ... OK
  • checking for code/documentation mismatches ... OK
  • checking Rd \usage sections ... OK
  • checking Rd contents ... OK
  • checking for unstated dependencies in examples ... OK
  • checking contents of ‘data’ directory ... OK
  • checking data for non-ASCII characters ... [0s/0s] OK
  • checking LazyData ... OK
  • checking data for ASCII and uncompressed saves ... OK
  • checking sizes of PDF files under ‘inst/doc’ ... OK
  • checking installed files from ‘inst/doc’ ... OK
  • checking files in ‘vignettes’ ... OK
  • checking examples ... [5s/5s] OK
  • checking for unstated dependencies in ‘tests’ ... OK
  • checking tests ... [17s/18s] OK   Running ‘tests.R’ [17s/18s]
  • checking for unstated dependencies in vignettes ... OK
  • checking package vignettes ... OK
  • checking re-building of vignette outputs ... [28s/29s] OK
  • checking PDF version of manual ... [8s/8s] OK
  • DONE Status: 1 NOTE
  • using check arguments '--no-clean-on-error '