• using R version 4.1.0 (2021-05-18)
  • using platform: x86_64-apple-darwin17.0 (64-bit)
  • using session charset: UTF-8
  • checking for file ‘RXMCDA/DESCRIPTION’ ... OK
  • this is package ‘RXMCDA’ version ‘1.5.5’
  • package encoding: latin1
  • checking package namespace information ... OK
  • checking package dependencies ... OK
  • checking if this is a source package ... OK
  • checking if there is a namespace ... OK
  • checking for executable files ... OK
  • checking for hidden files and directories ... OK
  • checking for portable file names ... OK
  • checking for sufficient/correct file permissions ... OK
  • checking whether package ‘RXMCDA’ can be installed ... [6s/7s] OK
  • checking installed package size ... OK
  • checking package directory ... OK
  • checking DESCRIPTION meta-information ... OK
  • checking top-level files ... OK
  • checking for left-over files ... OK
  • checking index information ... OK
  • checking package subdirectories ... OK
  • checking R files for non-ASCII characters ... OK
  • checking R files for syntax errors ... OK
  • checking whether the package can be loaded ... OK
  • checking whether the package can be loaded with stated dependencies ... OK
  • checking whether the package can be unloaded cleanly ... OK
  • checking whether the namespace can be loaded with stated dependencies ... OK
  • checking whether the namespace can be unloaded cleanly ... OK
  • checking loading without being on the library search path ... OK
  • checking dependencies in R code ... OK
  • checking S3 generic/method consistency ... OK
  • checking replacement functions ... OK
  • checking foreign function calls ... OK
  • checking R code for possible problems ... [5s/8s] OK
  • checking Rd files ... [1s/1s] OK
  • checking Rd metadata ... OK
  • checking Rd cross-references ... OK
  • checking for missing documentation entries ... OK
  • checking for code/documentation mismatches ... OK
  • checking Rd \usage sections ... OK
  • checking Rd contents ... OK
  • checking for unstated dependencies in examples ... OK
  • checking examples ... [2s/2s] OK
  • checking for unstated dependencies in ‘tests’ ... OK
  • checking tests ... [49s/66s] OK
      Running ‘checkXSD.R’ [1s/2s]
      Running ‘getAlternativesAffectations.R’ [1s/1s]
      Running ‘getAlternativesComparisons.R’ [1s/1s]
      Running ‘getAlternativesComparisonsLabels.R’ [1s/1s]
      Running ‘getAlternativesComparisonsValues.R’ [1s/1s]
      Running ‘getAlternativesIDs.R’ [1s/1s]
      Running ‘getAlternativesIntervalValues.R’ [1s/1s]
      Running ‘getAlternativesValues.R’ [1s/1s]
      Running ‘getCategoriesIDs.R’ [1s/1s]
      Running ‘getCategoriesIntervalValues.R’ [1s/1s]
      Running ‘getCategoriesValues.R’ [1s/1s]
      Running ‘getCriteriaComparisons.R’ [1s/1s]
      Running ‘getCriteriaComparisonsLabels.R’ [1s/1s]
      Running ‘getCriteriaIDs.R’ [1s/1s]
      Running ‘getCriteriaIntervalValues.R’ [1s/1s]
      Running ‘getCriteriaPairsComparisons.R’ [1s/1s]
      Running ‘getCriteriaPairsIntervalValues.R’ [1s/1s]
      Running ‘getCriteriaPairsValues.R’ [1s/1s]
      Running ‘getCriteriaValues.R’ [1s/1s]
      Running ‘getMobiusCapacities.R’ [1s/1s]
      Running ‘getNumberOfAlternatives.R’ [1s/1s]
      Running ‘getNumberOfCategories.R’ [1s/1s]
      Running ‘getNumberOfCriteria.R’ [1s/1s]
      Running ‘getNumericValue.R’ [1s/1s]
      Running ‘getParameters.R’ [1s/1s]
      Running ‘getPerformanceTables.R’ [1s/1s]
      Running ‘putAlternativeValue.R’ [1s/1s]
      Running ‘putAlternativesAffectations.R’ [1s/1s]
      Running ‘putAlternativesComparisonsLabels.R’ [1s/1s]
      Running ‘putAlternativesIDs.R’ [1s/1s]
      Running ‘putAlternativesValues.R’ [1s/1s]
      Running ‘putCapacity.R’ [12s/17s]
      Running ‘putCategoriesIntervalValues.R’ [1s/1s]
      Running ‘putCategoriesValues.R’ [1s/1s]
      Running ‘putCriteriaPairsValues.R’ [1s/1s]
      Running ‘putCriteriaValues.R’ [1s/1s]
      Running ‘putCriterionValue.R’ [1s/1s]
      Running ‘putPerformanceTable.R’ [1s/1s]
      Running ‘putPointsCriterionFunction.R’ [1s/1s]
  • checking PDF version of manual ... OK
  • DONE
    Status: OK
  • using check arguments '--no-clean-on-error '