- using R version 4.2.0 (2022-04-22)
- using platform: x86_64-apple-darwin17.0 (64-bit)
- using session charset: UTF-8
- checking for file ‘QCAfalsePositive/DESCRIPTION’ ... OK
- this is package ‘QCAfalsePositive’ version ‘1.1.1’
- checking package namespace information ... OK
- checking package dependencies ... OK
- checking if this is a source package ... OK
- checking if there is a namespace ... OK
- checking for executable files ... OK
- checking for hidden files and directories ... OK
- checking for portable file names ... OK
- checking for sufficient/correct file permissions ... OK
- checking whether package ‘QCAfalsePositive’ can be installed ... [2s/2s] OK
- checking installed package size ... OK
- checking package directory ... OK
- checking DESCRIPTION meta-information ... OK
- checking top-level files ... OK
- checking for left-over files ... OK
- checking index information ... OK
- checking package subdirectories ... OK
- checking R files for non-ASCII characters ... OK
- checking R files for syntax errors ... OK
- checking whether the package can be loaded ... OK
- checking whether the package can be loaded with stated dependencies ... OK
- checking whether the package can be unloaded cleanly ... OK
- checking whether the namespace can be loaded with stated dependencies ... OK
- checking whether the namespace can be unloaded cleanly ... OK
- checking loading without being on the library search path ... OK
- checking dependencies in R code ... OK
- checking S3 generic/method consistency ... OK
- checking replacement functions ... OK
- checking foreign function calls ... OK
- checking R code for possible problems ... [2s/2s] NOTE
csQCAbinTest: no visible global function definition for ‘p.adjust’
fsQCApermTest: no visible global function definition for ‘p.adjust’
mvQCAbinTest: no visible global function definition for ‘p.adjust’
p.threshold.adjust: no visible global function definition for
‘p.adjust’
plot.fsQCApt: no visible global function definition for ‘dev.cur’
plot.fsQCApt: no visible global function definition for ‘dev.new’
plot.fsQCApt: no visible global function definition for ‘par’
plot.fsQCApt: no visible global function definition for ‘density’
plot.fsQCApt: no visible global function definition for ‘axis’
plot.fsQCApt: no visible global function definition for ‘polygon’
plot.fsQCApt: no visible global function definition for ‘points’
plot.fsQCApt: no visible global function definition for ‘hist’
summary.csQCAbt: no visible global function definition for
‘printCoefmat’
summary.fsQCApt: no visible global function definition for
‘printCoefmat’
summary.mvQCAbt: no visible global function definition for
‘printCoefmat’
Undefined global functions or variables:
axis density dev.cur dev.new hist p.adjust par points polygon
printCoefmat
Consider adding
importFrom("grDevices", "dev.cur", "dev.new")
importFrom("graphics", "axis", "hist", "par", "points", "polygon")
importFrom("stats", "density", "p.adjust", "printCoefmat")
to your NAMESPACE file.
- checking Rd files ... [0s/0s] OK
- checking Rd metadata ... OK
- checking Rd cross-references ... OK
- checking for missing documentation entries ... OK
- checking for code/documentation mismatches ... OK
- checking Rd \usage sections ... OK
- checking Rd contents ... OK
- checking for unstated dependencies in examples ... OK
- checking contents of ‘data’ directory ... OK
- checking data for non-ASCII characters ... OK
- checking LazyData ... OK
- checking data for ASCII and uncompressed saves ... OK
- checking examples ... [7s/7s] OK
- checking PDF version of manual ... OK
- DONE
Status: 1 NOTE
- using check arguments '--no-clean-on-error '