• using R version 4.4.0 (2024-04-24)
  • using platform: x86_64-apple-darwin20
  • R was compiled by     Apple clang version 14.0.0 (clang-1400.0.29.202)     GNU Fortran (GCC) 12.2.0
  • running under: macOS Ventura 13.3.1
  • using session charset: UTF-8
  • checking for file ‘PPforest/DESCRIPTION’ ... OK
  • checking extension type ... Package
  • this is package ‘PPforest’ version ‘0.1.3’
  • package encoding: UTF-8
  • checking package namespace information ... OK
  • checking package dependencies ... OK
  • checking if this is a source package ... OK
  • checking if there is a namespace ... OK
  • checking for executable files ... OK
  • checking for hidden files and directories ... OK
  • checking for portable file names ... OK
  • checking for sufficient/correct file permissions ... OK
  • checking whether package ‘PPforest’ can be installed ... [23s/17s] OK See the install log for details.
  • used C++ compiler: ‘Apple clang version 14.0.3 (clang-1403.0.22.14.1)’
  • used SDK: ‘MacOSX11.3.sdk’
  • checking installed package size ... NOTE   installed size is 5.5Mb   sub-directories of 1Mb or more:     libs 4.3Mb
  • checking package directory ... OK
  • checking ‘build’ directory ... OK
  • checking DESCRIPTION meta-information ... OK
  • checking top-level files ... OK
  • checking for left-over files ... OK
  • checking index information ... OK
  • checking package subdirectories ... OK
  • checking code files for non-ASCII characters ... OK
  • checking R files for syntax errors ... OK
  • checking whether the package can be loaded ... [0s/0s] OK
  • checking whether the package can be loaded with stated dependencies ... [0s/0s] OK
  • checking whether the package can be unloaded cleanly ... [0s/0s] OK
  • checking whether the namespace can be loaded with stated dependencies ... [0s/0s] OK
  • checking whether the namespace can be unloaded cleanly ... [0s/0s] OK
  • checking loading without being on the library search path ... [0s/0s] OK
  • checking dependencies in R code ... OK
  • checking S3 generic/method consistency ... OK
  • checking replacement functions ... OK
  • checking foreign function calls ... OK
  • checking R code for possible problems ... [2s/2s] OK
  • checking Rd files ... [0s/0s] NOTE checkRd: (-1) NCI60.Rd:19: Lost braces in \itemize; meant \describe ? checkRd: (-1) NCI60.Rd:20: Lost braces in \itemize; meant \describe ? checkRd: (-1) crab.Rd:21: Lost braces in \itemize; meant \describe ? checkRd: (-1) crab.Rd:22: Lost braces in \itemize; meant \describe ? checkRd: (-1) crab.Rd:23: Lost braces in \itemize; meant \describe ? checkRd: (-1) crab.Rd:24: Lost braces in \itemize; meant \describe ? checkRd: (-1) crab.Rd:25: Lost braces in \itemize; meant \describe ? checkRd: (-1) crab.Rd:26: Lost braces in \itemize; meant \describe ? checkRd: (-1) fishcatch.Rd:20: Lost braces in \itemize; meant \describe ? checkRd: (-1) fishcatch.Rd:21: Lost braces in \itemize; meant \describe ? checkRd: (-1) fishcatch.Rd:22: Lost braces in \itemize; meant \describe ? checkRd: (-1) fishcatch.Rd:23: Lost braces in \itemize; meant \describe ? checkRd: (-1) fishcatch.Rd:24: Lost braces in \itemize; meant \describe ? checkRd: (-1) fishcatch.Rd:25: Lost braces in \itemize; meant \describe ? checkRd: (-1) fishcatch.Rd:26: Lost braces in \itemize; meant \describe ? checkRd: (-1) fishcatch.Rd:11: Lost braces     11 | url{http://www.amstat.org/publications/jse/jse_data_archive.htm}        | ^ checkRd: (-1) glass.Rd:16: Lost braces in \itemize; meant \describe ? checkRd: (-1) glass.Rd:17: Lost braces in \itemize; meant \describe ? checkRd: (-1) glass.Rd:18: Lost braces in \itemize; meant \describe ? checkRd: (-1) glass.Rd:19: Lost braces in \itemize; meant \describe ? checkRd: (-1) glass.Rd:20: Lost braces in \itemize; meant \describe ? checkRd: (-1) glass.Rd:21: Lost braces in \itemize; meant \describe ? checkRd: (-1) glass.Rd:22: Lost braces in \itemize; meant \describe ? checkRd: (-1) glass.Rd:23: Lost braces in \itemize; meant \describe ? checkRd: (-1) glass.Rd:24: Lost braces in \itemize; meant \describe ? checkRd: (-1) glass.Rd:25: Lost braces in \itemize; meant \describe ? checkRd: (-1) image.Rd:16: Lost braces in \itemize; meant \describe ? checkRd: (-1) image.Rd:17: Lost braces in \itemize; meant \describe ? checkRd: (-1) image.Rd:18: Lost braces in \itemize; meant \describe ? checkRd: (-1) image.Rd:19: Lost braces in \itemize; meant \describe ? checkRd: (-1) image.Rd:20: Lost braces in \itemize; meant \describe ? checkRd: (-1) image.Rd:21: Lost braces in \itemize; meant \describe ? checkRd: (-1) image.Rd:22: Lost braces in \itemize; meant \describe ? checkRd: (-1) image.Rd:23: Lost braces in \itemize; meant \describe ? checkRd: (-1) image.Rd:24: Lost braces in \itemize; meant \describe ? checkRd: (-1) image.Rd:25: Lost braces in \itemize; meant \describe ? checkRd: (-1) image.Rd:26: Lost braces in \itemize; meant \describe ? checkRd: (-1) image.Rd:27: Lost braces in \itemize; meant \describe ? checkRd: (-1) image.Rd:28: Lost braces in \itemize; meant \describe ? checkRd: (-1) image.Rd:29: Lost braces in \itemize; meant \describe ? checkRd: (-1) image.Rd:30: Lost braces in \itemize; meant \describe ? checkRd: (-1) image.Rd:31: Lost braces in \itemize; meant \describe ? checkRd: (-1) image.Rd:32: Lost braces in \itemize; meant \describe ? checkRd: (-1) image.Rd:33: Lost braces in \itemize; meant \describe ? checkRd: (-1) image.Rd:34: Lost braces in \itemize; meant \describe ? checkRd: (-1) leukemia.Rd:19: Lost braces in \itemize; meant \describe ? checkRd: (-1) leukemia.Rd:20: Lost braces in \itemize; meant \describe ? checkRd: (-1) lymphoma.Rd:19: Lost braces in \itemize; meant \describe ? checkRd: (-1) lymphoma.Rd:20: Lost braces in \itemize; meant \describe ? checkRd: (-1) olive.Rd:16: Lost braces in \itemize; meant \describe ? checkRd: (-1) olive.Rd:17: Lost braces in \itemize; meant \describe ? checkRd: (-1) olive.Rd:18: Lost braces in \itemize; meant \describe ? checkRd: (-1) olive.Rd:19: Lost braces in \itemize; meant \describe ? checkRd: (-1) olive.Rd:20: Lost braces in \itemize; meant \describe ? checkRd: (-1) olive.Rd:21: Lost braces in \itemize; meant \describe ? checkRd: (-1) olive.Rd:22: Lost braces in \itemize; meant \describe ? checkRd: (-1) olive.Rd:23: Lost braces in \itemize; meant \describe ? checkRd: (-1) olive.Rd:24: Lost braces in \itemize; meant \describe ? checkRd: (-1) olive.Rd:25: Lost braces in \itemize; meant \describe ? checkRd: (-1) parkinson.Rd:19: Lost braces in \itemize; meant \describe ? checkRd: (-1) parkinson.Rd:20: Lost braces in \itemize; meant \describe ? checkRd: (-1) parkinson.Rd:21: Lost braces in \itemize; meant \describe ? checkRd: (-1) parkinson.Rd:22: Lost braces in \itemize; meant \describe ? checkRd: (-1) parkinson.Rd:23: Lost braces in \itemize; meant \describe ? checkRd: (-1) parkinson.Rd:24: Lost braces in \itemize; meant \describe ? checkRd: (-1) parkinson.Rd:25: Lost braces in \itemize; meant \describe ? checkRd: (-1) parkinson.Rd:26: Lost braces in \itemize; meant \describe ? checkRd: (-1) parkinson.Rd:27: Lost braces in \itemize; meant \describe ? checkRd: (-1) parkinson.Rd:28: Lost braces in \itemize; meant \describe ? checkRd: (-1) parkinson.Rd:29: Lost braces in \itemize; meant \describe ? checkRd: (-1) parkinson.Rd:30: Lost braces in \itemize; meant \describe ? checkRd: (-1) parkinson.Rd:31: Lost braces in \itemize; meant \describe ? checkRd: (-1) parkinson.Rd:32: Lost braces in \itemize; meant \describe ? checkRd: (-1) parkinson.Rd:33: Lost braces in \itemize; meant \describe ? checkRd: (-1) parkinson.Rd:34: Lost braces in \itemize; meant \describe ? checkRd: (-1) parkinson.Rd:35: Lost braces in \itemize; meant \describe ? checkRd: (-1) parkinson.Rd:36: Lost braces in \itemize; meant \describe ? checkRd: (-1) parkinson.Rd:37: Lost braces in \itemize; meant \describe ? checkRd: (-1) parkinson.Rd:38: Lost braces in \itemize; meant \describe ? checkRd: (-1) parkinson.Rd:39: Lost braces in \itemize; meant \describe ? checkRd: (-1) parkinson.Rd:40: Lost braces in \itemize; meant \describe ? checkRd: (-1) parkinson.Rd:41: Lost braces in \itemize; meant \describe ? checkRd: (-1) parkinson.Rd:11: Lost braces     11 | url{https://archive.ics.uci.edu/ml/datasets/Parkinsons}        | ^ checkRd: (-1) wine.Rd:18: Lost braces in \itemize; meant \describe ? checkRd: (-1) wine.Rd:19: Lost braces in \itemize; meant \describe ?
  • checking Rd metadata ... OK
  • checking Rd cross-references ... OK
  • checking for missing documentation entries ... OK
  • checking for code/documentation mismatches ... OK
  • checking Rd \usage sections ... OK
  • checking Rd contents ... OK
  • checking for unstated dependencies in examples ... OK
  • checking contents of ‘data’ directory ... OK
  • checking data for non-ASCII characters ... [0s/0s] OK
  • checking LazyData ... OK
  • checking data for ASCII and uncompressed saves ... OK
  • checking line endings in C/C++/Fortran sources/headers ... OK
  • checking line endings in Makefiles ... OK
  • checking compilation flags in Makevars ... OK
  • checking for GNU extensions in Makefiles ... OK
  • checking for portable use of $(BLAS_LIBS) and $(LAPACK_LIBS) ... OK
  • checking use of PKG_*FLAGS in Makefiles ... OK
  • checking compiled code ... OK
  • checking installed files from ‘inst/doc’ ... OK
  • checking files in ‘vignettes’ ... OK
  • checking examples ... [12s/10s] OK
  • checking for unstated dependencies in vignettes ... OK
  • checking package vignettes ... OK
  • checking re-building of vignette outputs ... [21s/22s] OK
  • checking PDF version of manual ... [6s/6s] OK
  • DONE Status: 2 NOTEs
  • using check arguments '--no-clean-on-error '