• using R version 4.4.0 (2024-04-24)
  • using platform: x86_64-apple-darwin20
  • R was compiled by     Apple clang version 14.0.0 (clang-1400.0.29.202)     GNU Fortran (GCC) 12.2.0
  • running under: macOS Ventura 13.3.1
  • using session charset: UTF-8
  • checking for file ‘OpenCL/DESCRIPTION’ ... OK
  • this is package ‘OpenCL’ version ‘0.2-10’
  • checking package namespace information ... OK
  • checking package dependencies ... OK
  • checking if this is a source package ... OK
  • checking if there is a namespace ... OK
  • checking for executable files ... OK
  • checking for hidden files and directories ... OK
  • checking for portable file names ... OK
  • checking for sufficient/correct file permissions ... OK
  • checking whether package ‘OpenCL’ can be installed ... [3s/3s] OK See the install log for details.
  • used C compiler: ‘Apple clang version 14.0.3 (clang-1403.0.22.14.1)’
  • used SDK: ‘MacOSX11.3.sdk’
  • checking installed package size ... OK
  • checking package directory ... OK
  • checking DESCRIPTION meta-information ... NOTE License stub is invalid DCF.
  • checking top-level files ... OK
  • checking for left-over files ... OK
  • checking index information ... OK
  • checking package subdirectories ... OK
  • checking code files for non-ASCII characters ... OK
  • checking R files for syntax errors ... OK
  • checking whether the package can be loaded ... [0s/0s] OK
  • checking whether the package can be loaded with stated dependencies ... [0s/0s] OK
  • checking whether the package can be unloaded cleanly ... [0s/0s] OK
  • checking whether the namespace can be loaded with stated dependencies ... [0s/0s] OK
  • checking whether the namespace can be unloaded cleanly ... [0s/0s] OK
  • checking loading without being on the library search path ... [0s/0s] OK
  • checking dependencies in R code ... OK
  • checking S3 generic/method consistency ... OK
  • checking replacement functions ... OK
  • checking foreign function calls ... OK
  • checking R code for possible problems ... [1s/1s] OK
  • checking Rd files ... [0s/0s] OK
  • checking Rd metadata ... OK
  • checking Rd cross-references ... OK
  • checking for missing documentation entries ... OK
  • checking for code/documentation mismatches ... OK
  • checking Rd \usage sections ... OK
  • checking Rd contents ... OK
  • checking for unstated dependencies in examples ... OK
  • checking line endings in C/C++/Fortran sources/headers ... OK
  • checking line endings in Makefiles ... OK
  • checking compilation flags in Makevars ... OK
  • checking for GNU extensions in Makefiles ... NOTE GNU make is a SystemRequirements.
  • checking for portable use of $(BLAS_LIBS) and $(LAPACK_LIBS) ... OK
  • checking use of PKG_*FLAGS in Makefiles ... OK
  • checking compiled code ... OK
  • checking examples ... [0s/1s] OK
  • checking for unstated dependencies in ‘tests’ ... OK
  • checking tests ... [1s/1s] OK   Running ‘buffer.R’ [0s/0s]   Comparing ‘buffer.Rout’ to ‘buffer.Rout.save’ ...5,10d4 < > < > if (!length(oclPlatforms())) { < + cat("== Cannot run tests as there is no platform") < + q("no") < + } < > 77c71 < OpenCL buffer, 16 elements of type single --- > OpenCL buffer, 16 elements of type double 79c73 < [9] 3.316625 3.464102 3.605551 3.741657 3.872983 4.000000 4.123106 4.242640 --- > [9] 3.316625 3.464102 3.605551 3.741657 3.872983 4.000000 4.123106 4.242641   Running ‘kernel.R’ [0s/1s]   Comparing ‘kernel.Rout’ to ‘kernel.Rout.save’ ...5,10d4 < > < > if (!length(oclPlatforms())) { < + cat("== Cannot run tests as there is no platform") < + q("no") < + } < > 29c23 < OpenCL buffer, 16 elements of type single --- > OpenCL buffer, 16 elements of type double 32,35c26,27 < OpenCL buffer, 16 elements of type single < [1] 1.00000 4.00000 9.00000 16.00000 25.00000 36.00001 48.99999 < [8] 63.99999 81.00000 100.00000 121.00002 144.00000 169.00000 196.00003 < [15] 225.00003 256.00000 --- > OpenCL buffer, 16 elements of type double > [1] 1 4 9 16 25 36 49 64 81 100 121 144 169 196 225 256 42c34 < OpenCL buffer, 16 elements of type single --- > OpenCL buffer, 16 elements of type double
  • checking PDF version of manual ... [5s/5s] OK
  • DONE Status: 2 NOTEs
  • using check arguments '--no-clean-on-error '