- using R version 4.2.0 (2022-04-22)
- using platform: x86_64-apple-darwin17.0 (64-bit)
- using session charset: UTF-8
- checking for file ‘ORDER2PARENT/DESCRIPTION’ ... OK
- checking extension type ... Package
- this is package ‘ORDER2PARENT’ version ‘1.0’
- checking package namespace information ... OK
- checking package dependencies ... OK
- checking if this is a source package ... OK
- checking if there is a namespace ... OK
- checking for executable files ... OK
- checking for hidden files and directories ... OK
- checking for portable file names ... OK
- checking for sufficient/correct file permissions ... OK
- checking whether package ‘ORDER2PARENT’ can be installed ... [4s/4s] OK
See the install log for details.
- checking installed package size ... OK
- checking package directory ... OK
- checking DESCRIPTION meta-information ... OK
- checking top-level files ... OK
- checking for left-over files ... OK
- checking index information ... OK
- checking package subdirectories ... OK
- checking R files for non-ASCII characters ... OK
- checking R files for syntax errors ... OK
- checking whether the package can be loaded ... OK
- checking whether the package can be loaded with stated dependencies ... OK
- checking whether the package can be unloaded cleanly ... OK
- checking whether the namespace can be loaded with stated dependencies ... OK
- checking whether the namespace can be unloaded cleanly ... OK
- checking loading without being on the library search path ... OK
- checking dependencies in R code ... NOTE
'library' or 'require' calls to packages already attached by Depends:
‘Matrix’ ‘splines’
Please remove these calls from your code.
- checking S3 generic/method consistency ... OK
- checking replacement functions ... OK
- checking foreign function calls ... OK
- checking R code for possible problems ... [4s/4s] NOTE
bgmm : SplineGMM : moment.conditions: warning in matrix(nr = n.para, nc
= J): partial argument match of 'nr' to 'nrow'
bgmm : SplineGMM : moment.conditions: warning in matrix(nr = n.para, nc
= J): partial argument match of 'nc' to 'ncol'
bgmm: no visible global function definition for ‘ecdf’
bgmm : SplineGMM: no visible global function definition for
‘constrOptim’
blr: no visible global function definition for ‘ecdf’
blr: no visible global function definition for ‘constrOptim’
blr: no visible global function definition for ‘lm’
parentcdf : combinations: no visible global function definition for
‘combn’
parentcdf : solver: no visible global function definition for ‘uniroot’
Undefined global functions or variables:
combn constrOptim ecdf lm uniroot
Consider adding
importFrom("stats", "constrOptim", "ecdf", "lm", "uniroot")
importFrom("utils", "combn")
to your NAMESPACE file.
- checking Rd files ... [0s/0s] OK
- checking Rd metadata ... OK
- checking Rd cross-references ... OK
- checking for missing documentation entries ... OK
- checking for code/documentation mismatches ... OK
- checking Rd \usage sections ... OK
- checking Rd contents ... OK
- checking for unstated dependencies in examples ... OK
- checking examples ... [2s/2s] OK
- checking PDF version of manual ... OK
- DONE
Status: 2 NOTEs
- using check arguments '--no-clean-on-error '