- using R version 4.2.0 (2022-04-22)
- using platform: x86_64-apple-darwin17.0 (64-bit)
- using session charset: UTF-8
- checking for file ‘MCDA/DESCRIPTION’ ... OK
- this is package ‘MCDA’ version ‘0.0.24’
- package encoding: UTF-8
- checking package namespace information ... OK
- checking package dependencies ... OK
- checking if this is a source package ... OK
- checking if there is a namespace ... OK
- checking for executable files ... OK
- checking for hidden files and directories ... OK
- checking for portable file names ... OK
- checking for sufficient/correct file permissions ... OK
- checking whether package ‘MCDA’ can be installed ... [9s/9s] OK
- checking installed package size ... OK
- checking package directory ... OK
- checking DESCRIPTION meta-information ... OK
- checking top-level files ... OK
- checking for left-over files ... OK
- checking index information ... OK
- checking package subdirectories ... OK
- checking R files for non-ASCII characters ... OK
- checking R files for syntax errors ... OK
- checking whether the package can be loaded ... OK
- checking whether the package can be loaded with stated dependencies ... OK
- checking whether the package can be unloaded cleanly ... OK
- checking whether the namespace can be loaded with stated dependencies ... OK
- checking whether the namespace can be unloaded cleanly ... OK
- checking loading without being on the library search path ... OK
- checking dependencies in R code ... OK
- checking S3 generic/method consistency ... OK
- checking replacement functions ... OK
- checking foreign function calls ... OK
- checking R code for possible problems ... [12s/12s] OK
- checking Rd files ... [1s/1s] OK
- checking Rd metadata ... OK
- checking Rd cross-references ... OK
- checking for missing documentation entries ... OK
- checking for code/documentation mismatches ... OK
- checking Rd \usage sections ... OK
- checking Rd contents ... OK
- checking for unstated dependencies in examples ... OK
- checking examples ... [7s/7s] OK
- checking for unstated dependencies in ‘tests’ ... OK
- checking tests ... [398s/399s] OK
Running ‘AHP.R’ [1s/1s]
Running ‘ELECTRE.R’ [1s/1s]
Running ‘ELECTREIIIDistillation.R’ [1s/1s]
Running ‘LPDMRSort.R’ [1s/1s]
Running ‘LPDMRSortIdentifyIncompatibleAssignments.R’ [3s/3s]
Running ‘LPDMRSortIdentifyUsedDictatorProfiles.R’ [1s/1s]
Running ‘LPDMRSortIdentifyUsedVetoProfiles.R’ [1s/1s]
Running ‘LPDMRSortInferenceApprox.R’ [2s/2s]
Running ‘LPDMRSortInferenceExact.R’ [2s/2s]
Running ‘MARE.R’ [1s/1s]
Running ‘MRSort.R’ [1s/1s]
Running ‘MRSortIdentifyIncompatibleAssignments.R’ [2s/2s]
Running ‘MRSortIdentifyUsedVetoProfiles.R’ [1s/1s]
Running ‘MRSortInferenceApprox.R’ [3s/3s]
Running ‘MRSortInferenceExact.R’ [1s/1s]
Running ‘MRSortInterval.R’ [1s/1s]
Running ‘PROMETHEEI.R’ [1s/1s]
Running ‘PROMETHEEII.R’ [1s/1s]
Running ‘PROMETHEEOutrankingFlows.R’ [1s/1s]
Running ‘PROMETHEEPreferenceIndices.R’ [1s/1s]
Running ‘SRMP.R’ [1s/1s]
Running ‘SRMPInference.R’ [3s/3s]
Running ‘SRMPInferenceApprox.R’ [1s/1s]
Running ‘SRMPInferenceApproxFixedLexicographicOrder.R’ [1s/1s]
Running ‘SRMPInferenceApproxFixedProfilesNumber.R’ [1s/1s]
Running ‘SRMPInferenceFixedLexicographicOrder.R’ [1s/1s]
Running ‘SRMPInferenceFixedProfilesNumber.R’ [3s/3s]
Running ‘SRMPInferenceNoInconsist.R’ [1s/1s]
Running ‘SRMPInferenceNoInconsistFixedLexicographicOrder.R’ [2s/2s]
Running ‘SRMPInferenceNoInconsistFixedProfilesNumber.R’ [2s/2s]
Running ‘SURE.R’ [342s/343s]
Running ‘TOPSIS.R’ [1s/1s]
Running ‘UTA.R’ [1s/1s]
Running ‘UTADIS.R’ [1s/1s]
Running ‘UTASTAR.R’ [1s/1s]
Running ‘additiveValueFunctionElicitation.R’ [1s/1s]
Running ‘applyPiecewiseLinearValueFunctionsOnPerformanceTable.R’ [1s/1s]
Running ‘assignAlternativesToCategoriesByThresholds.R’ [1s/1s]
Running ‘normalizePerformanceTable.R’ [1s/1s]
Running ‘pairwiseConsistencyMeasures.R’ [1s/1s]
Running ‘plotAlternativesValuesPreorder.R’ [1s/1s]
Running ‘plotMRSortSortingProblem.R’ [1s/1s]
Running ‘plotRadarPerformanceTable.R’ [1s/1s]
Running ‘weightedSum.R’ [1s/1s]
- checking PDF version of manual ... OK
- DONE
Status: OK
- using check arguments '--no-clean-on-error '