- using R version 4.2.0 (2022-04-22)
- using platform: x86_64-apple-darwin17.0 (64-bit)
- using session charset: UTF-8
- checking for file ‘LDPD/DESCRIPTION’ ... OK
- checking extension type ... Package
- this is package ‘LDPD’ version ‘1.1.2’
- checking package namespace information ... OK
- checking package dependencies ... OK
- checking if this is a source package ... OK
- checking if there is a namespace ... OK
- checking for executable files ... OK
- checking for hidden files and directories ... OK
- checking for portable file names ... OK
- checking for sufficient/correct file permissions ... OK
- checking whether package ‘LDPD’ can be installed ... [2s/2s] OK
- checking installed package size ... OK
- checking package directory ... OK
- checking DESCRIPTION meta-information ... OK
- checking top-level files ... OK
- checking for left-over files ... OK
- checking index information ... OK
- checking package subdirectories ... OK
- checking R files for non-ASCII characters ... OK
- checking R files for syntax errors ... OK
- checking whether the package can be loaded ... OK
- checking whether the package can be loaded with stated dependencies ... OK
- checking whether the package can be unloaded cleanly ... OK
- checking whether the namespace can be loaded with stated dependencies ... OK
- checking whether the namespace can be unloaded cleanly ... OK
- checking loading without being on the library search path ... OK
- checking dependencies in R code ... OK
- checking S3 generic/method consistency ... OK
- checking replacement functions ... OK
- checking foreign function calls ... OK
- checking R code for possible problems ... [2s/2s] NOTE
ARConfIntEst: no visible global function definition for ‘sd’
PTLinkFunc: no visible global function definition for ‘pnorm’
PTLinkFunc: no visible global function definition for ‘qnorm’
PTMultiPeriodPD: no visible global function definition for ‘uniroot’
PTOnePeriodPD : f: no visible global function definition for ‘pbinom’
PTOnePeriodPD: no visible global function definition for ‘uniroot’
QMMGetRLogitPD: no visible global function definition for ‘ecdf’
QMMPDlinkFunc: no visible global function definition for ‘qnorm’
QMMPlot: no visible global function definition for ‘lines’
QMMPlot: no visible global function definition for ‘legend’
VDBCalibratePD: no visible global function definition for ‘ecdf’
VDBGetK: no visible global function definition for ‘uniroot’
Undefined global functions or variables:
ecdf legend lines pbinom pnorm qnorm sd uniroot
Consider adding
importFrom("graphics", "legend", "lines")
importFrom("stats", "ecdf", "pbinom", "pnorm", "qnorm", "sd",
"uniroot")
to your NAMESPACE file.
- checking Rd files ... [0s/0s] OK
- checking Rd metadata ... OK
- checking Rd cross-references ... OK
- checking for missing documentation entries ... OK
- checking for code/documentation mismatches ... OK
- checking Rd \usage sections ... OK
- checking Rd contents ... OK
- checking for unstated dependencies in examples ... OK
- checking examples ... [1s/1s] OK
- checking PDF version of manual ... OK
- DONE
Status: 1 NOTE
- using check arguments '--no-clean-on-error '