• using R version 4.4.0 (2024-04-24)
  • using platform: x86_64-apple-darwin20
  • R was compiled by     Apple clang version 14.0.0 (clang-1400.0.29.202)     GNU Fortran (GCC) 12.2.0
  • running under: macOS Ventura 13.3.1
  • using session charset: UTF-8
  • checking for file ‘IPEDS/DESCRIPTION’ ... OK
  • this is package ‘IPEDS’ version ‘0.1.0’
  • package encoding: UTF-8
  • checking package namespace information ... OK
  • checking package dependencies ... OK
  • checking if this is a source package ... OK
  • checking if there is a namespace ... OK
  • checking for executable files ... OK
  • checking for hidden files and directories ... OK
  • checking for portable file names ... OK
  • checking for sufficient/correct file permissions ... OK
  • checking whether package ‘IPEDS’ can be installed ... [7s/7s] OK See the install log for details.
  • checking installed package size ... OK
  • checking package directory ... OK
  • checking ‘build’ directory ... OK
  • checking DESCRIPTION meta-information ... OK
  • checking top-level files ... OK
  • checking for left-over files ... OK
  • checking index information ... OK
  • checking package subdirectories ... OK
  • checking code files for non-ASCII characters ... OK
  • checking R files for syntax errors ... OK
  • checking whether the package can be loaded ... [1s/1s] OK
  • checking whether the package can be loaded with stated dependencies ... [1s/1s] OK
  • checking whether the package can be unloaded cleanly ... [1s/1s] OK
  • checking whether the namespace can be loaded with stated dependencies ... [1s/1s] OK
  • checking whether the namespace can be unloaded cleanly ... [1s/1s] OK
  • checking loading without being on the library search path ... [1s/1s] OK
  • checking dependencies in R code ... OK
  • checking S3 generic/method consistency ... OK
  • checking replacement functions ... OK
  • checking foreign function calls ... OK
  • checking R code for possible problems ... [2s/3s] OK
  • checking Rd files ... [0s/0s] NOTE checkRd: (-1) admin2020.Rd:14: Lost braces     14 | \item{ARANK}{Academic rank: a factor with 7 levels: \verb{All ranks}, \code{Professors}, \verb{Associate professors}, \verb{Assistant professors}, \code{Instructors}, \code{Lecturers} and \verb{No academic rank}}{Academic rank}        | ^ checkRd: (-1) dir_info2020.Rd:28: Lost braces; missing escapes or markup?     28 | \item{INT_LEVEL}{Level of institution (1 = Four or more years; 2 = At least 2 but less than 4 years; 3 = Less than 2 years (below associate); -3 = {Not available})}        | ^ checkRd: (-1) dir_info2020.Rd:29: Lost braces; missing escapes or markup?     29 | \item{INT_CONTROL}{Control of institution (1 = Public; 2 = Private not-for-profit; 3 = Private for-profit; -3 = {Not available})}        | ^ checkRd: (-1) dir_info2020.Rd:30: Lost braces; missing escapes or markup?     30 | \item{UNGRAD_OFFER}{Undergraduate offering (1 = Undergraduate degree or certificate offering; 2 = No undergraduate offering; -3 = {Not available})}        | ^ checkRd: (-1) dir_info2020.Rd:31: Lost braces; missing escapes or markup?     31 | \item{GRAD_OFFER}{Graduate offering (1 = Graduate degree or certificate offering; 2 = No graduate offering; -3 = {Not available})}        | ^ checkRd: (-1) dir_info2020.Rd:32: Lost braces; missing escapes or markup?     32 | \item{HD_OFFER}{Degree-granting status (1 = Degree granting; 2 = Nondegree-granting, primarily post-secondary; -3 = {Not available})}        | ^ checkRd: (-1) dir_info2020.Rd:37: Lost braces; missing escapes or markup?     37 | \item{LOCALE}{Degree of urbanization (Urban-centric locale) (11 = City: Large; 12 = City: Midsize; 13 = City: Small; 21 = Suburb: Large; 22 = Suburb: Midsize; 23 = Suburb: Small; 31 = Town: Fringe; 32 = Town: Distant; 33 = Town: Remote; 41 = Rural: Fringe; 42 = Rural: Distant; 43 = Rural: Remote; -3 = {Not available})}        | ^
  • checking Rd metadata ... OK
  • checking Rd cross-references ... OK
  • checking for missing documentation entries ... OK
  • checking for code/documentation mismatches ... OK
  • checking Rd \usage sections ... OK
  • checking Rd contents ... OK
  • checking for unstated dependencies in examples ... OK
  • checking contents of ‘data’ directory ... OK
  • checking data for non-ASCII characters ... [1s/1s] OK
  • checking LazyData ... OK
  • checking data for ASCII and uncompressed saves ... OK
  • checking installed files from ‘inst/doc’ ... OK
  • checking files in ‘vignettes’ ... OK
  • checking examples ... [2s/2s] OK
  • checking for unstated dependencies in ‘tests’ ... OK
  • checking tests ... [6s/6s] OK   Running ‘testthat.R’ [5s/5s]
  • checking for unstated dependencies in vignettes ... OK
  • checking package vignettes ... OK
  • checking re-building of vignette outputs ... [15s/17s] OK
  • checking PDF version of manual ... [6s/6s] OK
  • DONE Status: 1 NOTE
  • using check arguments '--no-clean-on-error '