• using R version 4.4.0 (2024-04-24)
  • using platform: x86_64-apple-darwin20
  • R was compiled by     Apple clang version 14.0.0 (clang-1400.0.29.202)     GNU Fortran (GCC) 12.2.0
  • running under: macOS Ventura 13.3.1
  • using session charset: UTF-8
  • checking for file ‘ICAOD/DESCRIPTION’ ... OK
  • this is package ‘ICAOD’ version ‘1.0.1’
  • package encoding: UTF-8
  • checking package namespace information ... OK
  • checking package dependencies ... OK
  • checking if this is a source package ... OK
  • checking if there is a namespace ... OK
  • checking for executable files ... OK
  • checking for hidden files and directories ... OK
  • checking for portable file names ... OK
  • checking for sufficient/correct file permissions ... OK
  • checking whether package ‘ICAOD’ can be installed ... [72s/33s] OK See the install log for details.
  • used C++ compiler: ‘Apple clang version 14.0.3 (clang-1403.0.22.14.1)’
  • used SDK: ‘MacOSX11.3.sdk’
  • checking installed package size ... NOTE   installed size is 8.5Mb   sub-directories of 1Mb or more:     libs 7.7Mb
  • checking package directory ... OK
  • checking DESCRIPTION meta-information ... OK
  • checking top-level files ... OK
  • checking for left-over files ... OK
  • checking index information ... OK
  • checking package subdirectories ... OK
  • checking code files for non-ASCII characters ... OK
  • checking R files for syntax errors ... OK
  • checking whether the package can be loaded ... [1s/1s] OK
  • checking whether the package can be loaded with stated dependencies ... [1s/1s] OK
  • checking whether the package can be unloaded cleanly ... [1s/1s] OK
  • checking whether the namespace can be loaded with stated dependencies ... [1s/1s] OK
  • checking whether the namespace can be unloaded cleanly ... [1s/1s] OK
  • checking loading without being on the library search path ... [1s/1s] OK
  • checking dependencies in R code ... OK
  • checking S3 generic/method consistency ... OK
  • checking replacement functions ... OK
  • checking foreign function calls ... OK
  • checking R code for possible problems ... [11s/12s] OK
  • checking Rd files ... [1s/1s] NOTE checkRd: (-1) ICAOD.Rd:12: Lost braces in \itemize; meant \describe ? checkRd: (-1) ICAOD.Rd:13: Lost braces in \itemize; meant \describe ? checkRd: (-1) ICAOD.Rd:14: Lost braces in \itemize; meant \describe ? checkRd: (-1) ICAOD.Rd:15-16: Lost braces in \itemize; meant \describe ? checkRd: (-1) ICAOD.Rd:21: Lost braces in \itemize; meant \describe ? checkRd: (-1) ICAOD.Rd:22-23: Lost braces in \itemize; meant \describe ? checkRd: (-1) bayes.Rd:142: Lost braces in \itemize; meant \describe ? checkRd: (-1) bayes.Rd:143: Lost braces in \itemize; meant \describe ? checkRd: (-1) bayes.Rd:144: Lost braces in \itemize; meant \describe ? checkRd: (-1) bayes.Rd:145: Lost braces in \itemize; meant \describe ? checkRd: (-1) crt.bayes.control.Rd:63: Lost braces     63 | \item{\code{level.trans}}{Logical variable denotes either to take the levels as number of grid points (FALSE = default) or to transform in that manner that number of grid points = 2^(levels-1) (TRUE). See, code{\link[mvQuad]{createNIGrid}}, for details.}        | ^ checkRd: (-1) normal.Rd:21: Lost braces in \itemize; \value handles \item{}{} directly checkRd: (-1) normal.Rd:22: Lost braces in \itemize; \value handles \item{}{} directly checkRd: (-1) normal.Rd:23: Lost braces in \itemize; \value handles \item{}{} directly checkRd: (-1) normal.Rd:24: Lost braces in \itemize; \value handles \item{}{} directly checkRd: (-1) sens.minimax.control.Rd:40-45: Lost braces in \itemize; meant \describe ? checkRd: (-1) sens.minimax.control.Rd:46-47: Lost braces in \itemize; meant \describe ? checkRd: (-1) skewnormal.Rd:23: Lost braces in \itemize; \value handles \item{}{} directly checkRd: (-1) skewnormal.Rd:24: Lost braces in \itemize; \value handles \item{}{} directly checkRd: (-1) skewnormal.Rd:25: Lost braces in \itemize; \value handles \item{}{} directly checkRd: (-1) skewnormal.Rd:26: Lost braces in \itemize; \value handles \item{}{} directly checkRd: (-1) student.Rd:23: Lost braces in \itemize; \value handles \item{}{} directly checkRd: (-1) student.Rd:24: Lost braces in \itemize; \value handles \item{}{} directly checkRd: (-1) student.Rd:25: Lost braces in \itemize; \value handles \item{}{} directly checkRd: (-1) student.Rd:26: Lost braces in \itemize; \value handles \item{}{} directly checkRd: (-1) uniform.Rd:17: Lost braces in \itemize; \value handles \item{}{} directly checkRd: (-1) uniform.Rd:18: Lost braces in \itemize; \value handles \item{}{} directly checkRd: (-1) uniform.Rd:19: Lost braces in \itemize; \value handles \item{}{} directly checkRd: (-1) uniform.Rd:20: Lost braces in \itemize; \value handles \item{}{} directly
  • checking Rd metadata ... OK
  • checking Rd cross-references ... OK
  • checking for missing documentation entries ... OK
  • checking for code/documentation mismatches ... OK
  • checking Rd \usage sections ... OK
  • checking Rd contents ... OK
  • checking for unstated dependencies in examples ... OK
  • checking LazyData ... NOTE   'LazyData' is specified without a 'data' directory
  • checking line endings in C/C++/Fortran sources/headers ... OK
  • checking compiled code ... OK
  • checking examples ... [17s/18s] OK
  • checking PDF version of manual ... [9s/9s] OK
  • DONE Status: 3 NOTEs
  • using check arguments '--no-clean-on-error '