- using R version 4.1.0 (2021-05-18)
- using platform: x86_64-apple-darwin17.0 (64-bit)
- using session charset: UTF-8
- checking for file ‘G1DBN/DESCRIPTION’ ... OK
- this is package ‘G1DBN’ version ‘3.1.1’
- checking package namespace information ... OK
- checking package dependencies ... OK
- checking if this is a source package ... OK
- checking if there is a namespace ... OK
- checking for executable files ... OK
- checking for hidden files and directories ... OK
- checking for portable file names ... OK
- checking for sufficient/correct file permissions ... OK
- checking whether package ‘G1DBN’ can be installed ... [2s/3s] OK
- checking installed package size ... OK
- checking package directory ... OK
- checking DESCRIPTION meta-information ... NOTE
Malformed Title field: should not end in a period.
- checking top-level files ... OK
- checking for left-over files ... OK
- checking index information ... OK
- checking package subdirectories ... OK
- checking R files for non-ASCII characters ... OK
- checking R files for syntax errors ... OK
- checking whether the package can be loaded ... OK
- checking whether the package can be loaded with stated dependencies ... OK
- checking whether the package can be unloaded cleanly ... OK
- checking whether the namespace can be loaded with stated dependencies ... OK
- checking whether the namespace can be unloaded cleanly ... OK
- checking loading without being on the library search path ... OK
- checking dependencies in R code ... NOTE
Packages in Depends field not imported from:
‘MASS’ ‘igraph’
These packages need to be imported from (in the NAMESPACE file)
for when this namespace is loaded but not attached.
- checking S3 generic/method consistency ... OK
- checking replacement functions ... OK
- checking foreign function calls ... OK
- checking R code for possible problems ... [2s/3s] NOTE
DBNScoreStep1: no visible global function definition for ‘lm’
DBNScoreStep1: no visible global function definition for ‘rlm’
DBNScoreStep1: no visible global function definition for ‘pt’
DBNScoreStep2: no visible global function definition for ‘lm’
DBNScoreStep2: no visible global function definition for ‘rlm’
DBNScoreStep2: no visible global function definition for ‘pt’
SimulGeneExpressionAR1: no visible global function definition for
‘rnorm’
SimulGeneExpressionAR1: no visible global function definition for ‘ts’
SimulNetworkAdjMatrix: no visible global function definition for
‘runif’
Undefined global functions or variables:
lm pt rlm rnorm runif ts
Consider adding
importFrom("stats", "lm", "pt", "rnorm", "runif", "ts")
to your NAMESPACE file.
- checking Rd files ... [0s/0s] OK
- checking Rd metadata ... OK
- checking Rd cross-references ... OK
- checking for missing documentation entries ... OK
- checking for code/documentation mismatches ... OK
- checking Rd \usage sections ... OK
- checking Rd contents ... OK
- checking for unstated dependencies in examples ... OK
- checking contents of ‘data’ directory ... OK
- checking data for non-ASCII characters ... OK
- checking data for ASCII and uncompressed saves ... OK
- checking examples ... [9s/12s] OK
- checking PDF version of manual ... OK
- DONE
Status: 3 NOTEs
- using check arguments '--no-clean-on-error '