- using R version 4.2.0 (2022-04-22)
- using platform: x86_64-apple-darwin17.0 (64-bit)
- using session charset: UTF-8
- checking for file ‘Eplot/DESCRIPTION’ ... OK
- checking extension type ... Package
- this is package ‘Eplot’ version ‘1.0’
- checking package namespace information ... OK
- checking package dependencies ... OK
- checking if this is a source package ... OK
- checking if there is a namespace ... OK
- checking for executable files ... OK
- checking for hidden files and directories ... OK
- checking for portable file names ... OK
- checking for sufficient/correct file permissions ... OK
- checking whether package ‘Eplot’ can be installed ... [2s/2s] OK
- checking installed package size ... OK
- checking package directory ... OK
- checking DESCRIPTION meta-information ... OK
- checking top-level files ... OK
- checking for left-over files ... OK
- checking index information ... OK
- checking package subdirectories ... OK
- checking R files for non-ASCII characters ... OK
- checking R files for syntax errors ... OK
- checking whether the package can be loaded ... OK
- checking whether the package can be loaded with stated dependencies ... OK
- checking whether the package can be unloaded cleanly ... OK
- checking whether the namespace can be loaded with stated dependencies ... OK
- checking whether the namespace can be unloaded cleanly ... OK
- checking loading without being on the library search path ... OK
- checking dependencies in R code ... OK
- checking S3 generic/method consistency ... OK
- checking replacement functions ... OK
- checking foreign function calls ... OK
- checking R code for possible problems ... [2s/2s] NOTE
FCIplot: no visible global function definition for ‘na.omit’
FCIplot: no visible global function definition for ‘tail’
FCIplot: no visible global function definition for ‘grid’
FCIplot: no visible global function definition for ‘polygon’
FCIplot: no visible global function definition for ‘rgb’
linpred: no visible global function definition for ‘lm’
mplott: no visible global function definition for ‘par’
mplott: no visible global function definition for ‘na.omit’
mplott: no visible global function definition for ‘lines’
mplott: no visible global function definition for ‘legend’
mplott: no visible global function definition for ‘grid’
plott: no visible global function definition for ‘lines’
plott: no visible global function definition for ‘par’
plott: no visible global function definition for ‘grid’
tsideplot: no visible global function definition for ‘par’
tsideplot: no visible global function definition for ‘axis’
tsideplot: no visible global function definition for ‘grid’
Undefined global functions or variables:
axis grid legend lines lm na.omit par polygon rgb tail
Consider adding
importFrom("grDevices", "rgb")
importFrom("graphics", "axis", "grid", "legend", "lines", "par",
"polygon")
importFrom("stats", "lm", "na.omit")
importFrom("utils", "tail")
to your NAMESPACE file.
- checking Rd files ... [0s/0s] OK
- checking Rd metadata ... OK
- checking Rd cross-references ... OK
- checking for missing documentation entries ... OK
- checking for code/documentation mismatches ... OK
- checking Rd \usage sections ... OK
- checking Rd contents ... OK
- checking for unstated dependencies in examples ... OK
- checking examples ... [1s/1s] OK
- checking PDF version of manual ... OK
- DONE
Status: 1 NOTE
- using check arguments '--no-clean-on-error '