• using R version 3.6.2 (2019-12-12)
  • using platform: x86_64-apple-darwin15.6.0 (64-bit)
  • using session charset: UTF-8
  • checking for file ‘DoE.base/DESCRIPTION’ ... OK
  • this is package ‘DoE.base’ version ‘1.1-5’
  • package encoding: latin1
  • checking package namespace information ... OK
  • checking package dependencies ... OK
  • checking if this is a source package ... OK
  • checking if there is a namespace ... OK
  • checking for executable files ... OK
  • checking for hidden files and directories ... OK
  • checking for portable file names ... OK
  • checking for sufficient/correct file permissions ... OK
  • checking whether package ‘DoE.base’ can be installed ... [14s/14s] OK
  • checking installed package size ... OK
  • checking package directory ... OK
  • checking DESCRIPTION meta-information ... OK
  • checking top-level files ... OK
  • checking for left-over files ... OK
  • checking index information ... OK
  • checking package subdirectories ... OK
  • checking R files for non-ASCII characters ... OK
  • checking R files for syntax errors ... OK
  • checking whether the package can be loaded ... OK
  • checking whether the package can be loaded with stated dependencies ... OK
  • checking whether the package can be unloaded cleanly ... OK
  • checking whether the namespace can be loaded with stated dependencies ... OK
  • checking whether the namespace can be unloaded cleanly ... OK
  • checking loading without being on the library search path ... OK
  • checking dependencies in R code ... OK
  • checking S3 generic/method consistency ... OK
  • checking replacement functions ... OK
  • checking foreign function calls ... OK
  • checking R code for possible problems ... [22s/22s] OK
  • checking Rd files ... OK
  • checking Rd metadata ... OK
  • checking Rd cross-references ... OK
  • checking for missing documentation entries ... OK
  • checking for code/documentation mismatches ... OK
  • checking Rd \usage sections ... OK
  • checking Rd contents ... OK
  • checking for unstated dependencies in examples ... OK
  • checking R/sysdata.rda ... OK
  • checking examples ... [12s/13s] OK
  • checking for unstated dependencies in ‘tests’ ... OK
  • checking tests ... [8s/8s] OK
      Running ‘test_aggregate.R’ [1s/1s]
      Comparing ‘test_aggregate.Rout’ to ‘test_aggregate.Rout.save’ ... OK
      Running ‘test_colorder.R’ [4s/4s]
      Comparing ‘test_colorder.Rout’ to ‘test_colorder.Rout.save’ ... OK
      Running ‘test_cross.R’ [1s/1s]
      Comparing ‘test_cross.Rout’ to ‘test_cross.Rout.save’ ... OK
      Running ‘test_qua.design.R’ [1s/1s]
      Comparing ‘test_qua.design.Rout’ to ‘test_qua.design.Rout.save’ ... OK
      Running ‘test_reshape.R’ [1s/1s]
      Comparing ‘test_reshape.Rout’ to ‘test_reshape.Rout.save’ ... OK
  • checking PDF version of manual ... OK
  • DONE
    Status: OK