- using R version 4.2.0 beta (2022-04-07 r82126)
- using platform: x86_64-apple-darwin17.0 (64-bit)
- using session charset: UTF-8
- checking for file ‘DeducerPlugInExample/DESCRIPTION’ ... OK
- this is package ‘DeducerPlugInExample’ version ‘0.2-0’
- checking package namespace information ... OK
- checking package dependencies ... OK
- checking if this is a source package ... OK
- checking if there is a namespace ... OK
- checking for executable files ... OK
- checking for hidden files and directories ... OK
- checking for portable file names ... OK
- checking for sufficient/correct file permissions ... OK
- checking whether package ‘DeducerPlugInExample’ can be installed ... [12s/12s] OK
See the install log for details.
- checking installed package size ... OK
- checking package directory ... OK
- checking DESCRIPTION meta-information ... OK
- checking top-level files ... OK
- checking for left-over files ... OK
- checking index information ... OK
- checking package subdirectories ... OK
- checking R files for non-ASCII characters ... OK
- checking R files for syntax errors ... OK
- checking whether the package can be loaded ... OK
- checking whether the package can be loaded with stated dependencies ... OK
- checking whether the package can be unloaded cleanly ... OK
- checking whether the namespace can be loaded with stated dependencies ... OK
- checking whether the namespace can be unloaded cleanly ... OK
- checking loading without being on the library search path ... OK
- checking dependencies in R code ... NOTE
Package in Depends field not imported from: ‘Deducer’
These packages need to be imported from (in the NAMESPACE file)
for when this namespace is loaded but not attached.
- checking S3 generic/method consistency ... OK
- checking replacement functions ... OK
- checking foreign function calls ... OK
- checking R code for possible problems ... [5s/6s] NOTE
.factorAnalysisRunFunction: no visible global function definition for
‘execute’
.onLoad: no visible binding for global variable ‘.deducer’
.onLoad: no visible global function definition for ‘.jnull’
.onLoad: no visible global function definition for ‘.jpackage’
.onLoad: no visible global function definition for ‘.registerDialog’
.onLoad: no visible global function definition for ‘deducer.addMenu’
.onLoad: no visible global function definition for
‘deducer.addMenuItem’
.onLoad: no visible binding for global variable ‘.windowsGUI’
.onLoad: no visible binding for global variable ‘.jgr’
.onLoad: no visible global function definition for ‘jgr.addMenu’
.onLoad: no visible global function definition for ‘jgr.addMenuItem’
makeFactorAnalysisDialog: no visible global function definition for
‘new’
makeFactorAnalysisDialog: no visible binding for global variable
‘SimpleRDialog’
makeFactorAnalysisDialog: no visible binding for global variable
‘VariableSelectorWidget’
makeFactorAnalysisDialog: no visible global function definition for
‘addComponent’
makeFactorAnalysisDialog: no visible binding for global variable
‘VariableListWidget’
makeFactorAnalysisDialog: no visible binding for global variable
‘CheckBoxesWidget’
makeFactorAnalysisDialog: no visible global function definition for
‘toJava’
makeListExampleDialog: no visible global function definition for ‘new’
makeListExampleDialog: no visible binding for global variable
‘ListWidget’
makeListExampleDialog: no visible global function definition for
‘setSize’
makeListExampleDialog: no visible binding for global variable
‘AddRemoveButtons’
makeListExampleDialog: no visible binding for global variable
‘SimpleRDialog’
makeListExampleDialog: no visible global function definition for
‘addComponent’
makeListExampleDialog: no visible global function definition for
‘toJava’
makeScatterPlotDialog: no visible global function definition for ‘J’
makeScatterPlotDialog: no visible global function definition for ‘new’
Undefined global functions or variables:
.deducer .jgr .jnull .jpackage .registerDialog .windowsGUI
AddRemoveButtons CheckBoxesWidget J ListWidget SimpleRDialog
VariableListWidget VariableSelectorWidget addComponent
deducer.addMenu deducer.addMenuItem execute jgr.addMenu
jgr.addMenuItem new setSize toJava
Consider adding
importFrom("methods", "new")
to your NAMESPACE file (and ensure that your DESCRIPTION Imports field
contains 'methods').
- checking Rd files ... [0s/0s] OK
- checking Rd metadata ... OK
- checking Rd cross-references ... OK
- checking for missing documentation entries ... OK
- checking for code/documentation mismatches ... OK
- checking Rd \usage sections ... OK
- checking Rd contents ... OK
- checking for unstated dependencies in examples ... OK
- checking examples ... NONE
- checking PDF version of manual ... OK
- DONE
Status: 2 NOTEs
- using check arguments '--no-clean-on-error '