• using R version 4.4.0 (2024-04-24)
  • using platform: x86_64-apple-darwin20
  • R was compiled by     Apple clang version 14.0.0 (clang-1400.0.29.202)     GNU Fortran (GCC) 12.2.0
  • running under: macOS Ventura 13.3.1
  • using session charset: UTF-8
  • checking for file ‘DJL/DESCRIPTION’ ... OK
  • checking extension type ... Package
  • this is package ‘DJL’ version ‘3.9’
  • checking package namespace information ... OK
  • checking package dependencies ... OK
  • checking if this is a source package ... OK
  • checking if there is a namespace ... OK
  • checking for executable files ... OK
  • checking for hidden files and directories ... OK
  • checking for portable file names ... OK
  • checking for sufficient/correct file permissions ... OK
  • checking whether package ‘DJL’ can be installed ... [5s/5s] OK See the install log for details.
  • checking installed package size ... OK
  • checking package directory ... OK
  • checking DESCRIPTION meta-information ... OK
  • checking top-level files ... OK
  • checking for left-over files ... OK
  • checking index information ... OK
  • checking package subdirectories ... OK
  • checking code files for non-ASCII characters ... OK
  • checking R files for syntax errors ... OK
  • checking whether the package can be loaded ... [0s/0s] OK
  • checking whether the package can be loaded with stated dependencies ... [0s/0s] OK
  • checking whether the package can be unloaded cleanly ... [0s/0s] OK
  • checking whether the namespace can be loaded with stated dependencies ... [0s/0s] OK
  • checking whether the namespace can be unloaded cleanly ... [0s/0s] OK
  • checking loading without being on the library search path ... [0s/0s] OK
  • checking dependencies in R code ... OK
  • checking S3 generic/method consistency ... OK
  • checking replacement functions ... OK
  • checking foreign function calls ... OK
  • checking R code for possible problems ... [7s/7s] OK
  • checking Rd files ... [1s/1s] NOTE checkRd: (-1) dataset.airplane.2017.Rd:7: Lost braces      7 | \code{[,1] Name }{Airplane name} \cr        | ^ checkRd: (-1) dataset.airplane.2017.Rd:8: Lost braces      8 | \code{[,2] EIS }{Entry into service} \cr        | ^ checkRd: (-1) dataset.airplane.2017.Rd:9: Lost braces      9 | \code{[,3] Range }{Maximum range at full payload in 1,000km} \cr        | ^ checkRd: (-1) dataset.airplane.2017.Rd:10: Lost braces     10 | \code{[,4] P.cap }{Passenger capacity} \cr        | ^ checkRd: (-1) dataset.airplane.2017.Rd:11: Lost braces     11 | \code{[,5] PFE }{Passenger fuel efficiency in passengers*km/L (log scale)} \cr        | ^ checkRd: (-1) dataset.airplane.2017.Rd:12: Lost braces     12 | \code{[,6] C.spd }{Cruising speed in km/hr} \cr        | ^ checkRd: (-1) dataset.airplane.2017.Rd:13: Lost braces     13 | \code{[,7] M.spd }{Maximum speed in km/hr}        | ^ checkRd: (-1) dataset.engine.2015.Rd:7: Lost braces      7 | \code{[,1] Name }{Vehicle name} \cr        | ^ checkRd: (-1) dataset.engine.2015.Rd:8: Lost braces      8 | \code{[,2] MY }{Model year} \cr        | ^ checkRd: (-1) dataset.engine.2015.Rd:9: Lost braces      9 | \code{[,3] Cylinder }{The number of cylinder} \cr        | ^ checkRd: (-1) dataset.engine.2015.Rd:10: Lost braces     10 | \code{[,4] Displacement }{Displacement in liter} \cr        | ^ checkRd: (-1) dataset.engine.2015.Rd:11: Lost braces     11 | \code{[,5] CO2 }{CO2 emission in gram/mile} \cr        | ^ checkRd: (-1) dataset.engine.2015.Rd:12: Lost braces     12 | \code{[,6] Power }{Engine power in HP} \cr        | ^ checkRd: (-1) dataset.engine.2015.Rd:13: Lost braces     13 | \code{[,7] Torque }{Engine torque in lb.ft} \cr        | ^ checkRd: (-1) dataset.engine.2015.Rd:14: Lost braces     14 | \code{[,8] Type }{Engine system and fuel type}        | ^ checkRd: (-1) dataset.hev.2013.Rd:7: Lost braces      7 | \code{[,1] Name }{Vehicle name} \cr        | ^ checkRd: (-1) dataset.hev.2013.Rd:8: Lost braces      8 | \code{[,2] MY }{Model year} \cr        | ^ checkRd: (-1) dataset.hev.2013.Rd:9: Lost braces      9 | \code{[,3] MSRP.2013 }{MSRP converted to 2013 value} \cr        | ^ checkRd: (-1) dataset.hev.2013.Rd:10: Lost braces     10 | \code{[,4] Acc }{Acceleration (0-100km) in km/h/s} \cr        | ^ checkRd: (-1) dataset.hev.2013.Rd:11: Lost braces     11 | \code{[,5] MPG }{MPG in mile/gallon} \cr        | ^ checkRd: (-1) dataset.hev.2013.Rd:12: Lost braces     12 | \code{[,6] MPGe }{MPG equivalence for PHEV in mile/gallon}        | ^ checkRd: (-1) dm.ddf.Rd:11: Lost braces     11 | \code{"crs" }{Constant RTS (default)} \cr        | ^ checkRd: (-1) dm.ddf.Rd:12: Lost braces     12 | \code{"vrs" }{Variable RTS} \cr        | ^ checkRd: (-1) dm.ddf.Rd:13: Lost braces     13 | \code{"irs" }{Increasing RTS} \cr        | ^ checkRd: (-1) dm.ddf.Rd:14: Lost braces     14 | \code{"drs" }{Decreasing RTS}        | ^ checkRd: (-1) dm.ddf.Rd:21: Lost braces     21 | \code{"ssm" }{Slack-sum maximization (default)} \cr        | ^ checkRd: (-1) dm.ddf.Rd:22: Lost braces     22 | \code{"max" }{Date-sum maximization (only if \code{date} is defined)} \cr        | ^ checkRd: (-1) dm.ddf.Rd:23: Lost braces     23 | \code{"min" }{Date-sum minimization (only if \code{date} is defined)}        | ^ checkRd: (-1) dm.ddf.Rd:27: Lost braces     27 | \code{"convex" }{Convexity holds (default)} \cr        | ^ checkRd: (-1) dm.ddf.Rd:28: Lost braces     28 | \code{"fdh" }{Free disposal hull (this will override \code{rts})}        | ^ checkRd: (-1) dm.dea.Rd:11: Lost braces     11 | \code{"crs" }{Constant RTS (default)} \cr        | ^ checkRd: (-1) dm.dea.Rd:12: Lost braces     12 | \code{"vrs" }{Variable RTS} \cr        | ^ checkRd: (-1) dm.dea.Rd:13: Lost braces     13 | \code{"irs" }{Increasing RTS} \cr        | ^ checkRd: (-1) dm.dea.Rd:14: Lost braces     14 | \code{"drs" }{Decreasing RTS}        | ^ checkRd: (-1) dm.dea.Rd:17: Lost braces     17 | \code{"i" }{Input-orientation} \cr        | ^ checkRd: (-1) dm.dea.Rd:18: Lost braces     18 | \code{"o" }{Output-orientation}        | ^ checkRd: (-1) dm.dea.Rd:22: Lost braces     22 | \code{"ssm" }{Slack-sum maximization (default)} \cr        | ^ checkRd: (-1) dm.dea.Rd:23: Lost braces     23 | \code{"max" }{Date-sum maximization (only if \code{date} is defined)} \cr        | ^ checkRd: (-1) dm.dea.Rd:24: Lost braces     24 | \code{"min" }{Date-sum minimization (only if \code{date} is defined)}        | ^ checkRd: (-1) dm.dea.Rd:30: Lost braces     30 | \code{"convex" }{Convexity holds (default)} \cr        | ^ checkRd: (-1) dm.dea.Rd:31: Lost braces     31 | \code{"fdh" }{Free disposal hull (this will override \code{rts})}        | ^ checkRd: (-1) dm.dynamic.bc.Rd:12: Lost braces     12 | \code{"crs" }{Constant RTS (default)} \cr        | ^ checkRd: (-1) dm.dynamic.bc.Rd:13: Lost braces     13 | \code{"vrs" }{Variable RTS} \cr        | ^ checkRd: (-1) dm.dynamic.bc.Rd:14: Lost braces     14 | \code{"irs" }{Increasing RTS} \cr        | ^ checkRd: (-1) dm.dynamic.bc.Rd:15: Lost braces     15 | \code{"drs" }{Decreasing RTS}        | ^ checkRd: (-1) dm.dynamic.bc.Rd:18: Lost braces     18 | \code{"i" }{Input-orientation (default)} \cr        | ^ checkRd: (-1) dm.dynamic.bc.Rd:19: Lost braces     19 | \code{"o" }{Output-orientation}        | ^ checkRd: (-1) dm.hdf.Rd:11: Lost braces     11 | \code{"crs" }{Constant RTS (default)} \cr        | ^ checkRd: (-1) dm.hdf.Rd:12: Lost braces     12 | \code{"vrs" }{Variable RTS} \cr        | ^ checkRd: (-1) dm.hdf.Rd:13: Lost braces     13 | \code{"irs" }{Increasing RTS} \cr        | ^ checkRd: (-1) dm.hdf.Rd:14: Lost braces     14 | \code{"drs" }{Decreasing RTS}        | ^ checkRd: (-1) dm.hdf.Rd:19: Lost braces     19 | \code{"ssm" }{Slack-sum maximization (default)} \cr        | ^ checkRd: (-1) dm.hdf.Rd:20: Lost braces     20 | \code{"max" }{Date-sum maximization (only if \code{date} is defined)} \cr        | ^ checkRd: (-1) dm.hdf.Rd:21: Lost braces     21 | \code{"min" }{Date-sum minimization (only if \code{date} is defined)}        | ^ checkRd: (-1) dm.hdf.Rd:25: Lost braces     25 | \code{"convex" }{Convexity holds (default)} \cr        | ^ checkRd: (-1) dm.hdf.Rd:26: Lost braces     26 | \code{"fdh" }{Free disposal hull (this will override \code{rts})}        | ^ checkRd: (-1) dm.mahalanobis.Rd:9: Lost braces      9 | \code{"mean" }{Mean of each column} \cr        | ^ checkRd: (-1) dm.mahalanobis.Rd:10: Lost braces     10 | \code{"median" }{Median of each column (default)}        | ^ checkRd: (-1) dm.network.dea.Rd:14: Lost braces     14 | \code{"crs" }{Constant RTS (default)} \cr        | ^ checkRd: (-1) dm.network.dea.Rd:15: Lost braces     15 | \code{"vrs" }{Variable RTS} \cr        | ^ checkRd: (-1) dm.network.dea.Rd:16: Lost braces     16 | \code{"irs" }{Increasing RTS} \cr        | ^ checkRd: (-1) dm.network.dea.Rd:17: Lost braces     17 | \code{"drs" }{Decreasing RTS}        | ^ checkRd: (-1) dm.network.dea.Rd:20: Lost braces     20 | \code{"i" }{Input-orientation (default)} \cr        | ^ checkRd: (-1) dm.network.dea.Rd:21: Lost braces     21 | \code{"o" }{Output-orientation}        | ^ checkRd: (-1) dm.network.dea.Rd:24: Lost braces     24 | \code{"nc" }{Decentralized model (Stackelberg game approach) (default)} \cr        | ^ checkRd: (-1) dm.network.dea.Rd:25: Lost braces     25 | \code{"co" }{Centralized model (cooperative game approach)}        | ^ checkRd: (-1) dm.network.dea.Rd:28: Lost braces     28 | \code{"1st" }{1st stage as the leader (default)} \cr        | ^ checkRd: (-1) dm.network.dea.Rd:29: Lost braces     29 | \code{"2nd" }{2nd stage as the leader}        | ^ checkRd: (-1) dm.sbm.Rd:11: Lost braces     11 | \code{"crs" }{Constant RTS (default)} \cr        | ^ checkRd: (-1) dm.sbm.Rd:12: Lost braces     12 | \code{"vrs" }{Variable RTS} \cr        | ^ checkRd: (-1) dm.sbm.Rd:13: Lost braces     13 | \code{"irs" }{Increasing RTS} \cr        | ^ checkRd: (-1) dm.sbm.Rd:14: Lost braces     14 | \code{"drs" }{Decreasing RTS}        | ^ checkRd: (-1) dm.sbm.Rd:17: Lost braces     17 | \code{"n" }{Non-orientation (default)} \cr        | ^ checkRd: (-1) dm.sbm.Rd:18: Lost braces     18 | \code{"i" }{Input-orientation} \cr        | ^ checkRd: (-1) dm.sbm.Rd:19: Lost braces     19 | \code{"o" }{Output-orientation}        | ^ checkRd: (-1) dm.sbm.Rd:23: Lost braces     23 | \code{"ssm" }{Slack-sum maximization (default)} \cr        | ^ checkRd: (-1) dm.sbm.Rd:24: Lost braces     24 | \code{"max" }{Date-sum maximization (only if \code{date} is defined)} \cr        | ^ checkRd: (-1) dm.sbm.Rd:25: Lost braces     25 | \code{"min" }{Date-sum minimization (only if \code{date} is defined)}        | ^ checkRd: (-1) dm.sbm.Rd:29: Lost braces     29 | \code{"convex" }{Convexity holds (default)} \cr        | ^ checkRd: (-1) dm.sbm.Rd:30: Lost braces     30 | \code{"fdh" }{Free disposal hull (this will override \code{rts})}        | ^ checkRd: (-1) dm.sf.Rd:11: Lost braces     11 | \code{"crs" }{Constant RTS (default)} \cr        | ^ checkRd: (-1) dm.sf.Rd:12: Lost braces     12 | \code{"vrs" }{Variable RTS} \cr        | ^ checkRd: (-1) dm.sf.Rd:13: Lost braces     13 | \code{"irs" }{Increasing RTS} \cr        | ^ checkRd: (-1) dm.sf.Rd:14: Lost braces     14 | \code{"drs" }{Decreasing RTS}        | ^ checkRd: (-1) dm.sf.Rd:21: Lost braces     21 | \code{"ssm" }{Slack-sum maximization (default)} \cr        | ^ checkRd: (-1) dm.sf.Rd:22: Lost braces     22 | \code{"max" }{Date-sum maximization (only if \code{date} is defined)} \cr        | ^ checkRd: (-1) dm.sf.Rd:23: Lost braces     23 | \code{"min" }{Date-sum minimization (only if \code{date} is defined)}        | ^ checkRd: (-1) dm.sf.Rd:27: Lost braces     27 | \code{"convex" }{Convexity holds (default)} \cr        | ^ checkRd: (-1) dm.sf.Rd:28: Lost braces     28 | \code{"fdh" }{Free disposal hull (this will override \code{rts})}        | ^ checkRd: (-1) map.corr.Rd:9: Lost braces      9 | \code{"mean" }{Mean of each column} \cr        | ^ checkRd: (-1) map.corr.Rd:10: Lost braces     10 | \code{"median" }{Median of each column (default)}        | ^ checkRd: (-1) map.soa.ddf.Rd:12: Lost braces     12 | \code{"crs" }{Constant RTS (default)} \cr        | ^ checkRd: (-1) map.soa.ddf.Rd:13: Lost braces     13 | \code{"vrs" }{Variable RTS} \cr        | ^ checkRd: (-1) map.soa.ddf.Rd:14: Lost braces     14 | \code{"irs" }{Increasing RTS} \cr        | ^ checkRd: (-1) map.soa.ddf.Rd:15: Lost braces     15 | \code{"drs" }{Decreasing RTS}        | ^ checkRd: (-1) map.soa.ddf.Rd:21: Lost braces     21 | \code{"ssm" }{Slack-sum maximization (default)} \cr        | ^ checkRd: (-1) map.soa.ddf.Rd:22: Lost braces     22 | \code{"max" }{Date-sum maximization (only if \code{date} is defined)} \cr        | ^ checkRd: (-1) map.soa.ddf.Rd:23: Lost braces     23 | \code{"min" }{Date-sum minimization (only if \code{date} is defined)}        | ^ checkRd: (-1) map.soa.ddf.Rd:26: Lost braces     26 | \code{"convex" }{Convexity holds (default)} \cr        | ^ checkRd: (-1) map.soa.ddf.Rd:27: Lost braces     27 | \code{"fdh" }{Free disposal hull (this will override \code{rts})}        | ^ checkRd: (-1) map.soa.ddf.Rd:30: Lost braces     30 | \code{"dmu" }{DMU index (default)} \cr        | ^ checkRd: (-1) map.soa.ddf.Rd:31: Lost braces     31 | \code{"eff" }{Efficiency score }        | ^ checkRd: (-1) map.soa.dea.Rd:12: Lost braces     12 | \code{"crs" }{Constant RTS (default)} \cr        | ^ checkRd: (-1) map.soa.dea.Rd:13: Lost braces     13 | \code{"vrs" }{Variable RTS} \cr        | ^ checkRd: (-1) map.soa.dea.Rd:14: Lost braces     14 | \code{"irs" }{Increasing RTS} \cr        | ^ checkRd: (-1) map.soa.dea.Rd:15: Lost braces     15 | \code{"drs" }{Decreasing RTS}        | ^ checkRd: (-1) map.soa.dea.Rd:18: Lost braces     18 | \code{"i" }{Input-orientation} \cr        | ^ checkRd: (-1) map.soa.dea.Rd:19: Lost braces     19 | \code{"o" }{Output-orientation}        | ^ checkRd: (-1) map.soa.dea.Rd:22: Lost braces     22 | \code{"ssm" }{Slack-sum maximization (default)} \cr        | ^ checkRd: (-1) map.soa.dea.Rd:23: Lost braces     23 | \code{"max" }{Date-sum maximization (only if \code{date} is defined)} \cr        | ^ checkRd: (-1) map.soa.dea.Rd:24: Lost braces     24 | \code{"min" }{Date-sum minimization (only if \code{date} is defined)}        | ^ checkRd: (-1) map.soa.dea.Rd:29: Lost braces     29 | \code{"convex" }{Convexity holds (default)} \cr        | ^ checkRd: (-1) map.soa.dea.Rd:30: Lost braces     30 | \code{"fdh" }{Free disposal hull (this will override \code{rts})}        | ^ checkRd: (-1) map.soa.dea.Rd:33: Lost braces     33 | \code{"dmu" }{DMU index (default)} \cr        | ^ checkRd: (-1) map.soa.dea.Rd:34: Lost braces     34 | \code{"eff" }{Efficiency score }        | ^ checkRd: (-1) map.soa.hdf.Rd:12: Lost braces     12 | \code{"crs" }{Constant RTS (default)} \cr        | ^ checkRd: (-1) map.soa.hdf.Rd:13: Lost braces     13 | \code{"vrs" }{Variable RTS} \cr        | ^ checkRd: (-1) map.soa.hdf.Rd:14: Lost braces     14 | \code{"irs" }{Increasing RTS} \cr        | ^ checkRd: (-1) map.soa.hdf.Rd:15: Lost braces     15 | \code{"drs" }{Decreasing RTS}        | ^ checkRd: (-1) map.soa.hdf.Rd:19: Lost braces     19 | \code{"ssm" }{Slack-sum maximization (default)} \cr        | ^ checkRd: (-1) map.soa.hdf.Rd:20: Lost braces     20 | \code{"max" }{Date-sum maximization (only if \code{date} is defined)} \cr        | ^ checkRd: (-1) map.soa.hdf.Rd:21: Lost braces     21 | \code{"min" }{Date-sum minimization (only if \code{date} is defined)}        | ^ checkRd: (-1) map.soa.hdf.Rd:24: Lost braces     24 | \code{"convex" }{Convexity holds (default)} \cr        | ^ checkRd: (-1) map.soa.hdf.Rd:25: Lost braces     25 | \code{"fdh" }{Free disposal hull (this will override \code{rts})}        | ^ checkRd: (-1) map.soa.hdf.Rd:28: Lost braces     28 | \code{"dmu" }{DMU index (default)} \cr        | ^ checkRd: (-1) map.soa.hdf.Rd:29: Lost braces     29 | \code{"eff" }{Efficiency score }        | ^ checkRd: (-1) map.soa.sbm.Rd:12: Lost braces     12 | \code{"crs" }{Constant RTS (default)} \cr        | ^ checkRd: (-1) map.soa.sbm.Rd:13: Lost braces     13 | \code{"vrs" }{Variable RTS} \cr        | ^ checkRd: (-1) map.soa.sbm.Rd:14: Lost braces     14 | \code{"irs" }{Increasing RTS} \cr        | ^ checkRd: (-1) map.soa.sbm.Rd:15: Lost braces     15 | \code{"drs" }{Decreasing RTS}        | ^ checkRd: (-1) map.soa.sbm.Rd:18: Lost braces     18 | \code{"n" }{Non-orientation (default)} \cr        | ^ checkRd: (-1) map.soa.sbm.Rd:19: Lost braces     19 | \code{"i" }{Input-orientation} \cr        | ^ checkRd: (-1) map.soa.sbm.Rd:20: Lost braces     20 | \code{"o" }{Output-orientation}        | ^ checkRd: (-1) map.soa.sbm.Rd:23: Lost braces     23 | \code{"ssm" }{Slack-sum maximization (default)} \cr        | ^ checkRd: (-1) map.soa.sbm.Rd:24: Lost braces     24 | \code{"max" }{Date-sum maximization (only if \code{date} is defined)} \cr        | ^ checkRd: (-1) map.soa.sbm.Rd:25: Lost braces     25 | \code{"min" }{Date-sum minimization (only if \code{date} is defined)}        | ^ checkRd: (-1) map.soa.sbm.Rd:28: Lost braces     28 | \code{"convex" }{Convexity holds (default)} \cr        | ^ checkRd: (-1) map.soa.sbm.Rd:29: Lost braces     29 | \code{"fdh" }{Free disposal hull (this will override \code{rts})}        | ^ checkRd: (-1) map.soa.sbm.Rd:32: Lost braces     32 | \code{"dmu" }{DMU index (default)} \cr        | ^ checkRd: (-1) map.soa.sbm.Rd:33: Lost braces     33 | \code{"eff" }{Efficiency score }        | ^ checkRd: (-1) map.soa.sf.Rd:12: Lost braces     12 | \code{"crs" }{Constant RTS (default)} \cr        | ^ checkRd: (-1) map.soa.sf.Rd:13: Lost braces     13 | \code{"vrs" }{Variable RTS} \cr        | ^ checkRd: (-1) map.soa.sf.Rd:14: Lost braces     14 | \code{"irs" }{Increasing RTS} \cr        | ^ checkRd: (-1) map.soa.sf.Rd:15: Lost braces     15 | \code{"drs" }{Decreasing RTS}        | ^ checkRd: (-1) map.soa.sf.Rd:21: Lost braces     21 | \code{"ssm" }{Slack-sum maximization (default)} \cr        | ^ checkRd: (-1) map.soa.sf.Rd:22: Lost braces     22 | \code{"max" }{Date-sum maximization (only if \code{date} is defined)} \cr        | ^ checkRd: (-1) map.soa.sf.Rd:23: Lost braces     23 | \code{"min" }{Date-sum minimization (only if \code{date} is defined)}        | ^ checkRd: (-1) map.soa.sf.Rd:26: Lost braces     26 | \code{"convex" }{Convexity holds (default)} \cr        | ^ checkRd: (-1) map.soa.sf.Rd:27: Lost braces     27 | \code{"fdh" }{Free disposal hull (this will override \code{rts})}        | ^ checkRd: (-1) map.soa.sf.Rd:30: Lost braces     30 | \code{"dmu" }{DMU index (default)} \cr        | ^ checkRd: (-1) map.soa.sf.Rd:31: Lost braces     31 | \code{"eff" }{Efficiency score }        | ^ checkRd: (-1) roc.dea.Rd:13: Lost braces     13 | \code{"crs" }{Constant RTS (default)} \cr        | ^ checkRd: (-1) roc.dea.Rd:14: Lost braces     14 | \code{"vrs" }{Variable RTS} \cr        | ^ checkRd: (-1) roc.dea.Rd:15: Lost braces     15 | \code{"irs" }{Increasing RTS} \cr        | ^ checkRd: (-1) roc.dea.Rd:16: Lost braces     16 | \code{"drs" }{Decreasing RTS}        | ^ checkRd: (-1) roc.dea.Rd:19: Lost braces     19 | \code{"i" }{Input-orientation} \cr        | ^ checkRd: (-1) roc.dea.Rd:20: Lost braces     20 | \code{"o" }{Output-orientation}        | ^ checkRd: (-1) roc.dea.Rd:23: Lost braces     23 | \code{"ssm" }{Slack-sum maximization (default)} \cr        | ^ checkRd: (-1) roc.dea.Rd:24: Lost braces     24 | \code{"max" }{Date-sum maximization} \cr        | ^ checkRd: (-1) roc.dea.Rd:25: Lost braces     25 | \code{"min" }{Date-sum minimization}        | ^ checkRd: (-1) roc.dea.Rd:28: Lost braces     28 | \code{"d" }{Dynamic frontier (default)} \cr        | ^ checkRd: (-1) roc.dea.Rd:29: Lost braces     29 | \code{"s" }{Static frontier}        | ^ checkRd: (-1) roc.dea.Rd:34: Lost braces     34 | \code{"convex" }{Convexity holds (default)} \cr        | ^ checkRd: (-1) roc.dea.Rd:35: Lost braces     35 | \code{"fdh" }{Free disposal hull (this will override \code{rts})}        | ^ checkRd: (-1) roc.hdf.Rd:13: Lost braces     13 | \code{"crs" }{Constant RTS (default)} \cr        | ^ checkRd: (-1) roc.hdf.Rd:14: Lost braces     14 | \code{"vrs" }{Variable RTS} \cr        | ^ checkRd: (-1) roc.hdf.Rd:15: Lost braces     15 | \code{"irs" }{Increasing RTS} \cr        | ^ checkRd: (-1) roc.hdf.Rd:16: Lost braces     16 | \code{"drs" }{Decreasing RTS}        | ^ checkRd: (-1) roc.hdf.Rd:20: Lost braces     20 | \code{"ssm" }{Slack-sum maximization (default)} \cr        | ^ checkRd: (-1) roc.hdf.Rd:21: Lost braces     21 | \code{"max" }{Date-sum maximization} \cr        | ^ checkRd: (-1) roc.hdf.Rd:22: Lost braces     22 | \code{"min" }{Date-sum minimization}        | ^ checkRd: (-1) roc.hdf.Rd:25: Lost braces     25 | \code{"d" }{Dynamic frontier (default)} \cr        | ^ checkRd: (-1) roc.hdf.Rd:26: Lost braces     26 | \code{"s" }{Static frontier}        | ^ checkRd: (-1) roc.hdf.Rd:29: Lost braces     29 | \code{"convex" }{Convexity holds (default)} \cr        | ^ checkRd: (-1) roc.hdf.Rd:30: Lost braces     30 | \code{"fdh" }{Free disposal hull (this will override \code{rts})}        | ^ checkRd: (-1) roc.malmquist.Rd:12: Lost braces     12 | \code{"dea" }{Data Envelopment Analysis (default)} \cr        | ^ checkRd: (-1) roc.malmquist.Rd:13: Lost braces     13 | \code{"sbm" }{Slack Based Model} \cr        | ^ checkRd: (-1) roc.malmquist.Rd:14: Lost braces     14 | \code{"ddf" }{Directional Distance Function} \cr        | ^ checkRd: (-1) roc.malmquist.Rd:15: Lost braces     15 | \code{"hdf" }{Hyperbolic Distance Function} \cr        | ^ checkRd: (-1) roc.malmquist.Rd:16: Lost braces     16 | \code{"sf" }{Shortage Function}        | ^ checkRd: (-1) roc.malmquist.Rd:19: Lost braces     19 | \code{"crs" }{Constant RTS (default)} \cr        | ^ checkRd: (-1) roc.malmquist.Rd:20: Lost braces     20 | \code{"vrs" }{Variable RTS} \cr        | ^ checkRd: (-1) roc.malmquist.Rd:21: Lost braces     21 | \code{"irs" }{Increasing RTS} \cr        | ^ checkRd: (-1) roc.malmquist.Rd:22: Lost braces     22 | \code{"drs" }{Decreasing RTS}        | ^ checkRd: (-1) roc.malmquist.Rd:25: Lost braces     25 | \code{"n" }{Non-orientation (default)} \cr        | ^ checkRd: (-1) roc.malmquist.Rd:26: Lost braces     26 | \code{"i" }{Input-orientation} \cr        | ^ checkRd: (-1) roc.malmquist.Rd:27: Lost braces     27 | \code{"o" }{Output-orientation}        | ^ checkRd: (-1) roc.malmquist.Rd:35: Lost braces     35 | \code{"convex" }{Convexity holds (default)} \cr        | ^ checkRd: (-1) roc.malmquist.Rd:36: Lost braces     36 | \code{"fdh" }{Free disposal hull (this will override \code{rts})}        | ^ checkRd: (-1) roc.sf.Rd:13: Lost braces     13 | \code{"crs" }{Constant RTS (default)} \cr        | ^ checkRd: (-1) roc.sf.Rd:14: Lost braces     14 | \code{"vrs" }{Variable RTS} \cr        | ^ checkRd: (-1) roc.sf.Rd:15: Lost braces     15 | \code{"irs" }{Increasing RTS} \cr        | ^ checkRd: (-1) roc.sf.Rd:16: Lost braces     16 | \code{"drs" }{Decreasing RTS}        | ^ checkRd: (-1) roc.sf.Rd:22: Lost braces     22 | \code{"ssm" }{Slack-sum maximization (default)} \cr        | ^ checkRd: (-1) roc.sf.Rd:23: Lost braces     23 | \code{"max" }{Date-sum maximization} \cr        | ^ checkRd: (-1) roc.sf.Rd:24: Lost braces     24 | \code{"min" }{Date-sum minimization}        | ^ checkRd: (-1) roc.sf.Rd:27: Lost braces     27 | \code{"d" }{Dynamic frontier (default)} \cr        | ^ checkRd: (-1) roc.sf.Rd:28: Lost braces     28 | \code{"s" }{Static frontier}        | ^ checkRd: (-1) roc.sf.Rd:31: Lost braces     31 | \code{"convex" }{Convexity holds (default)} \cr        | ^ checkRd: (-1) roc.sf.Rd:32: Lost braces     32 | \code{"fdh" }{Free disposal hull (this will override \code{rts})}        | ^ checkRd: (-1) target.arrival.dea.Rd:13: Lost braces     13 | \code{"crs" }{Constant RTS (default)} \cr        | ^ checkRd: (-1) target.arrival.dea.Rd:14: Lost braces     14 | \code{"vrs" }{Variable RTS} \cr        | ^ checkRd: (-1) target.arrival.dea.Rd:15: Lost braces     15 | \code{"irs" }{Increasing RTS} \cr        | ^ checkRd: (-1) target.arrival.dea.Rd:16: Lost braces     16 | \code{"drs" }{Decreasing RTS}        | ^ checkRd: (-1) target.arrival.dea.Rd:19: Lost braces     19 | \code{"i" }{Input-orientation} \cr        | ^ checkRd: (-1) target.arrival.dea.Rd:20: Lost braces     20 | \code{"o" }{Output-orientation}        | ^ checkRd: (-1) target.arrival.dea.Rd:23: Lost braces     23 | \code{"ssm" }{Slack-sum maximization (default)} \cr        | ^ checkRd: (-1) target.arrival.dea.Rd:24: Lost braces     24 | \code{"max" }{Date-sum maximization} \cr        | ^ checkRd: (-1) target.arrival.dea.Rd:25: Lost braces     25 | \code{"min" }{Date-sum minimization}        | ^ checkRd: (-1) target.arrival.dea.Rd:28: Lost braces     28 | \code{"d" }{Dynamic frontier (default)} \cr        | ^ checkRd: (-1) target.arrival.dea.Rd:29: Lost braces     29 | \code{"s" }{Static frontier}        | ^ checkRd: (-1) target.arrival.dea.Rd:34: Lost braces     34 | \code{"convex" }{Convexity holds (default)} \cr        | ^ checkRd: (-1) target.arrival.dea.Rd:35: Lost braces     35 | \code{"fdh" }{Free disposal hull (this will override \code{rts})}        | ^ checkRd: (-1) target.arrival.hdf.Rd:13: Lost braces     13 | \code{"crs" }{Constant RTS (default)} \cr        | ^ checkRd: (-1) target.arrival.hdf.Rd:14: Lost braces     14 | \code{"vrs" }{Variable RTS} \cr        | ^ checkRd: (-1) target.arrival.hdf.Rd:15: Lost braces     15 | \code{"irs" }{Increasing RTS} \cr        | ^ checkRd: (-1) target.arrival.hdf.Rd:16: Lost braces     16 | \code{"drs" }{Decreasing RTS}        | ^ checkRd: (-1) target.arrival.hdf.Rd:20: Lost braces     20 | \code{"ssm" }{Slack-sum maximization (default)} \cr        | ^ checkRd: (-1) target.arrival.hdf.Rd:21: Lost braces     21 | \code{"max" }{Date-sum maximization} \cr        | ^ checkRd: (-1) target.arrival.hdf.Rd:22: Lost braces     22 | \code{"min" }{Date-sum minimization}        | ^ checkRd: (-1) target.arrival.hdf.Rd:25: Lost braces     25 | \code{"d" }{Dynamic frontier (default)} \cr        | ^ checkRd: (-1) target.arrival.hdf.Rd:26: Lost braces     26 | \code{"s" }{Static frontier}        | ^ checkRd: (-1) target.arrival.hdf.Rd:29: Lost braces     29 | \code{"convex" }{Convexity holds (default)} \cr        | ^ checkRd: (-1) target.arrival.hdf.Rd:30: Lost braces     30 | \code{"fdh" }{Free disposal hull (this will override \code{rts})}        | ^ checkRd: (-1) target.arrival.sf.Rd:13: Lost braces     13 | \code{"crs" }{Constant RTS (default)} \cr        | ^ checkRd: (-1) target.arrival.sf.Rd:14: Lost braces     14 | \code{"vrs" }{Variable RTS} \cr        | ^ checkRd: (-1) target.arrival.sf.Rd:15: Lost braces     15 | \code{"irs" }{Increasing RTS} \cr        | ^ checkRd: (-1) target.arrival.sf.Rd:16: Lost braces     16 | \code{"drs" }{Decreasing RTS}        | ^ checkRd: (-1) target.arrival.sf.Rd:22: Lost braces     22 | \code{"ssm" }{Slack-sum maximization (default)} \cr        | ^ checkRd: (-1) target.arrival.sf.Rd:23: Lost braces     23 | \code{"max" }{Date-sum maximization} \cr        | ^ checkRd: (-1) target.arrival.sf.Rd:24: Lost braces     24 | \code{"min" }{Date-sum minimization}        | ^ checkRd: (-1) target.arrival.sf.Rd:27: Lost braces     27 | \code{"d" }{Dynamic frontier (default)} \cr        | ^ checkRd: (-1) target.arrival.sf.Rd:28: Lost braces     28 | \code{"s" }{Static frontier}        | ^ checkRd: (-1) target.arrival.sf.Rd:31: Lost braces     31 | \code{"convex" }{Convexity holds (default)} \cr        | ^ checkRd: (-1) target.arrival.sf.Rd:32: Lost braces     32 | \code{"fdh" }{Free disposal hull (this will override \code{rts})}        | ^ checkRd: (-1) target.spec.dea.Rd:20: Lost braces     20 | \code{"crs" }{Constant RTS (default)} \cr        | ^ checkRd: (-1) target.spec.dea.Rd:21: Lost braces     21 | \code{"vrs" }{Variable RTS} \cr        | ^ checkRd: (-1) target.spec.dea.Rd:22: Lost braces     22 | \code{"irs" }{Increasing RTS} \cr        | ^ checkRd: (-1) target.spec.dea.Rd:23: Lost braces     23 | \code{"drs" }{Decreasing RTS}        | ^ checkRd: (-1) target.spec.dea.Rd:26: Lost braces     26 | \code{"ssm" }{Slack-sum maximization (default)} \cr        | ^ checkRd: (-1) target.spec.dea.Rd:27: Lost braces     27 | \code{"max" }{Date-sum maximization} \cr        | ^ checkRd: (-1) target.spec.dea.Rd:28: Lost braces     28 | \code{"min" }{Date-sum minimization}        | ^ checkRd: (-1) target.spec.dea.Rd:31: Lost braces     31 | \code{"d" }{Dynamic frontier (default)} \cr        | ^ checkRd: (-1) target.spec.dea.Rd:32: Lost braces     32 | \code{"s" }{Static frontier}        | ^ checkRd: (-1) target.spec.dea.Rd:37: Lost braces     37 | \code{"convex" }{Convexity holds (default)} \cr        | ^ checkRd: (-1) target.spec.dea.Rd:38: Lost braces     38 | \code{"fdh" }{Free disposal hull (this will override \code{rts})}        | ^
  • checking Rd metadata ... OK
  • checking Rd cross-references ... OK
  • checking for missing documentation entries ... OK
  • checking for code/documentation mismatches ... OK
  • checking Rd \usage sections ... OK
  • checking Rd contents ... OK
  • checking for unstated dependencies in examples ... OK
  • checking contents of ‘data’ directory ... OK
  • checking data for non-ASCII characters ... [0s/0s] OK
  • checking LazyData ... OK
  • checking data for ASCII and uncompressed saves ... OK
  • checking examples ... [14s/15s] OK
  • checking PDF version of manual ... [7s/7s] OK
  • DONE Status: 1 NOTE
  • using check arguments '--no-clean-on-error '