- using R version 4.2.0 (2022-04-22)
- using platform: x86_64-apple-darwin17.0 (64-bit)
- using session charset: UTF-8
- checking for file ‘CensRegMod/DESCRIPTION’ ... OK
- checking extension type ... Package
- this is package ‘CensRegMod’ version ‘1.0’
- checking package namespace information ... OK
- checking package dependencies ... OK
- checking if this is a source package ... OK
- checking if there is a namespace ... OK
- checking for executable files ... OK
- checking for hidden files and directories ... OK
- checking for portable file names ... OK
- checking for sufficient/correct file permissions ... OK
- checking whether package ‘CensRegMod’ can be installed ... [2s/2s] OK
- checking installed package size ... OK
- checking package directory ... OK
- checking DESCRIPTION meta-information ... NOTE
Malformed Description field: should contain one or more complete sentences.
- checking top-level files ... OK
- checking for left-over files ... OK
- checking index information ... OK
- checking package subdirectories ... OK
- checking R files for non-ASCII characters ... OK
- checking R files for syntax errors ... OK
- checking whether the package can be loaded ... OK
- checking whether the package can be loaded with stated dependencies ... OK
- checking whether the package can be unloaded cleanly ... OK
- checking whether the namespace can be loaded with stated dependencies ... OK
- checking whether the namespace can be unloaded cleanly ... OK
- checking loading without being on the library search path ... OK
- checking dependencies in R code ... OK
- checking S3 generic/method consistency ... OK
- checking replacement functions ... OK
- checking foreign function calls ... OK
- checking R code for possible problems ... [2s/2s] NOTE
MomNIT: no visible global function definition for ‘dnorm’
MomNIT: no visible global function definition for ‘pnorm’
cdfNI: no visible global function definition for ‘pnorm’
cdfNI: no visible global function definition for ‘pt’
em.cens: no visible global function definition for ‘lm’
em.cens: no visible global function definition for ‘coefficients’
em.cens : ft: no visible global function definition for ‘dt’
em.cens : ft: no visible global function definition for ‘pt’
em.cens: no visible global function definition for ‘optimize’
em.cens: no visible global function definition for ‘dnorm’
em.cens: no visible global function definition for ‘pnorm’
em.cens: no visible global function definition for ‘sd’
Undefined global functions or variables:
coefficients dnorm dt lm optimize pnorm pt sd
Consider adding
importFrom("stats", "coefficients", "dnorm", "dt", "lm", "optimize",
"pnorm", "pt", "sd")
to your NAMESPACE file.
- checking Rd files ... [0s/0s] OK
- checking Rd metadata ... OK
- checking Rd cross-references ... OK
- checking for missing documentation entries ... OK
- checking for code/documentation mismatches ... OK
- checking Rd \usage sections ... OK
- checking Rd contents ... OK
- checking for unstated dependencies in examples ... OK
- checking contents of ‘data’ directory ... OK
- checking data for non-ASCII characters ... OK
- checking data for ASCII and uncompressed saves ... OK
- checking examples ... [1s/1s] OK
- checking PDF version of manual ... OK
- DONE
Status: 2 NOTEs
- using check arguments '--no-clean-on-error '