• using R version 4.1.0 (2021-05-18)
  • using platform: aarch64-apple-darwin20 (64-bit)
  • using session charset: UTF-8
  • checking for file ‘timesboot/DESCRIPTION’ ... OK
  • checking extension type ... Package
  • this is package ‘timesboot’ version ‘1.0’
  • checking package namespace information ... OK
  • checking package dependencies ... OK
  • checking if this is a source package ... OK
  • checking if there is a namespace ... OK
  • checking for executable files ... OK
  • checking for hidden files and directories ... OK
  • checking for portable file names ... OK
  • checking for sufficient/correct file permissions ... OK
  • checking whether package ‘timesboot’ can be installed ... [1s/1s] OK
  • checking installed package size ... OK
  • checking package directory ... OK
  • checking DESCRIPTION meta-information ... NOTE
    Malformed Description field: should contain one or more complete sentences.
  • checking top-level files ... OK
  • checking for left-over files ... OK
  • checking index information ... OK
  • checking package subdirectories ... OK
  • checking R files for non-ASCII characters ... OK
  • checking R files for syntax errors ... OK
  • checking whether the package can be loaded ... OK
  • checking whether the package can be loaded with stated dependencies ... OK
  • checking whether the package can be unloaded cleanly ... OK
  • checking whether the namespace can be loaded with stated dependencies ... OK
  • checking whether the namespace can be unloaded cleanly ... OK
  • checking loading without being on the library search path ... OK
  • checking dependencies in R code ... NOTE
    'library' or 'require' call to ‘boot’ which was already attached by Depends.
      Please remove these calls from your code.
    Package in Depends field not imported from: ‘boot’
      These packages need to be imported from (in the NAMESPACE file)
      for when this namespace is loaded but not attached.
  • checking S3 generic/method consistency ... OK
  • checking replacement functions ... OK
  • checking foreign function calls ... OK
  • checking R code for possible problems ... [1s/1s] NOTE
    boot_autocov: no visible global function definition for ‘is.ts’
    boot_autocov: no visible global function definition for ‘tsboot’
    boot_autocov: no visible global function definition for ‘quantile’
    boot_autocov: no visible global function definition for ‘par’
    boot_autocov: no visible global function definition for ‘frequency’
    boot_autocov: no visible global function definition for ‘polygon’
    boot_autocov: no visible global function definition for ‘lines’
    boot_autocov: no visible global function definition for ‘abline’
    boot_autocov: no visible global function definition for ‘acf’
    boot_spec: no visible global function definition for ‘is.ts’
    boot_spec: no visible global function definition for ‘tsboot’
    boot_spec: no visible global function definition for ‘spec.pgram’
    boot_spec: no visible global function definition for ‘quantile’
    boot_spec: no visible global function definition for ‘polygon’
    boot_spec: no visible global function definition for ‘lines’
    redraw: no visible global function definition for ‘spec.pgram’
    statistic: no visible global function definition for ‘acf’
    Undefined global functions or variables:
      abline acf frequency is.ts lines par polygon quantile spec.pgram
      tsboot
    Consider adding
      importFrom("graphics", "abline", "lines", "par", "polygon")
      importFrom("stats", "acf", "frequency", "is.ts", "quantile",
                 "spec.pgram")
    to your NAMESPACE file.
  • checking Rd files ... [0s/0s] OK
  • checking Rd metadata ... OK
  • checking Rd cross-references ... OK
  • checking for missing documentation entries ... OK
  • checking for code/documentation mismatches ... OK
  • checking Rd \usage sections ... OK
  • checking Rd contents ... OK
  • checking for unstated dependencies in examples ... OK
  • checking examples ... [1s/1s] OK
  • checking PDF version of manual ... OK
  • DONE
    Status: 3 NOTEs