• using R version 4.2.3 (2023-03-15)
  • using platform: aarch64-apple-darwin20 (64-bit)
  • using session charset: UTF-8
  • checking for file ‘tidyfit/DESCRIPTION’ ... OK
  • checking extension type ... Package
  • this is package ‘tidyfit’ version ‘0.6.5’
  • package encoding: UTF-8
  • checking package namespace information ... OK
  • checking package dependencies ... OK
  • checking if this is a source package ... OK
  • checking if there is a namespace ... OK
  • checking for executable files ... OK
  • checking for hidden files and directories ... OK
  • checking for portable file names ... OK
  • checking for sufficient/correct file permissions ... OK
  • checking whether package ‘tidyfit’ can be installed ... [4s/5s] OK See the install log for details.
  • checking installed package size ... OK
  • checking package directory ... OK
  • checking ‘build’ directory ... OK
  • checking DESCRIPTION meta-information ... OK
  • checking top-level files ... OK
  • checking for left-over files ... OK
  • checking index information ... OK
  • checking package subdirectories ... OK
  • checking R files for non-ASCII characters ... OK
  • checking R files for syntax errors ... OK
  • checking whether the package can be loaded ... OK
  • checking whether the package can be loaded with stated dependencies ... OK
  • checking whether the package can be unloaded cleanly ... OK
  • checking whether the namespace can be loaded with stated dependencies ... OK
  • checking whether the namespace can be unloaded cleanly ... OK
  • checking loading without being on the library search path ... OK
  • checking dependencies in R code ... OK
  • checking S3 generic/method consistency ... OK
  • checking replacement functions ... OK
  • checking foreign function calls ... OK
  • checking R code for possible problems ... [4s/4s] OK
  • checking Rd files ... [0s/0s] OK
  • checking Rd metadata ... OK
  • checking Rd cross-references ... OK
  • checking for missing documentation entries ... OK
  • checking for code/documentation mismatches ... OK
  • checking Rd \usage sections ... OK
  • checking Rd contents ... OK
  • checking for unstated dependencies in examples ... OK
  • checking contents of ‘data’ directory ... OK
  • checking data for non-ASCII characters ... OK
  • checking LazyData ... OK
  • checking data for ASCII and uncompressed saves ... OK
  • checking installed files from ‘inst/doc’ ... OK
  • checking files in ‘vignettes’ ... OK
  • checking examples ... [37s/39s] OK
  • checking for unstated dependencies in ‘tests’ ... OK
  • checking tests ... [24s/26s] OK   Running ‘testthat.R’ [24s/25s]
  • checking for unstated dependencies in vignettes ... OK
  • checking package vignettes in ‘inst/doc’ ... OK
  • checking running R code from vignettes ... [2s/2s] NONE   ‘Accessing_Fitted_Model_Objects.Rmd’ using ‘UTF-8’... [0s/0s] OK   ‘Flowchart.Rmd’ using ‘UTF-8’... [0s/0s] OK   ‘Predicting_Boston_House_Prices.Rmd’ using ‘UTF-8’... [0s/0s] OK   ‘Bootstrapping_Confidence_Intervals.Rmd’ using ‘UTF-8’... [0s/0s] OK   ‘Feature_Selection.Rmd’ using ‘UTF-8’... [0s/0s] OK   ‘Multinomial_Classification.Rmd’ using ‘UTF-8’... [0s/0s] OK   ‘Rolling_Window_Time_Series_Regression.Rmd’ using ‘UTF-8’... [0s/0s] OK   ‘Time-varying_parameters_vs_rolling_windows.Rmd’ using ‘UTF-8’... [0s/0s] OK
  • checking re-building of vignette outputs ... [37s/42s] OK
  • checking PDF version of manual ... OK
  • DONE Status: OK
  • using check arguments '--no-clean-on-error '