• using R version 4.4.0 alpha (2024-03-31 r86238)
  • using platform: aarch64-apple-darwin20
  • R was compiled by     Apple clang version 14.0.0 (clang-1400.0.29.202)     GNU Fortran (GCC) 12.2.0
  • running under: macOS Ventura 13.4
  • using session charset: UTF-8
  • checking for file ‘staRdom/DESCRIPTION’ ... OK
  • checking extension type ... Package
  • this is package ‘staRdom’ version ‘1.1.28’
  • package encoding: UTF-8
  • checking package namespace information ... OK
  • checking package dependencies ... OK
  • checking if this is a source package ... OK
  • checking if there is a namespace ... OK
  • checking for executable files ... OK
  • checking for hidden files and directories ... OK
  • checking for portable file names ... OK
  • checking for sufficient/correct file permissions ... OK
  • checking whether package ‘staRdom’ can be installed ... [6s/7s] OK See the install log for details.
  • checking installed package size ... OK
  • checking package directory ... OK
  • checking ‘build’ directory ... OK
  • checking DESCRIPTION meta-information ... OK
  • checking top-level files ... OK
  • checking for left-over files ... OK
  • checking index information ... OK
  • checking package subdirectories ... OK
  • checking code files for non-ASCII characters ... OK
  • checking R files for syntax errors ... OK
  • checking whether the package can be loaded ... [2s/2s] OK
  • checking whether the package can be loaded with stated dependencies ... [1s/1s] OK
  • checking whether the package can be unloaded cleanly ... [1s/1s] OK
  • checking whether the namespace can be loaded with stated dependencies ... [1s/1s] OK
  • checking whether the namespace can be unloaded cleanly ... [1s/1s] OK
  • checking loading without being on the library search path ... [1s/2s] OK
  • checking dependencies in R code ... OK
  • checking S3 generic/method consistency ... OK
  • checking replacement functions ... OK
  • checking foreign function calls ... OK
  • checking R code for possible problems ... [5s/5s] OK
  • checking Rd files ... [0s/0s] NOTE checkRd: (-1) abs_parms.Rd:67: Lost braces; missing escapes or markup?     67 | \item $S_{275-295}$ slope between 275 and 295 nm calculated with nonlinear regression        | ^ checkRd: (-1) abs_parms.Rd:68: Lost braces; missing escapes or markup?     68 | \item $S_{350-400}$ slope between 350 and 400 nm calculated with nonlinear regression        | ^ checkRd: (-1) abs_parms.Rd:69: Lost braces; missing escapes or markup?     69 | \item $S_{300-700}$ slope between 275 and 295 nm calculated with nonlinear regression        | ^ checkRd: (-1) abs_parms.Rd:70: Lost braces; missing escapes or markup?     70 | \item SR slope ratio, calculated by $S_{275-295}$/$S_{350-400}$        | ^ checkRd: (-1) abs_parms.Rd:70: Lost braces; missing escapes or markup?     70 | \item SR slope ratio, calculated by $S_{275-295}$/$S_{350-400}$        | ^ checkRd: (-1) abs_parms.Rd:71: Lost braces; missing escapes or markup?     71 | \item E2:E3 ratio $a_{250}$/$a_{365}$        | ^ checkRd: (-1) abs_parms.Rd:71: Lost braces; missing escapes or markup?     71 | \item E2:E3 ratio $a_{250}$/$a_{365}$        | ^ checkRd: (-1) abs_parms.Rd:72: Lost braces; missing escapes or markup?     72 | \item E4:E6 ratio $a_{465}$/$a_{665}$        | ^ checkRd: (-1) abs_parms.Rd:72: Lost braces; missing escapes or markup?     72 | \item E4:E6 ratio $a_{465}$/$a_{665}$        | ^ checkRd: (-1) abs_parms.Rd:73: Lost braces; missing escapes or markup?     73 | \item $a_{254}$ absorbance at 254 nm        | ^ checkRd: (-1) abs_parms.Rd:74: Lost braces; missing escapes or markup?     74 | \item $a_{300}$ absorbance at 300 nm        | ^
  • checking Rd metadata ... OK
  • checking Rd cross-references ... OK
  • checking for missing documentation entries ... OK
  • checking for code/documentation mismatches ... OK
  • checking Rd \usage sections ... OK
  • checking Rd contents ... OK
  • checking for unstated dependencies in examples ... OK
  • checking contents of ‘data’ directory ... OK
  • checking data for non-ASCII characters ... [0s/0s] OK
  • checking LazyData ... OK
  • checking data for ASCII and uncompressed saves ... OK
  • checking installed files from ‘inst/doc’ ... OK
  • checking files in ‘vignettes’ ... OK
  • checking examples ... [11s/15s] OK
  • checking for unstated dependencies in vignettes ... OK
  • checking package vignettes ... OK
  • checking re-building of vignette outputs ... [38s/55s] OK
  • checking PDF version of manual ... [7s/7s] OK
  • DONE Status: 1 NOTE
  • using check arguments '--no-clean-on-error '