• using R version 4.1.1 Patched (2021-09-05 r80862)
  • using platform: aarch64-apple-darwin20 (64-bit)
  • using session charset: UTF-8
  • checking for file ‘sf/DESCRIPTION’ ... OK
  • this is package ‘sf’ version ‘1.0-9’
  • package encoding: UTF-8
  • checking package namespace information ... OK
  • checking package dependencies ... OK
  • checking if this is a source package ... OK
  • checking if there is a namespace ... OK
  • checking for executable files ... OK
  • checking for hidden files and directories ... OK
  • checking for portable file names ... OK
  • checking for sufficient/correct file permissions ... OK
  • checking whether package ‘sf’ can be installed ... [99s/108s] OK
  • checking installed package size ... NOTE
      installed size is 283.0Mb
      sub-directories of 1Mb or more:
        doc 1.7Mb
        libs 276.7Mb
        sqlite 1.5Mb
  • checking package directory ... OK
  • checking ‘build’ directory ... OK
  • checking DESCRIPTION meta-information ... OK
  • checking top-level files ... OK
  • checking for left-over files ... OK
  • checking index information ... OK
  • checking package subdirectories ... OK
  • checking R files for non-ASCII characters ... OK
  • checking R files for syntax errors ... OK
  • checking whether the package can be loaded ... OK
  • checking whether the package can be loaded with stated dependencies ... OK
  • checking whether the package can be unloaded cleanly ... OK
  • checking whether the namespace can be loaded with stated dependencies ... OK
  • checking whether the namespace can be unloaded cleanly ... OK
  • checking loading without being on the library search path ... OK
  • checking dependencies in R code ... OK
  • checking S3 generic/method consistency ... OK
  • checking replacement functions ... OK
  • checking foreign function calls ... OK
  • checking R code for possible problems ... [8s/9s] OK
  • checking Rd files ... [0s/0s] OK
  • checking Rd metadata ... OK
  • checking Rd cross-references ... OK
  • checking for missing documentation entries ... OK
  • checking for code/documentation mismatches ... OK
  • checking Rd \usage sections ... OK
  • checking Rd contents ... OK
  • checking for unstated dependencies in examples ... OK
  • checking line endings in shell scripts ... OK
  • checking line endings in C/C++/Fortran sources/headers ... OK
  • checking line endings in Makefiles ... OK
  • checking compilation flags in Makevars ... OK
  • checking for GNU extensions in Makefiles ... OK
  • checking for portable use of $(BLAS_LIBS) and $(LAPACK_LIBS) ... OK
  • checking use of PKG_*FLAGS in Makefiles ... OK
  • checking compiled code ... OK
  • checking installed files from ‘inst/doc’ ... OK
  • checking files in ‘vignettes’ ... OK
  • checking examples ... [10s/11s] OK
  • checking for unstated dependencies in ‘tests’ ... OK
  • checking tests ... [50s/65s] OK
      Running ‘aggregate.R’ [1s/1s]
      Comparing ‘aggregate.Rout’ to ‘aggregate.Rout.save’ ...4c4
    < Linking to GEOS 3.11.0, GDAL 3.5.3, PROJ 9.1.0; sf_use_s2() is TRUE
    ---
    > Linking to GEOS 3.10.2, GDAL 3.4.3, PROJ 8.2.0; sf_use_s2() is TRUE
      Running ‘cast.R’ [1s/1s]
      Comparing ‘cast.Rout’ to ‘cast.Rout.save’ ... OK
      Running ‘crs.R’ [1s/1s]
      Comparing ‘crs.Rout’ to ‘crs.Rout.save’ ... OK
      Running ‘dist.R’ [1s/1s]
      Comparing ‘dist.Rout’ to ‘dist.Rout.save’ ...69c69
    < -2.328306e-10 [m]
    ---
    > 0 [m]
      Running ‘dplyr.R’ [2s/2s]
      Comparing ‘dplyr.Rout’ to ‘dplyr.Rout.save’ ... OK
      Running ‘empty.R’ [1s/1s]
      Comparing ‘empty.Rout’ to ‘empty.Rout.save’ ... OK
      Running ‘gdal_geom.R’ [1s/1s]
      Comparing ‘gdal_geom.Rout’ to ‘gdal_geom.Rout.save’ ...244,248c244,248
    < [1,] 1760230516 0.114
    < [2,] 946417787 0.061
    < [3,] 2202223078 0.143
    < [4,] 1074332698 0.070
    < [5,] 2352528086 0.153
    ---
    > [1,] 1760244967 0.114
    > [2,] 946435667 0.061
    > [3,] 2202248253 0.143
    > [4,] 1074351919 0.070
    > [5,] 2352539533 0.153
    280c280
    < Bounding box: xmin: -39.65182 ymin: 10.91731 xmax: 21.97439 ymax: 61.16965
    ---
    > Bounding box: xmin: -39.65182 ymin: 10.93649 xmax: 21.97439 ymax: 61.16965
      Running ‘geos.R’ [12s/13s]
      Comparing ‘geos.Rout’ to ‘geos.Rout.save’ ...13,22c13,22
    < [1,] 0.00 0.00 25651.99 440561.48 299772.34 361529.73 419671.66
    < [2,] 0.00 0.00 0.00 409429.44 268945.05 332590.52 388545.58
    < [3,] 25651.99 0.00 0.00 367556.52 227018.38 290298.04 346669.14
    < [4,] 440561.48 409429.44 367556.52 0.00 67226.86 45537.62 0.00
    < [5,] 299772.34 268945.05 227018.38 67226.86 0.00 0.00 46527.56
    < [6,] 361529.73 332590.52 290298.04 45537.62 0.00 0.00 30213.17
    < [7,] 419671.66 388545.58 346669.14 0.00 46527.56 30213.17 0.00
    < [8,] 384593.29 354295.06 312351.76 16130.19 11926.86 0.00 0.00
    < [9,] 262353.97 231217.73 189310.73 140455.97 0.00 64606.27 119564.00
    < [10,] 71138.53 41943.71 0.00 330752.58 190183.42 252373.26 309863.33
    ---
    > [1,] 0.00 0.00 25652.53 440561.15 299772.18 361529.53 419671.2
    > [2,] 0.00 0.00 0.00 409428.54 268944.31 332589.77 388544.5
    > [3,] 25652.53 0.00 0.00 367555.48 227017.51 290297.10 346667.9
    > [4,] 440561.15 409428.54 367555.48 0.00 67226.86 45537.55 0.0
    > [5,] 299772.18 268944.31 227017.51 67226.86 0.00 0.00 46527.4
    > [6,] 361529.53 332589.77 290297.10 45537.55 0.00 0.00 30213.0
    > [7,] 419671.16 388544.52 346667.93 0.00 46527.40 30213.00 0.0
    > [8,] 384592.90 354294.11 312350.68 16130.34 11926.81 0.00 0.0
    > [9,] 262354.29 231217.49 189310.35 140455.87 0.00 64606.24 119563.7
    > [10,] 71139.29 41943.83 0.00 330751.39 190182.39 252372.06 309862.0
    24,33c24,33
    < [1,] 384593.29 262353.97 71138.53
    < [2,] 354295.06 231217.73 41943.71
    < [3,] 312351.76 189310.73 0.00
    < [4,] 16130.19 140455.97 330752.58
    < [5,] 11926.86 0.00 190183.42
    < [6,] 0.00 64606.27 252373.26
    < [7,] 0.00 119564.00 309863.33
    < [8,] 0.00 85533.33 275391.07
    < [9,] 85533.33 0.00 152489.45
    < [10,] 275391.07 152489.45 0.00
    ---
    > [1,] 384592.90 262354.29 71139.29
    > [2,] 354294.11 231217.49 41943.83
    > [3,] 312350.68 189310.35 0.00
    > [4,] 16130.34 140455.87 330751.39
    > [5,] 11926.81 0.00 190182.39
    > [6,] 0.00 64606.24 252372.06
    > [7,] 0.00 119563.73 309861.97
    > [8,] 0.00 85533.12 275389.78
    > [9,] 85533.12 0.00 152488.92
    > [10,] 275389.78 152488.92 0.00
    264,265c264
    < 1 2 3
    < 0 0 0
    ---
    > [1] 0 0 0
    273,274c272
    < 1 2 3
    < 144589.5 142873.3 287462.8
    ---
    > [1] 144589.5 142873.3 287462.8
      Running ‘graticule.R’ [1s/1s]
      Comparing ‘graticule.Rout’ to ‘graticule.Rout.save’ ... OK
      Running ‘grid.R’ [1s/1s]
      Comparing ‘grid.Rout’ to ‘grid.Rout.save’ ... OK
      Running ‘maps.R’ [1s/1s]
      Comparing ‘maps.Rout’ to ‘maps.Rout.save’ ... OK
      Running ‘plot.R’ [4s/5s]
      Comparing ‘plot.Rout’ to ‘plot.Rout.save’ ... OK
      Running ‘read.R’ [1s/1s]
      Comparing ‘read.Rout’ to ‘read.Rout.save’ ...47a48,84
    > Driver: OSM
    > Available layers:
    > layer_name geometry_type features fields crs_name
    > 1 points Point NA 10 WGS 84
    > 2 lines Line String NA 9 WGS 84
    > 3 multilinestrings Multi Line String NA 4 WGS 84
    > 4 multipolygons Multi Polygon NA 25 WGS 84
    > 5 other_relations Geometry Collection NA 4 WGS 84
    > Driver: OSM
    > Available layers:
    > layer_name geometry_type features fields crs_name
    > 1 points Point 0 10 WGS 84
    > 2 lines Line String 0 9 WGS 84
    > 3 multilinestrings Multi Line String 0 4 WGS 84
    > 4 multipolygons Multi Polygon 3 25 WGS 84
    > 5 other_relations Geometry Collection 0 4 WGS 84
    > Simple feature collection with 3 features and 25 fields
    > Geometry type: MULTIPOLYGON
    > Dimension: XY
    > Bounding box: xmin: -1.556254 ymin: 53.79519 xmax: -1.550716 ymax: 53.80341
    > Geodetic CRS: WGS 84
    > osm_id osm_way_id name type aeroway amenity admin_level barrier boundary
    > 1 <NA> 263958111 <NA> <NA> <NA> <NA> <NA> <NA> <NA>
    > 2 <NA> 301461256 <NA> <NA> <NA> <NA> <NA> <NA> <NA>
    > 3 <NA> 462227487 <NA> <NA> <NA> <NA> <NA> <NA> <NA>
    > building craft geological historic land_area landuse leisure man_made
    > 1 <NA> <NA> <NA> <NA> <NA> <NA> park <NA>
    > 2 <NA> <NA> <NA> <NA> <NA> <NA> park <NA>
    > 3 <NA> <NA> <NA> <NA> <NA> <NA> park <NA>
    > military natural office place shop sport tourism other_tags
    > 1 <NA> <NA> <NA> <NA> <NA> <NA> <NA> <NA>
    > 2 <NA> <NA> <NA> <NA> <NA> <NA> <NA> <NA>
    > 3 <NA> <NA> <NA> <NA> <NA> <NA> <NA> <NA>
    > geometry
    > 1 MULTIPOLYGON (((-1.550719 5...
    > 2 MULTIPOLYGON (((-1.555763 5...
    > 3 MULTIPOLYGON (((-1.551502 5...
    297,298c334
    < `/Volumes/Builds/packages/big-sur-arm64/results/4.1/sf.Rcheck/tests/tst__.gpkg'
    < using driver `GPKG'
    ---
    > `/home/edzer/git/sf.Rcheck/tests/tst__.gpkg' using driver `GPKG'
      Running ‘roundtrip.R’ [1s/2s]
      Comparing ‘roundtrip.Rout’ to ‘roundtrip.Rout.save’ ... OK
      Running ‘s2.R’ [1s/2s]
      Comparing ‘s2.Rout’ to ‘s2.Rout.save’ ...4c4
    < Linking to GEOS 3.11.0, GDAL 3.5.3, PROJ 9.1.0; sf_use_s2() is TRUE
    ---
    > Linking to GEOS 3.10.2, GDAL 3.4.3, PROJ 8.2.0; sf_use_s2() is TRUE
      Running ‘sample.R’ [1s/1s]
      Comparing ‘sample.Rout’ to ‘sample.Rout.save’ ... OK
      Running ‘sfc.R’ [6s/10s]
      Comparing ‘sfc.Rout’ to ‘sfc.Rout.save’ ...335c335
    < "3.11.0" "3.5.3" "9.1.0"
    ---
    > "3.10.2" "3.4.3" "8.2.1"
    616c616
    < Bounding box: xmin: 406265 ymin: 48359.7 xmax: 3052877 ymax: 1044143
    ---
    > Bounding box: xmin: 406262.2 ymin: 48374.87 xmax: 3052887 ymax: 1044158
    631,640c631,640
    < 1 10 1364 0 19 A 4 #fb80724d MULTIPOLYGON (((1270813 913...
    < 2 10 542 3 12 A 4 #fb80724d MULTIPOLYGON (((1340553 959...
    < 3 208 3616 6 260 A 5 #80b1d34d MULTIPOLYGON (((1570586 910...
    < 4 123 830 2 145 A 10 #bc80bd4d MULTIPOLYGON (((2881206 948...
    < 5 1066 1606 3 1197 A 8 #fccde54d MULTIPOLYGON (((2525700 911...
    < 6 954 1838 5 1237 A 9 #d9d9d94d MULTIPOLYGON (((2665112 911...
    < 7 115 350 2 139 A 10 #bc80bd4d MULTIPOLYGON (((2881206 948...
    < 8 254 594 2 371 A 9 #d9d9d94d MULTIPOLYGON (((2717988 951...
    < 9 748 1190 2 844 A 8 #fccde54d MULTIPOLYGON (((2203888 914...
    < 10 160 2038 5 176 A 5 #80b1d34d MULTIPOLYGON (((1697618 911...
    ---
    > 1 10 1364 0 19 A 4 #fb80724d MULTIPOLYGON (((1270814 913...
    > 2 10 542 3 12 A 4 #fb80724d MULTIPOLYGON (((1340555 959...
    > 3 208 3616 6 260 A 5 #80b1d34d MULTIPOLYGON (((1570591 910...
    > 4 123 830 2 145 A 10 #bc80bd4d MULTIPOLYGON (((2881208 948...
    > 5 1066 1606 3 1197 A 8 #fccde54d MULTIPOLYGON (((2525701 911...
    > 6 954 1838 5 1237 A 9 #d9d9d94d MULTIPOLYGON (((2665113 911...
    > 7 115 350 2 139 A 10 #bc80bd4d MULTIPOLYGON (((2881208 948...
    > 8 254 594 2 371 A 9 #d9d9d94d MULTIPOLYGON (((2717989 951...
    > 9 748 1190 2 844 A 8 #fccde54d MULTIPOLYGON (((2203890 914...
    > 10 160 2038 5 176 A 5 #80b1d34d MULTIPOLYGON (((1697624 911...
    723c723
    < Bounding box: xmin: 1216510 ymin: 935852 xmax: 1428880 ymax: 1031490
    ---
    > Bounding box: xmin: 1216510 ymin: 935867 xmax: 1428880 ymax: 1031510
    726,730c726,730
    < POINT (1264558 935852)
    < POINT (1256623 949369)
    < POINT (1222665 972624)
    < POINT (1333528 968263)
    < POINT (1310837 958630)
    ---
    > POINT (1264558 935867)
    > POINT (1256623 949384)
    > POINT (1222665 972639)
    > POINT (1333530 968278)
    > POINT (1310838 958645)
    740c740
    < Bounding box: xmin: -81.6893 ymin: 36.2491 xmax: -80.914 ymax: 36.5726
    ---
    > Bounding box: xmin: -81.6893 ymin: 36.2492 xmax: -80.914 ymax: 36.5726
    743c743
    < MULTIPOINT ((-81.2629 36.4076), (-81.1375 36.56...
    ---
    > MULTIPOINT ((-81.2629 36.4076), (-81.1374 36.56...
    824a825,827
    > Warning message:
    > In showSRID(uprojargs, format = "PROJ", multiline = "NO", prefer_proj = prefer_proj) :
    > Discarded datum Amersfoort in Proj4 definition
      Running ‘sfg.R’ [1s/1s]
      Comparing ‘sfg.Rout’ to ‘sfg.Rout.save’ ... OK
      Running ‘spatstat.R’ [2s/3s]
      Comparing ‘spatstat.Rout’ to ‘spatstat.Rout.save’ ...114c114
    < spatstat.random 3.0-1
    ---
    > spatstat.random 3.0-0
    118c118
    < Bounding box: xmin: 123829.8 ymin: 14740.06 xmax: 930518.6 ymax: 318255.5
    ---
    > Bounding box: xmin: 123829 ymin: 14744.69 xmax: 930521.8 ymax: 318259.9
    122,131c122,131
    < 1 window MULTIPOLYGON (((886135.8 31...
    < 2 point POINT (339121.1 257811.6)
    < 3 point POINT (827440.4 246568.3)
    < 4 point POINT (451339.2 207943.6)
    < 5 point POINT (268749.7 203323.4)
    < 6 point POINT (516676.5 198556.1)
    < 7 point POINT (692366 238643.1)
    < 8 point POINT (843278.5 287241.6)
    < 9 point POINT (648477.7 235466.6)
    < 10 point POINT (852593 267248.3)
    ---
    > 1 window MULTIPOLYGON (((886136 3141...
    > 2 point POINT (339121.3 257815.9)
    > 3 point POINT (827443.1 246572.7)
    > 4 point POINT (451340 207948)
    > 5 point POINT (268749.6 203327.8)
    > 6 point POINT (516677.7 198560.6)
    > 7 point POINT (692368 238647.5)
    > 8 point POINT (843281.2 287246)
    > 9 point POINT (648479.4 235471)
    > 10 point POINT (852595.8 267252.6)
      Running ‘stars.R’ [2s/3s]
      Comparing ‘stars.Rout’ to ‘stars.Rout.save’ ... OK
      Running ‘testthat.R’ [7s/10s]
      Running ‘units.R’ [1s/2s]
      Comparing ‘units.Rout’ to ‘units.Rout.save’ ... OK
      Running ‘wkb.R’ [1s/1s]
      Comparing ‘wkb.Rout’ to ‘wkb.Rout.save’ ... OK
  • checking for unstated dependencies in vignettes ... OK
  • checking package vignettes in ‘inst/doc’ ... OK
  • checking running R code from vignettes ... [1s/2s] NONE
      ‘sf1.Rmd’ using ‘UTF-8’... [0s/0s] OK
      ‘sf2.Rmd’ using ‘UTF-8’... [0s/0s] OK
      ‘sf3.Rmd’ using ‘UTF-8’... [0s/0s] OK
      ‘sf4.Rmd’ using ‘UTF-8’... [0s/0s] OK
      ‘sf5.Rmd’ using ‘UTF-8’... [0s/0s] OK
      ‘sf6.Rmd’ using ‘UTF-8’... [0s/0s] OK
      ‘sf7.Rmd’ using ‘UTF-8’... [0s/0s] OK
  • checking re-building of vignette outputs ... [24s/38s] OK
  • checking PDF version of manual ... OK
  • DONE
    Status: 1 NOTE
  • using check arguments '--no-clean-on-error '