* using log directory ‘/Volumes/Builds/packages/big-sur-arm64/results/4.4/s2dverification.Rcheck’ * using R version 4.4.0 alpha (2024-03-31 r86238) * using platform: aarch64-apple-darwin20 * R was compiled by Apple clang version 14.0.0 (clang-1400.0.29.202) GNU Fortran (GCC) 12.2.0 * running under: macOS Ventura 13.4 * using session charset: UTF-8 * checking for file ‘s2dverification/DESCRIPTION’ ... OK * this is package ‘s2dverification’ version ‘2.10.3’ * package encoding: UTF-8 * checking package namespace information ... OK * checking package dependencies ... OK * checking if this is a source package ... OK * checking if there is a namespace ... OK * checking for executable files ... OK * checking for hidden files and directories ... OK * checking for portable file names ... OK * checking for sufficient/correct file permissions ... OK * checking whether package ‘s2dverification’ can be installed ... [8s/8s] OK See 'https://www.r-project.org/nosvn/R.check/r-oldrel-macos-arm64/s2dverification-00install.html' for details. * checking installed package size ... OK * checking package directory ... OK * checking DESCRIPTION meta-information ... OK * checking top-level files ... OK * checking for left-over files ... OK * checking index information ... OK * checking package subdirectories ... OK * checking code files for non-ASCII characters ... OK * checking R files for syntax errors ... OK * checking whether the package can be loaded ... [1s/1s] OK * checking whether the package can be loaded with stated dependencies ... [1s/1s] OK * checking whether the package can be unloaded cleanly ... [1s/1s] OK * checking whether the namespace can be loaded with stated dependencies ... [1s/1s] OK * checking whether the namespace can be unloaded cleanly ... [1s/1s] OK * checking loading without being on the library search path ... [1s/1s] OK * checking whether startup messages can be suppressed ... [1s/1s] OK * checking dependencies in R code ... OK * checking S3 generic/method consistency ... OK * checking replacement functions ... OK * checking foreign function calls ... OK * checking R code for possible problems ... [10s/10s] OK * checking Rd files ... [0s/1s] NOTE checkRd: (-1) BrierScore.Rd:18: Lost braces; missing escapes or markup? 18 | {[0,0.1), [0.1, 0.2), ... [0.9, 1]}.} | ^ checkRd: (-1) BrierScore.Rd:26: Lost braces in \itemize; \value handles \item{}{} directly checkRd: (-1) BrierScore.Rd:27: Lost braces in \itemize; \value handles \item{}{} directly checkRd: (-1) BrierScore.Rd:28: Lost braces in \itemize; \value handles \item{}{} directly checkRd: (-1) BrierScore.Rd:29: Lost braces in \itemize; \value handles \item{}{} directly checkRd: (-1) BrierScore.Rd:30: Lost braces in \itemize; \value handles \item{}{} directly checkRd: (-1) BrierScore.Rd:31: Lost braces in \itemize; \value handles \item{}{} directly checkRd: (-1) BrierScore.Rd:32: Lost braces in \itemize; \value handles \item{}{} directly checkRd: (-1) BrierScore.Rd:33: Lost braces in \itemize; \value handles \item{}{} directly checkRd: (-1) BrierScore.Rd:34: Lost braces in \itemize; \value handles \item{}{} directly checkRd: (-1) BrierScore.Rd:35: Lost braces in \itemize; \value handles \item{}{} directly checkRd: (-1) BrierScore.Rd:36: Lost braces in \itemize; \value handles \item{}{} directly checkRd: (-1) BrierScore.Rd:37: Lost braces in \itemize; \value handles \item{}{} directly checkRd: (-1) BrierScore.Rd:38: Lost braces in \itemize; \value handles \item{}{} directly checkRd: (-1) BrierScore.Rd:39: Lost braces in \itemize; \value handles \item{}{} directly checkRd: (-1) BrierScore.Rd:40: Lost braces in \itemize; \value handles \item{}{} directly checkRd: (-1) BrierScore.Rd:41: Lost braces in \itemize; \value handles \item{}{} directly checkRd: (-1) BrierScore.Rd:42: Lost braces in \itemize; \value handles \item{}{} directly checkRd: (-1) BrierScore.Rd:43: Lost braces in \itemize; \value handles \item{}{} directly checkRd: (-1) BrierScore.Rd:44: Lost braces in \itemize; \value handles \item{}{} directly checkRd: (-1) Corr.Rd:67: Lost braces in \itemize; \value handles \item{}{} directly checkRd: (-1) Corr.Rd:68-69: Lost braces in \itemize; \value handles \item{}{} directly checkRd: (-1) Corr.Rd:70-71: Lost braces in \itemize; \value handles \item{}{} directly checkRd: (-1) Corr.Rd:72-73: Lost braces in \itemize; \value handles \item{}{} directly checkRd: (-1) LoadDataFile.Rd:82-84: Lost braces in \itemize; \value handles \item{}{} directly checkRd: (-1) LoadDataFile.Rd:85-87: Lost braces in \itemize; \value handles \item{}{} directly checkRd: (-1) LoadDataFile.Rd:88-90: Lost braces in \itemize; \value handles \item{}{} directly checkRd: (-1) LoadDataFile.Rd:91-93: Lost braces in \itemize; \value handles \item{}{} directly checkRd: (-1) LoadDataFile.Rd:94-96: Lost braces in \itemize; \value handles \item{}{} directly checkRd: (-1) RMSSS.Rd:39-41: Lost braces in \itemize; \value handles \item{}{} directly checkRd: (-1) RMSSS.Rd:42-45: Lost braces in \itemize; \value handles \item{}{} directly checkRd: (-1) RatioRMS.Rd:40: Lost braces in \itemize; \value handles \item{}{} directly checkRd: (-1) RatioRMS.Rd:41: Lost braces in \itemize; \value handles \item{}{} directly checkRd: (-1) RatioSDRMS.Rd:35-37: Lost braces in \itemize; \value handles \item{}{} directly checkRd: (-1) RatioSDRMS.Rd:38-41: Lost braces in \itemize; \value handles \item{}{} directly checkRd: (-1) StatSeasAtlHurr.Rd:42: Lost braces; missing escapes or markup? 42 | (PDI; in 10^11 m^3 s^{-2}).\cr | ^ * checking Rd metadata ... OK * checking Rd cross-references ... OK * checking for missing documentation entries ... OK * checking for code/documentation mismatches ... OK * checking Rd \usage sections ... NOTE Documented arguments not in \usage in Rd file 'LoadDataFile.Rd': ‘remapcells’ Functions with \usage entries need to have the appropriate \alias entries, and all their arguments documented. The \usage entries must correspond to syntactically valid R code. See chapter ‘Writing R documentation files’ in the ‘Writing R Extensions’ manual. * checking Rd contents ... OK * checking for unstated dependencies in examples ... OK * checking contents of ‘data’ directory ... OK * checking data for non-ASCII characters ... [0s/0s] OK * checking LazyData ... OK * checking data for ASCII and uncompressed saves ... OK * checking installed files from ‘inst/doc’ ... OK * checking examples ... [4s/4s] OK * checking PDF version of manual ... [6s/7s] OK * DONE Status: 2 NOTEs * using check arguments '--no-clean-on-error ' * elapsed time (check, wall clock): 0:50