• using R version 4.4.0 alpha (2024-03-31 r86238)
  • using platform: aarch64-apple-darwin20
  • R was compiled by     Apple clang version 14.0.0 (clang-1400.0.29.202)     GNU Fortran (GCC) 12.2.0
  • running under: macOS Ventura 13.4
  • using session charset: UTF-8
  • checking for file ‘qmrparser/DESCRIPTION’ ... OK
  • checking extension type ... Package
  • this is package ‘qmrparser’ version ‘0.1.6’
  • package encoding: UTF-8
  • checking package namespace information ... OK
  • checking package dependencies ... OK
  • checking if this is a source package ... OK
  • checking if there is a namespace ... OK
  • checking for executable files ... OK
  • checking for hidden files and directories ... OK
  • checking for portable file names ... OK
  • checking for sufficient/correct file permissions ... OK
  • checking whether package ‘qmrparser’ can be installed ... [1s/2s] OK See the install log for details.
  • checking installed package size ... OK
  • checking package directory ... OK
  • checking ‘build’ directory ... OK
  • checking DESCRIPTION meta-information ... OK
  • checking top-level files ... OK
  • checking for left-over files ... OK
  • checking index information ... OK
  • checking package subdirectories ... OK
  • checking code files for non-ASCII characters ... OK
  • checking R files for syntax errors ... OK
  • checking whether the package can be loaded ... [0s/0s] OK
  • checking whether the package can be loaded with stated dependencies ... [0s/0s] OK
  • checking whether the package can be unloaded cleanly ... [0s/0s] OK
  • checking whether the namespace can be loaded with stated dependencies ... [0s/0s] OK
  • checking whether the namespace can be unloaded cleanly ... [0s/0s] OK
  • checking loading without being on the library search path ... [0s/0s] OK
  • checking dependencies in R code ... OK
  • checking S3 generic/method consistency ... OK
  • checking replacement functions ... OK
  • checking foreign function calls ... OK
  • checking R code for possible problems ... [1s/1s] OK
  • checking Rd files ... [0s/0s] NOTE checkRd: (-1) alternation.Rd:52-54: Lost braces in \itemize; \value handles \item{}{} directly checkRd: (-1) alternation.Rd:56-58: Lost braces in \itemize; \value handles \item{}{} directly checkRd: (-1) alternation.Rd:60-62: Lost braces in \itemize; \value handles \item{}{} directly checkRd: (-1) charInSetParser.Rd:31-33: Lost braces in \itemize; \value handles \item{}{} directly checkRd: (-1) charInSetParser.Rd:35-37: Lost braces in \itemize; \value handles \item{}{} directly checkRd: (-1) charInSetParser.Rd:39-41: Lost braces in \itemize; \value handles \item{}{} directly checkRd: (-1) charParser.Rd:30-32: Lost braces in \itemize; \value handles \item{}{} directly checkRd: (-1) charParser.Rd:34-36: Lost braces in \itemize; \value handles \item{}{} directly checkRd: (-1) charParser.Rd:38-40: Lost braces in \itemize; \value handles \item{}{} directly checkRd: (-1) commentParser.Rd:34-36: Lost braces in \itemize; \value handles \item{}{} directly checkRd: (-1) commentParser.Rd:38-40: Lost braces in \itemize; \value handles \item{}{} directly checkRd: (-1) commentParser.Rd:42-44: Lost braces in \itemize; \value handles \item{}{} directly checkRd: (-1) concatenation.Rd:51-53: Lost braces in \itemize; \value handles \item{}{} directly checkRd: (-1) concatenation.Rd:55-57: Lost braces in \itemize; \value handles \item{}{} directly checkRd: (-1) concatenation.Rd:59-61: Lost braces in \itemize; \value handles \item{}{} directly checkRd: (-1) dots.Rd:28-30: Lost braces in \itemize; \value handles \item{}{} directly checkRd: (-1) dots.Rd:32-34: Lost braces in \itemize; \value handles \item{}{} directly checkRd: (-1) dots.Rd:36-38: Lost braces in \itemize; \value handles \item{}{} directly checkRd: (-1) empty.Rd:28-30: Lost braces in \itemize; \value handles \item{}{} directly checkRd: (-1) empty.Rd:32-34: Lost braces in \itemize; \value handles \item{}{} directly checkRd: (-1) empty.Rd:36-38: Lost braces in \itemize; \value handles \item{}{} directly checkRd: (-1) eofMark.Rd:31-33: Lost braces in \itemize; \value handles \item{}{} directly checkRd: (-1) eofMark.Rd:35-37: Lost braces in \itemize; \value handles \item{}{} directly checkRd: (-1) eofMark.Rd:39-41: Lost braces in \itemize; \value handles \item{}{} directly checkRd: (-1) keyword.Rd:30-32: Lost braces in \itemize; \value handles \item{}{} directly checkRd: (-1) keyword.Rd:34-36: Lost braces in \itemize; \value handles \item{}{} directly checkRd: (-1) keyword.Rd:38-40: Lost braces in \itemize; \value handles \item{}{} directly checkRd: (-1) numberFloat.Rd:27-29: Lost braces in \itemize; \value handles \item{}{} directly checkRd: (-1) numberFloat.Rd:31-33: Lost braces in \itemize; \value handles \item{}{} directly checkRd: (-1) numberFloat.Rd:35-37: Lost braces in \itemize; \value handles \item{}{} directly checkRd: (-1) numberInteger.Rd:28-30: Lost braces in \itemize; \value handles \item{}{} directly checkRd: (-1) numberInteger.Rd:32-34: Lost braces in \itemize; \value handles \item{}{} directly checkRd: (-1) numberInteger.Rd:36-38: Lost braces in \itemize; \value handles \item{}{} directly checkRd: (-1) numberNatural.Rd:26-28: Lost braces in \itemize; \value handles \item{}{} directly checkRd: (-1) numberNatural.Rd:30-32: Lost braces in \itemize; \value handles \item{}{} directly checkRd: (-1) numberNatural.Rd:34-36: Lost braces in \itemize; \value handles \item{}{} directly checkRd: (-1) numberScientific.Rd:27-29: Lost braces in \itemize; \value handles \item{}{} directly checkRd: (-1) numberScientific.Rd:31-33: Lost braces in \itemize; \value handles \item{}{} directly checkRd: (-1) numberScientific.Rd:35-37: Lost braces in \itemize; \value handles \item{}{} directly checkRd: (-1) option.Rd:53-55: Lost braces in \itemize; \value handles \item{}{} directly checkRd: (-1) option.Rd:57-59: Lost braces in \itemize; \value handles \item{}{} directly checkRd: (-1) option.Rd:61-63: Lost braces in \itemize; \value handles \item{}{} directly checkRd: (-1) pcAxisCubeMake.Rd:48-54: Lost braces in \itemize; \value handles \item{}{} directly checkRd: (-1) pcAxisCubeMake.Rd:55-62: Lost braces in \itemize; \value handles \item{}{} directly checkRd: (-1) pcAxisCubeMake.Rd:63-71: Lost braces in \itemize; \value handles \item{}{} directly checkRd: (-1) pcAxisCubeToCSV.Rd:24: Lost braces in \itemize; meant \describe ? checkRd: (-1) pcAxisParser.Rd:75-77: Lost braces in \itemize; \value handles \item{}{} directly checkRd: (-1) pcAxisParser.Rd:78-80: Lost braces in \itemize; \value handles \item{}{} directly checkRd: (-1) pcAxisParser.Rd:81-83: Lost braces in \itemize; \value handles \item{}{} directly checkRd: (-1) pcAxisParser.Rd:84-96: Lost braces in \itemize; \value handles \item{}{} directly checkRd: (-1) repetition0N.Rd:54-56: Lost braces in \itemize; \value handles \item{}{} directly checkRd: (-1) repetition0N.Rd:58-60: Lost braces in \itemize; \value handles \item{}{} directly checkRd: (-1) repetition0N.Rd:62-64: Lost braces in \itemize; \value handles \item{}{} directly checkRd: (-1) repetition1N.Rd:50-52: Lost braces in \itemize; \value handles \item{}{} directly checkRd: (-1) repetition1N.Rd:54-56: Lost braces in \itemize; \value handles \item{}{} directly checkRd: (-1) repetition1N.Rd:58-60: Lost braces in \itemize; \value handles \item{}{} directly checkRd: (-1) separator.Rd:30-32: Lost braces in \itemize; \value handles \item{}{} directly checkRd: (-1) separator.Rd:34-36: Lost braces in \itemize; \value handles \item{}{} directly checkRd: (-1) separator.Rd:38-40: Lost braces in \itemize; \value handles \item{}{} directly checkRd: (-1) streamParser.Rd:28-31: Lost braces in \itemize; meant \describe ? checkRd: (-1) streamParser.Rd:33-35: Lost braces in \itemize; meant \describe ? checkRd: (-1) streamParser.Rd:37-39: Lost braces in \itemize; meant \describe ? checkRd: (-1) streamParser.Rd:41-43: Lost braces in \itemize; meant \describe ? checkRd: (-1) streamParser.Rd:51-53: Lost braces in \itemize; \value handles \item{}{} directly checkRd: (-1) streamParser.Rd:54-56: Lost braces in \itemize; \value handles \item{}{} directly checkRd: (-1) streamParser.Rd:57-59: Lost braces in \itemize; \value handles \item{}{} directly checkRd: (-1) streamParser.Rd:66-67: Lost braces in \itemize; \value handles \item{}{} directly checkRd: (-1) streamParser.Rd:68-70: Lost braces in \itemize; \value handles \item{}{} directly checkRd: (-1) streamParser.Rd:71-73: Lost braces in \itemize; \value handles \item{}{} directly checkRd: (-1) streamParser.Rd:75-77: Lost braces in \itemize; \value handles \item{}{} directly checkRd: (-1) string.Rd:32-34: Lost braces in \itemize; \value handles \item{}{} directly checkRd: (-1) string.Rd:36-38: Lost braces in \itemize; \value handles \item{}{} directly checkRd: (-1) string.Rd:40-42: Lost braces in \itemize; \value handles \item{}{} directly checkRd: (-1) symbolic.Rd:31-33: Lost braces in \itemize; \value handles \item{}{} directly checkRd: (-1) symbolic.Rd:35-37: Lost braces in \itemize; \value handles \item{}{} directly checkRd: (-1) symbolic.Rd:39-41: Lost braces in \itemize; \value handles \item{}{} directly checkRd: (-1) whitespace.Rd:30-32: Lost braces in \itemize; \value handles \item{}{} directly checkRd: (-1) whitespace.Rd:34-36: Lost braces in \itemize; \value handles \item{}{} directly checkRd: (-1) whitespace.Rd:38-40: Lost braces in \itemize; \value handles \item{}{} directly
  • checking Rd metadata ... OK
  • checking Rd cross-references ... OK
  • checking for missing documentation entries ... OK
  • checking for code/documentation mismatches ... OK
  • checking Rd \usage sections ... OK
  • checking Rd contents ... OK
  • checking for unstated dependencies in examples ... OK
  • checking sizes of PDF files under ‘inst/doc’ ... OK
  • checking installed files from ‘inst/doc’ ... OK
  • checking files in ‘vignettes’ ... OK
  • checking examples ... [1s/1s] OK
  • checking for unstated dependencies in ‘tests’ ... OK
  • checking tests ... [1s/1s] OK   Running ‘test.RUnit.R’ [1s/1s]
  • checking for unstated dependencies in vignettes ... OK
  • checking package vignettes ... OK
  • checking re-building of vignette outputs ... [7s/7s] OK
  • checking PDF version of manual ... [4s/4s] OK
  • DONE Status: 1 NOTE
  • using check arguments '--no-clean-on-error '