- using R version 4.4.1 (2024-06-14)
- using platform: aarch64-apple-darwin20
- R was compiled by
    Apple clang version 14.0.0 (clang-1400.0.29.202)
    GNU Fortran (GCC) 12.2.0
- running under: macOS Ventura 13.4
- using session charset: UTF-8
- checking for file ‘psgp/DESCRIPTION’ ... OK
- this is package ‘psgp’ version ‘0.3-25’
- checking package namespace information ... OK
- checking package dependencies ... OK
- checking if this is a source package ... OK
- checking if there is a namespace ... OK
- checking for executable files ... OK
- checking for hidden files and directories ... OK
- checking for portable file names ... OK
- checking for sufficient/correct file permissions ... OK
- checking whether package ‘psgp’ can be installed ... [49s/53s] OK
See the install log for details.
- used C compiler: ‘Apple clang version 14.0.0 (clang-1400.0.29.202)’
- used C++ compiler: ‘Apple clang version 14.0.0 (clang-1400.0.29.202)’
- used SDK: ‘MacOSX11.3.sdk’
- checking installed package size ... NOTE
  installed size is  7.3Mb
  sub-directories of 1Mb or more:
    libs   7.2Mb
- checking package directory ... OK
- checking DESCRIPTION meta-information ... OK
- checking top-level files ... OK
- checking for left-over files ... OK
- checking index information ... OK
- checking package subdirectories ... OK
- checking code files for non-ASCII characters ... OK
- checking R files for syntax errors ... OK
- checking whether the package can be loaded ... [1s/1s] OK
- checking whether the package can be loaded with stated dependencies ... [1s/1s] OK
- checking whether the package can be unloaded cleanly ... [1s/1s] OK
- checking whether the namespace can be loaded with stated dependencies ... [1s/1s] OK
- checking whether the namespace can be unloaded cleanly ... [1s/2s] OK
- checking loading without being on the library search path ... [1s/1s] OK
- checking dependencies in R code ... OK
- checking S3 generic/method consistency ... OK
- checking replacement functions ... OK
- checking foreign function calls ... OK
- checking R code for possible problems ... [3s/4s] OK
- checking Rd files ... [0s/0s] OK
- checking Rd metadata ... OK
- checking Rd cross-references ... OK
- checking for missing documentation entries ... OK
- checking for code/documentation mismatches ... OK
- checking Rd \usage sections ... OK
- checking Rd contents ... OK
- checking for unstated dependencies in examples ... OK
- checking line endings in C/C++/Fortran sources/headers ... OK
- checking line endings in Makefiles ... OK
- checking compilation flags in Makevars ... OK
- checking for GNU extensions in Makefiles ... OK
- checking for portable use of $(BLAS_LIBS) and $(LAPACK_LIBS) ... OK
- checking use of PKG_*FLAGS in Makefiles ... OK
- checking compiled code ... OK
- checking examples ... [2s/3s] OK
- checking for unstated dependencies in ‘tests’ ... OK
- checking tests ... [5s/5s] OK
  Running ‘error_handling.R’ [1s/1s]
  Running ‘meuse_psgp.R’ [2s/2s]
  Comparing ‘meuse_psgp.Rout’ to ‘meuse_psgp.Rout.save’ ... OK
  Running ‘psgp.R’ [2s/2s]
  Comparing ‘psgp.Rout’ to ‘psgp.Rout.save’ ...74,79c74,79
<  Min.   :0.0000083   Min.   :0.00000   Min.   :3.9991  
<  1st Qu.:0.0549899   1st Qu.:0.01972   1st Qu.:4.6377  
<  Median :0.4629025   Median :0.53710   Median :5.2271  
<  Mean   :0.5165062   Mean   :0.48349   Mean   :5.4913  
<  3rd Qu.:0.9802802   3rd Qu.:0.94501   3rd Qu.:6.4796  
<  Max.   :1.0000000   Max.   :0.99999   Max.   :7.2978  
---
>  Min.   :8.3030e-06   Min.   :1.0000e-09   Min.   :3.9991  
>  1st Qu.:5.4990e-02   1st Qu.:1.9720e-02   1st Qu.:4.6377  
>  Median :4.6290e-01   Median :5.3710e-01   Median :5.2271  
>  Mean   :5.1651e-01   Mean   :4.8349e-01   Mean   :5.4913  
>  3rd Qu.:9.8028e-01   3rd Qu.:9.4501e-01   3rd Qu.:6.4796  
>  Max.   :1.0000e+00   Max.   :9.9999e-01   Max.   :7.2978  
- checking PDF version of manual ... [3s/3s] OK
- DONE
Status: 1 NOTE
- using check arguments '--no-clean-on-error '