• using R version 4.1.0 (2021-05-18)
  • using platform: aarch64-apple-darwin20 (64-bit)
  • using session charset: UTF-8
  • checking for file ‘miscTools/DESCRIPTION’ ... OK
  • this is package ‘miscTools’ version ‘0.6-26’
  • checking package namespace information ... OK
  • checking package dependencies ... OK
  • checking if this is a source package ... OK
  • checking if there is a namespace ... OK
  • checking for executable files ... OK
  • checking for hidden files and directories ... OK
  • checking for portable file names ... OK
  • checking for sufficient/correct file permissions ... OK
  • checking whether package ‘miscTools’ can be installed ... [1s/1s] OK
  • checking installed package size ... OK
  • checking package directory ... OK
  • checking DESCRIPTION meta-information ... OK
  • checking top-level files ... OK
  • checking for left-over files ... OK
  • checking index information ... OK
  • checking package subdirectories ... OK
  • checking R files for non-ASCII characters ... OK
  • checking R files for syntax errors ... OK
  • checking whether the package can be loaded ... OK
  • checking whether the package can be loaded with stated dependencies ... OK
  • checking whether the package can be unloaded cleanly ... OK
  • checking whether the namespace can be loaded with stated dependencies ... OK
  • checking whether the namespace can be unloaded cleanly ... OK
  • checking loading without being on the library search path ... OK
  • checking dependencies in R code ... OK
  • checking S3 generic/method consistency ... OK
  • checking replacement functions ... OK
  • checking foreign function calls ... OK
  • checking R code for possible problems ... [1s/1s] OK
  • checking Rd files ... [0s/0s] OK
  • checking Rd metadata ... OK
  • checking Rd cross-references ... OK
  • checking for missing documentation entries ... OK
  • checking for code/documentation mismatches ... OK
  • checking Rd \usage sections ... OK
  • checking Rd contents ... OK
  • checking for unstated dependencies in examples ... OK
  • checking examples ... [0s/0s] OK
  • checking for unstated dependencies in ‘tests’ ... OK
  • checking tests ... [2s/3s] OK
      Running ‘colMediansTest.R’ [0s/0s]
      Comparing ‘colMediansTest.Rout’ to ‘colMediansTest.Rout.save’ ... OK
      Running ‘ddnormTest.R’ [0s/0s]
      Comparing ‘ddnormTest.Rout’ to ‘ddnormTest.Rout.save’ ... OK
      Running ‘insertColRow.R’ [0s/0s]
      Comparing ‘insertColRow.Rout’ to ‘insertColRow.Rout.save’ ... OK
      Running ‘lmMethods.R’ [0s/0s]
      Comparing ‘lmMethods.Rout’ to ‘lmMethods.Rout.save’ ... OK
      Running ‘margEffTest.R’ [0s/0s]
      Comparing ‘margEffTest.Rout’ to ‘margEffTest.Rout.save’ ... OK
      Running ‘semidefTest.R’ [0s/0s]
      Comparing ‘semidefTest.Rout’ to ‘semidefTest.Rout.save’ ... OK
      Running ‘stdErTests.R’ [0s/0s]
      Comparing ‘stdErTests.Rout’ to ‘stdErTests.Rout.save’ ... OK
      Running ‘sumKeepAttrTest.R’ [0s/0s]
      Comparing ‘sumKeepAttrTest.Rout’ to ‘sumKeepAttrTest.Rout.save’ ... OK
      Running ‘summarizeDF_tests.R’ [0s/0s]
      Comparing ‘summarizeDF_tests.Rout’ to ‘summarizeDF_tests.Rout.save’ ... OK
  • checking PDF version of manual ... OK
  • DONE
    Status: OK