• using R version 4.4.0 alpha (2024-03-31 r86238)
  • using platform: aarch64-apple-darwin20
  • R was compiled by     Apple clang version 14.0.0 (clang-1400.0.29.202)     GNU Fortran (GCC) 12.2.0
  • running under: macOS Ventura 13.4
  • using session charset: UTF-8
  • using option ‘--install=fake’
  • checking for file ‘iplots/DESCRIPTION’ ... OK
  • this is package ‘iplots’ version ‘1.1-8’
  • checking package namespace information ... OK
  • checking package dependencies ... OK
  • checking if this is a source package ... OK
  • checking if there is a namespace ... OK
  • checking for executable files ... OK
  • checking for hidden files and directories ... OK
  • checking for portable file names ... OK
  • checking for sufficient/correct file permissions ... OK
  • checking whether package ‘iplots’ can be installed ... [2s/3s] OK See the install log for details.
  • checking installed package size ... OK
  • checking package directory ... OK
  • checking DESCRIPTION meta-information ... OK
  • checking top-level files ... OK
  • checking for left-over files ... OK
  • checking index information ... OK
  • checking package subdirectories ... OK
  • checking code files for non-ASCII characters ... OK
  • checking R files for syntax errors ... OK
  • checking whether the package can be loaded ... [0s/0s] OK
  • checking whether the package can be loaded with stated dependencies ... [0s/0s] OK
  • checking whether the package can be unloaded cleanly ... [0s/0s] OK
  • checking whether the namespace can be loaded with stated dependencies ... [0s/0s] OK
  • checking whether the namespace can be unloaded cleanly ... [0s/0s] OK
  • checking loading without being on the library search path ... [0s/0s] OK
  • checking whether startup messages can be suppressed ... [0s/0s] OK
  • checking dependencies in R code ... OK
  • checking S3 generic/method consistency ... OK
  • checking replacement functions ... OK
  • checking foreign function calls ... OK
  • checking R code for possible problems ... [2s/2s] NOTE .get.plot.obj: no visible binding for global variable ‘.iplots’ .iDebug: no visible binding for global variable ‘.iplots.fw’ .iobj.color: no visible binding for global variable ‘.iplot.current’ .iobj.opt: no visible binding for global variable ‘.iplot.current’ .iplot.get.by.pm: no visible binding for global variable ‘.iplots’ .iplot.getPar: no visible binding for global variable ‘.iplot.current’ .iplot.iBar: no visible binding for global variable ‘.iplots.fw’ .iplot.iBox: no visible binding for global variable ‘.iplots.fw’ .iplot.iHammock: no visible binding for global variable ‘.iplots.fw’ .iplot.iHist: no visible binding for global variable ‘.iplots.fw’ .iplot.iMap: no visible binding for global variable ‘.iplots.fw’ .iplot.iMosaic: no visible binding for global variable ‘.iplots.fw’ .iplot.iPCP: no visible binding for global variable ‘.iplots.fw’ .iplot.iPlot: no visible binding for global variable ‘.iplots.fw’ .iplot.new: no visible binding for '<<-' assignment to ‘.iplots’ .iplot.new: no visible binding for global variable ‘.iplots’ .iplot.new: no visible binding for '<<-' assignment to ‘.iplot.current’ .iplot.new: no visible binding for '<<-' assignment to ‘.iplot.curid’ .iplot.opt: no visible binding for global variable ‘.iplots.fw’ .iplot.opt: no visible binding for global variable ‘.iplots’ .iset.save: no visible binding for '<<-' assignment to ‘.isets’ .iset.save: no visible binding for global variable ‘.isets’ .iset.save: no visible binding for global variable ‘.iplots’ .iset.save: no visible binding for global variable ‘.iplot.curid’ .iset.save: no visible binding for global variable ‘.iplot.current’ .ivar.check.length: no visible binding for global variable ‘.iplots.fw’ ievent.wait: no visible binding for global variable ‘.restricted.el’ ievent.wait: no visible binding for global variable ‘.iplots.fw’ iplot.backend: no visible binding for global variable ‘.iplots.fw’ iplot.cur: no visible binding for global variable ‘.iplot.curid’ iplot.data: no visible binding for global variable ‘.iplot.current’ iplot.data: no visible binding for global variable ‘.iplots.fw’ iplot.list: no visible binding for global variable ‘.iplots’ iplot.location: no visible binding for global variable ‘.iplots’ iplot.next: no visible binding for global variable ‘.iplots’ iplot.off: no visible binding for global variable ‘.iplots’ iplot.off: no visible binding for '<<-' assignment to ‘.iplots’ iplot.off: no visible binding for '<<-' assignment to ‘.iplot.current’ iplot.off: no visible binding for '<<-' assignment to ‘.iplot.curid’ iplot.opt: no visible binding for global variable ‘.iplots’ iplot.prev: no visible binding for global variable ‘.iplots’ iplot.resetZoom: no visible binding for global variable   ‘.iplot.current’ iplot.rotate: no visible binding for global variable ‘.iplot.current’ iplot.set: no visible binding for global variable ‘.iplots’ iplot.set: no visible binding for '<<-' assignment to ‘.iplot.current’ iplot.set: no visible binding for '<<-' assignment to ‘.iplot.curid’ iplot.setExtendedQuery: no visible binding for global variable   ‘.iplot.curid’ iplot.setExtendedQuery: no visible binding for global variable   ‘.iplots.fw’ iplot.size: no visible binding for global variable ‘.iplots’ iplot.zoomIn: no visible binding for global variable ‘.iplot.current’ iplot.zoomOut: no visible binding for global variable ‘.iplot.current’ iset: no visible binding for global variable ‘.iplots.fw’ iset.brush: no visible binding for global variable ‘.iplots.fw’ iset.brush: no visible binding for global variable ‘.iplot.current’ iset.cur: no visible binding for global variable ‘.iplots.fw’ iset.list: no visible binding for global variable ‘.iplots.fw’ iset.new: no visible binding for global variable ‘.iplots.fw’ iset.new: no visible binding for '<<-' assignment to ‘.iplots’ iset.new: no visible binding for '<<-' assignment to ‘.iplot.current’ iset.new: no visible binding for '<<-' assignment to ‘.iplot.curid’ iset.next: no visible binding for global variable ‘.iplots.fw’ iset.prev: no visible binding for global variable ‘.iplots.fw’ iset.rm: no visible binding for global variable ‘.iplots.fw’ iset.rm: no visible binding for global variable ‘.isets’ iset.rm: no visible binding for '<<-' assignment to ‘.isets’ iset.rm: no visible binding for '<<-' assignment to ‘.iplots’ iset.rm: no visible binding for '<<-' assignment to ‘.iplot.curid’ iset.rm: no visible binding for '<<-' assignment to ‘.iplot.current’ iset.sel.changed: no visible binding for global variable   ‘.iset.selection’ iset.sel.changed: no visible binding for '<<-' assignment to   ‘.iset.selection’ iset.select: no visible binding for global variable ‘.iplots.fw’ iset.selectAll: no visible binding for global variable ‘.iplots.fw’ iset.selectNone: no visible binding for global variable ‘.iplots.fw’ iset.selected: no visible binding for global variable ‘.iplots.fw’ iset.set: no visible binding for global variable ‘.iplots.fw’ iset.set: no visible binding for '<<-' assignment to ‘.iplots’ iset.set: no visible binding for global variable ‘.isets’ iset.set: no visible binding for '<<-' assignment to ‘.iplot.curid’ iset.set: no visible binding for '<<-' assignment to ‘.iplot.current’ iset.updateVars: no visible binding for global variable ‘.iplots.fw’ isets: no visible binding for global variable ‘.iplots.fw’ ivar.data: no visible binding for global variable ‘.iplots.fw’ ivar.new: no visible binding for global variable ‘.iplots.fw’ ivar.new.map: no visible binding for global variable ‘.iplots.fw’ ivar.update: no visible binding for global variable ‘.iplots.fw’ Undefined global functions or variables:   .iplot.curid .iplot.current .iplots .iplots.fw .iset.selection .isets   .restricted.el
  • checking Rd files ... [0s/0s] OK
  • checking Rd metadata ... OK
  • checking Rd cross-references ... OK
  • checking for missing documentation entries ... OK
  • checking for code/documentation mismatches ... OK
  • checking Rd \usage sections ... OK
  • checking Rd contents ... OK
  • checking for unstated dependencies in examples ... OK
  • checking examples ... SKIPPED
  • checking PDF version of manual ... [4s/4s] OK
  • DONE Status: 1 NOTE
  • using check arguments '--no-clean-on-error --install=fake'