• using R version 4.1.1 Patched (2021-09-05 r80862)
  • using platform: aarch64-apple-darwin20 (64-bit)
  • using session charset: UTF-8
  • checking for file ‘gstat/DESCRIPTION’ ... OK
  • this is package ‘gstat’ version ‘2.0-9’
  • package encoding: UTF-8
  • checking package namespace information ... OK
  • checking package dependencies ... OK
  • checking if this is a source package ... OK
  • checking if there is a namespace ... OK
  • checking for executable files ... OK
  • checking for hidden files and directories ... OK
  • checking for portable file names ... OK
  • checking for sufficient/correct file permissions ... OK
  • checking whether package ‘gstat’ can be installed ... [8s/9s] OK
  • checking installed package size ... OK
  • checking package directory ... OK
  • checking ‘build’ directory ... OK
  • checking DESCRIPTION meta-information ... OK
  • checking top-level files ... OK
  • checking for left-over files ... OK
  • checking index information ... OK
  • checking package subdirectories ... OK
  • checking R files for non-ASCII characters ... OK
  • checking R files for syntax errors ... OK
  • checking whether the package can be loaded ... OK
  • checking whether the package can be loaded with stated dependencies ... OK
  • checking whether the package can be unloaded cleanly ... OK
  • checking whether the namespace can be loaded with stated dependencies ... OK
  • checking whether the namespace can be unloaded cleanly ... OK
  • checking loading without being on the library search path ... OK
  • checking dependencies in R code ... OK
  • checking S3 generic/method consistency ... OK
  • checking replacement functions ... OK
  • checking foreign function calls ... OK
  • checking R code for possible problems ... [5s/5s] OK
  • checking Rd files ... [0s/0s] OK
  • checking Rd metadata ... OK
  • checking Rd cross-references ... OK
  • checking for missing documentation entries ... OK
  • checking for code/documentation mismatches ... OK
  • checking Rd \usage sections ... OK
  • checking Rd contents ... OK
  • checking for unstated dependencies in examples ... OK
  • checking contents of ‘data’ directory ... OK
  • checking data for non-ASCII characters ... OK
  • checking data for ASCII and uncompressed saves ... OK
  • checking line endings in shell scripts ... OK
  • checking line endings in C/C++/Fortran sources/headers ... OK
  • checking line endings in Makefiles ... OK
  • checking compilation flags in Makevars ... OK
  • checking for GNU extensions in Makefiles ... OK
  • checking for portable use of $(BLAS_LIBS) and $(LAPACK_LIBS) ... OK
  • checking use of PKG_*FLAGS in Makefiles ... OK
  • checking compiled code ... OK
  • checking sizes of PDF files under ‘inst/doc’ ... OK
  • checking installed files from ‘inst/doc’ ... OK
  • checking files in ‘vignettes’ ... OK
  • checking examples ... [5s/5s] OK
  • checking for unstated dependencies in ‘tests’ ... OK
  • checking tests ... [19s/20s] OK
      Running ‘allier.R’ [1s/1s]
      Comparing ‘allier.Rout’ to ‘allier.Rout.save’ ... OK
      Running ‘blockkr.R’ [1s/1s]
      Comparing ‘blockkr.Rout’ to ‘blockkr.Rout.save’ ... OK
      Running ‘covtable.R’ [1s/1s]
      Comparing ‘covtable.Rout’ to ‘covtable.Rout.save’ ... OK
      Running ‘cv.R’ [1s/1s]
      Comparing ‘cv.Rout’ to ‘cv.Rout.save’ ... OK
      Running ‘cv3d.R’ [1s/1s]
      Comparing ‘cv3d.Rout’ to ‘cv3d.Rout.save’ ... OK
      Running ‘fit.R’ [1s/1s]
      Comparing ‘fit.Rout’ to ‘fit.Rout.save’ ... OK
      Running ‘krige0.R’ [1s/1s]
      Comparing ‘krige0.Rout’ to ‘krige0.Rout.save’ ... OK
      Running ‘line.R’ [1s/1s]
      Comparing ‘line.Rout’ to ‘line.Rout.save’ ... OK
      Running ‘merge.R’ [1s/1s]
      Comparing ‘merge.Rout’ to ‘merge.Rout.save’ ... OK
      Running ‘na.action.R’ [1s/1s]
      Comparing ‘na.action.Rout’ to ‘na.action.Rout.save’ ... OK
      Running ‘rings.R’ [1s/1s]
      Comparing ‘rings.Rout’ to ‘rings.Rout.save’ ... OK
      Running ‘sim.R’ [1s/1s]
      Comparing ‘sim.Rout’ to ‘sim.Rout.save’ ... OK
      Running ‘stars.R’ [4s/5s]
      Comparing ‘stars.Rout’ to ‘stars.Rout.save’ ...129,132c129,139
    < [1] "Component \"x\": Component \"refsys\": Component \"wkt\": 1 string mismatch"
    < [2] "Component \"x\": Component \"point\": 'is.NA' value mismatch: 1 in current 0 in target"
    < [3] "Component \"y\": Component \"refsys\": Component \"wkt\": 1 string mismatch"
    < [4] "Component \"y\": Component \"point\": 'is.NA' value mismatch: 1 in current 0 in target"
    ---
    > [1] "Attributes: < Component \"raster\": Component \"blocksizes\": Modes: numeric, NULL >"
    > [2] "Attributes: < Component \"raster\": Component \"blocksizes\": Lengths: 2, 0 >"
    > [3] "Attributes: < Component \"raster\": Component \"blocksizes\": Attributes: < Modes: list, NULL > >"
    > [4] "Attributes: < Component \"raster\": Component \"blocksizes\": Attributes: < Lengths: 2, 0 > >"
    > [5] "Attributes: < Component \"raster\": Component \"blocksizes\": Attributes: < names for target but not for current > >"
    > [6] "Attributes: < Component \"raster\": Component \"blocksizes\": Attributes: < current is not list-like > >"
    > [7] "Attributes: < Component \"raster\": Component \"blocksizes\": target is matrix, current is NULL >"
    > [8] "Component \"x\": Component \"refsys\": Component \"wkt\": 1 string mismatch"
    > [9] "Component \"x\": Component \"point\": 'is.NA' value mismatch: 1 in current 0 in target"
    > [10] "Component \"y\": Component \"refsys\": Component \"wkt\": 1 string mismatch"
    > [11] "Component \"y\": Component \"point\": 'is.NA' value mismatch: 1 in current 0 in target"
    307c314
    < time 1 4 2019-02-26 04:37:25 NZDT 1 secs POSIXct NA NULL
    ---
    > time 1 4 2019-02-25 15:37:25 UTC 1 secs POSIXct NA NULL
    311,374c318,381
    < 1 10.25 -0.35 2019-02-26 04:37:25 1
    < 2 10.75 -0.35 2019-02-26 04:37:25 2
    < 3 11.25 -0.35 2019-02-26 04:37:25 3
    < 4 11.75 -0.35 2019-02-26 04:37:25 4
    < 5 10.25 -1.05 2019-02-26 04:37:25 5
    < 6 10.75 -1.05 2019-02-26 04:37:25 6
    < 7 11.25 -1.05 2019-02-26 04:37:25 7
    < 8 11.75 -1.05 2019-02-26 04:37:25 8
    < 9 10.25 -1.75 2019-02-26 04:37:25 9
    < 10 10.75 -1.75 2019-02-26 04:37:25 10
    < 11 11.25 -1.75 2019-02-26 04:37:25 11
    < 12 11.75 -1.75 2019-02-26 04:37:25 12
    < 13 10.25 -2.45 2019-02-26 04:37:25 13
    < 14 10.75 -2.45 2019-02-26 04:37:25 14
    < 15 11.25 -2.45 2019-02-26 04:37:25 15
    < 16 11.75 -2.45 2019-02-26 04:37:25 16
    < 17 10.25 -0.35 2019-02-26 04:37:26 17
    < 18 10.75 -0.35 2019-02-26 04:37:26 18
    < 19 11.25 -0.35 2019-02-26 04:37:26 19
    < 20 11.75 -0.35 2019-02-26 04:37:26 20
    < 21 10.25 -1.05 2019-02-26 04:37:26 21
    < 22 10.75 -1.05 2019-02-26 04:37:26 22
    < 23 11.25 -1.05 2019-02-26 04:37:26 23
    < 24 11.75 -1.05 2019-02-26 04:37:26 24
    < 25 10.25 -1.75 2019-02-26 04:37:26 25
    < 26 10.75 -1.75 2019-02-26 04:37:26 26
    < 27 11.25 -1.75 2019-02-26 04:37:26 27
    < 28 11.75 -1.75 2019-02-26 04:37:26 28
    < 29 10.25 -2.45 2019-02-26 04:37:26 29
    < 30 10.75 -2.45 2019-02-26 04:37:26 30
    < 31 11.25 -2.45 2019-02-26 04:37:26 31
    < 32 11.75 -2.45 2019-02-26 04:37:26 32
    < 33 10.25 -0.35 2019-02-26 04:37:27 33
    < 34 10.75 -0.35 2019-02-26 04:37:27 34
    < 35 11.25 -0.35 2019-02-26 04:37:27 35
    < 36 11.75 -0.35 2019-02-26 04:37:27 36
    < 37 10.25 -1.05 2019-02-26 04:37:27 37
    < 38 10.75 -1.05 2019-02-26 04:37:27 38
    < 39 11.25 -1.05 2019-02-26 04:37:27 39
    < 40 11.75 -1.05 2019-02-26 04:37:27 40
    < 41 10.25 -1.75 2019-02-26 04:37:27 41
    < 42 10.75 -1.75 2019-02-26 04:37:27 42
    < 43 11.25 -1.75 2019-02-26 04:37:27 43
    < 44 11.75 -1.75 2019-02-26 04:37:27 44
    < 45 10.25 -2.45 2019-02-26 04:37:27 45
    < 46 10.75 -2.45 2019-02-26 04:37:27 46
    < 47 11.25 -2.45 2019-02-26 04:37:27 47
    < 48 11.75 -2.45 2019-02-26 04:37:27 48
    < 49 10.25 -0.35 2019-02-26 04:37:28 49
    < 50 10.75 -0.35 2019-02-26 04:37:28 50
    < 51 11.25 -0.35 2019-02-26 04:37:28 51
    < 52 11.75 -0.35 2019-02-26 04:37:28 52
    < 53 10.25 -1.05 2019-02-26 04:37:28 53
    < 54 10.75 -1.05 2019-02-26 04:37:28 54
    < 55 11.25 -1.05 2019-02-26 04:37:28 55
    < 56 11.75 -1.05 2019-02-26 04:37:28 56
    < 57 10.25 -1.75 2019-02-26 04:37:28 57
    < 58 10.75 -1.75 2019-02-26 04:37:28 58
    < 59 11.25 -1.75 2019-02-26 04:37:28 59
    < 60 11.75 -1.75 2019-02-26 04:37:28 60
    < 61 10.25 -2.45 2019-02-26 04:37:28 61
    < 62 10.75 -2.45 2019-02-26 04:37:28 62
    < 63 11.25 -2.45 2019-02-26 04:37:28 63
    < 64 11.75 -2.45 2019-02-26 04:37:28 64
    ---
    > 1 10.25 -0.35 2019-02-25 15:37:25 1
    > 2 10.75 -0.35 2019-02-25 15:37:25 2
    > 3 11.25 -0.35 2019-02-25 15:37:25 3
    > 4 11.75 -0.35 2019-02-25 15:37:25 4
    > 5 10.25 -1.05 2019-02-25 15:37:25 5
    > 6 10.75 -1.05 2019-02-25 15:37:25 6
    > 7 11.25 -1.05 2019-02-25 15:37:25 7
    > 8 11.75 -1.05 2019-02-25 15:37:25 8
    > 9 10.25 -1.75 2019-02-25 15:37:25 9
    > 10 10.75 -1.75 2019-02-25 15:37:25 10
    > 11 11.25 -1.75 2019-02-25 15:37:25 11
    > 12 11.75 -1.75 2019-02-25 15:37:25 12
    > 13 10.25 -2.45 2019-02-25 15:37:25 13
    > 14 10.75 -2.45 2019-02-25 15:37:25 14
    > 15 11.25 -2.45 2019-02-25 15:37:25 15
    > 16 11.75 -2.45 2019-02-25 15:37:25 16
    > 17 10.25 -0.35 2019-02-25 15:37:26 17
    > 18 10.75 -0.35 2019-02-25 15:37:26 18
    > 19 11.25 -0.35 2019-02-25 15:37:26 19
    > 20 11.75 -0.35 2019-02-25 15:37:26 20
    > 21 10.25 -1.05 2019-02-25 15:37:26 21
    > 22 10.75 -1.05 2019-02-25 15:37:26 22
    > 23 11.25 -1.05 2019-02-25 15:37:26 23
    > 24 11.75 -1.05 2019-02-25 15:37:26 24
    > 25 10.25 -1.75 2019-02-25 15:37:26 25
    > 26 10.75 -1.75 2019-02-25 15:37:26 26
    > 27 11.25 -1.75 2019-02-25 15:37:26 27
    > 28 11.75 -1.75 2019-02-25 15:37:26 28
    > 29 10.25 -2.45 2019-02-25 15:37:26 29
    > 30 10.75 -2.45 2019-02-25 15:37:26 30
    > 31 11.25 -2.45 2019-02-25 15:37:26 31
    > 32 11.75 -2.45 2019-02-25 15:37:26 32
    > 33 10.25 -0.35 2019-02-25 15:37:27 33
    > 34 10.75 -0.35 2019-02-25 15:37:27 34
    > 35 11.25 -0.35 2019-02-25 15:37:27 35
    > 36 11.75 -0.35 2019-02-25 15:37:27 36
    > 37 10.25 -1.05 2019-02-25 15:37:27 37
    > 38 10.75 -1.05 2019-02-25 15:37:27 38
    > 39 11.25 -1.05 2019-02-25 15:37:27 39
    > 40 11.75 -1.05 2019-02-25 15:37:27 40
    > 41 10.25 -1.75 2019-02-25 15:37:27 41
    > 42 10.75 -1.75 2019-02-25 15:37:27 42
    > 43 11.25 -1.75 2019-02-25 15:37:27 43
    > 44 11.75 -1.75 2019-02-25 15:37:27 44
    > 45 10.25 -2.45 2019-02-25 15:37:27 45
    > 46 10.75 -2.45 2019-02-25 15:37:27 46
    > 47 11.25 -2.45 2019-02-25 15:37:27 47
    > 48 11.75 -2.45 2019-02-25 15:37:27 48
    > 49 10.25 -0.35 2019-02-25 15:37:28 49
    > 50 10.75 -0.35 2019-02-25 15:37:28 50
    > 51 11.25 -0.35 2019-02-25 15:37:28 51
    > 52 11.75 -0.35 2019-02-25 15:37:28 52
    > 53 10.25 -1.05 2019-02-25 15:37:28 53
    > 54 10.75 -1.05 2019-02-25 15:37:28 54
    > 55 11.25 -1.05 2019-02-25 15:37:28 55
    > 56 11.75 -1.05 2019-02-25 15:37:28 56
    > 57 10.25 -1.75 2019-02-25 15:37:28 57
    > 58 10.75 -1.75 2019-02-25 15:37:28 58
    > 59 11.25 -1.75 2019-02-25 15:37:28 59
    > 60 11.75 -1.75 2019-02-25 15:37:28 60
    > 61 10.25 -2.45 2019-02-25 15:37:28 61
    > 62 10.75 -2.45 2019-02-25 15:37:28 62
    > 63 11.25 -2.45 2019-02-25 15:37:28 63
    > 64 11.75 -2.45 2019-02-25 15:37:28 64
    473,476c480,483
    < 2019-02-26 04:37:25 1
    < 2019-02-26 04:37:26 2
    < 2019-02-26 04:37:27 3
    < 2019-02-26 04:37:28 4
    ---
    > 2019-02-25 15:37:25 1
    > 2019-02-25 15:37:26 2
    > 2019-02-25 15:37:27 3
    > 2019-02-25 15:37:28 4
    479,480c486,487
    < [1] "2019-02-26 04:37:26 NZDT" "2019-02-26 04:37:27 NZDT"
    < [3] "2019-02-26 04:37:28 NZDT" "2019-02-26 04:37:29 NZDT"
    ---
    > [1] "2019-02-25 15:37:26 UTC" "2019-02-25 15:37:27 UTC"
    > [3] "2019-02-25 15:37:28 UTC" "2019-02-25 15:37:29 UTC"
    493c500
    < time 1 4 2019-02-26 04:37:25 NZDT 1 secs POSIXct NA NULL
    ---
    > time 1 4 2019-02-25 15:37:25 UTC 1 secs POSIXct NA NULL
      Running ‘unproj.R’ [1s/1s]
      Comparing ‘unproj.Rout’ to ‘unproj.Rout.save’ ... OK
      Running ‘variogram.R’ [1s/1s]
      Comparing ‘variogram.Rout’ to ‘variogram.Rout.save’ ... OK
      Running ‘vdist.R’ [1s/1s]
      Comparing ‘vdist.Rout’ to ‘vdist.Rout.save’ ...23c23
    < 1500 (180260, 331300) 5.647694 1.100095
    ---
    > 1500 (180260, 331300) 5.50671 1.100095
      Running ‘windst.R’ [4s/4s]
      Comparing ‘windst.Rout’ to ‘windst.Rout.save’ ...38,40d37
    < Please note that 'maptools' will be retired by the end of 2023,
    < plan transition at your earliest convenience;
    < some functionality will be moved to 'sp'.
  • checking for unstated dependencies in vignettes ... OK
  • checking package vignettes in ‘inst/doc’ ... OK
  • checking running R code from vignettes ... [8s/8s] OK
      ‘gstat.Rnw’ using ‘UTF-8’... [2s/2s] OK
      ‘prs.Rnw’ using ‘UTF-8’... [1s/1s] OK
      ‘spatio-temporal-kriging.Rnw’ using ‘UTF-8’... [0s/0s] OK
      ‘st.Rnw’ using ‘UTF-8’... [5s/5s] OK
  • checking re-building of vignette outputs ... [21s/22s] OK
  • checking PDF version of manual ... OK
  • DONE
    Status: OK
  • using check arguments '--no-clean-on-error '