• using R version 4.1.1 Patched (2021-09-05 r80862)
  • using platform: aarch64-apple-darwin20 (64-bit)
  • using session charset: UTF-8
  • checking for file ‘future.batchtools/DESCRIPTION’ ... OK
  • this is package ‘future.batchtools’ version ‘0.12.0’
  • checking package namespace information ... OK
  • checking package dependencies ... OK
  • checking if this is a source package ... OK
  • checking if there is a namespace ... OK
  • checking for executable files ... OK
  • checking for hidden files and directories ... OK
  • checking for portable file names ... OK
  • checking for sufficient/correct file permissions ... OK
  • checking whether package ‘future.batchtools’ can be installed ... [2s/2s] OK
  • checking installed package size ... OK
  • checking package directory ... OK
  • checking ‘build’ directory ... OK
  • checking DESCRIPTION meta-information ... OK
  • checking top-level files ... OK
  • checking for left-over files ... OK
  • checking index information ... OK
  • checking package subdirectories ... OK
  • checking R files for non-ASCII characters ... OK
  • checking R files for syntax errors ... OK
  • checking whether the package can be loaded ... OK
  • checking whether the package can be loaded with stated dependencies ... OK
  • checking whether the package can be unloaded cleanly ... OK
  • checking whether the namespace can be loaded with stated dependencies ... OK
  • checking whether the namespace can be unloaded cleanly ... OK
  • checking loading without being on the library search path ... OK
  • checking dependencies in R code ... OK
  • checking S3 generic/method consistency ... OK
  • checking replacement functions ... OK
  • checking foreign function calls ... OK
  • checking R code for possible problems ... [2s/2s] OK
  • checking Rd files ... [0s/0s] OK
  • checking Rd metadata ... OK
  • checking Rd cross-references ... OK
  • checking for missing documentation entries ... OK
  • checking for code/documentation mismatches ... OK
  • checking Rd \usage sections ... OK
  • checking Rd contents ... OK
  • checking for unstated dependencies in examples ... OK
  • checking installed files from ‘inst/doc’ ... OK
  • checking files in ‘vignettes’ ... OK
  • checking examples ... [4s/4s] OK
  • checking for unstated dependencies in ‘tests’ ... OK
  • checking tests ... [78s/87s] OK
      Running ‘BatchtoolsFuture,gc.R’ [2s/2s]
      Running ‘BatchtoolsFuture.R’ [2s/2s]
      Running ‘BatchtoolsFutureError.R’ [2s/7s]
      Running ‘batchtools_custom.R’ [4s/4s]
      Running ‘batchtools_hpc.R’ [0s/0s]
      Running ‘batchtools_interactive.R’ [1s/1s]
      Running ‘batchtools_local.R’ [3s/4s]
      Running ‘batchtools_multicore.R’ [6s/6s]
      Running ‘batchtools_ssh.R’ [2s/4s]
      Running ‘batchtools_template.R’ [1s/1s]
      Running ‘demo.R’ [3s/4s]
      Running ‘dotdotdot.R’ [3s/4s]
      Running ‘future,labels.R’ [5s/5s]
      Running ‘future,lazy.R’ [2s/2s]
      Running ‘globals,formulas.R’ [8s/8s]
      Running ‘globals,manual.R’ [5s/6s]
      Running ‘globals,subassignment.R’ [5s/5s]
      Running ‘globals,tricky.R’ [5s/5s]
      Running ‘nbrOfWorkers.R’ [0s/0s]
      Running ‘plan.R’ [1s/1s]
      Running ‘resources_OP.R’ [1s/1s]
      Running ‘rng.R’ [5s/5s]
      Running ‘stdout.R’ [3s/3s]
      Running ‘utils.R’ [0s/0s]
      Running ‘zzz,future_lapply.R’ [8s/8s]
      Running ‘zzz.onUnload.R’ [0s/0s]
  • checking for unstated dependencies in vignettes ... OK
  • checking package vignettes in ‘inst/doc’ ... OK
  • checking running R code from vignettes ... [0s/0s] NONE
      ‘future.batchtools.md.rsp’... [0s/0s] OK
  • checking re-building of vignette outputs ... [0s/0s] OK
  • checking PDF version of manual ... OK
  • DONE
    Status: OK
  • using check arguments '--no-clean-on-error '