• using R version 4.1.1 Patched (2021-09-05 r80862)
  • using platform: aarch64-apple-darwin20 (64-bit)
  • using session charset: UTF-8
  • checking for file ‘future/DESCRIPTION’ ... OK
  • this is package ‘future’ version ‘1.32.0’
  • checking package namespace information ... OK
  • checking package dependencies ... OK
  • checking if this is a source package ... OK
  • checking if there is a namespace ... OK
  • checking for executable files ... OK
  • checking for hidden files and directories ... OK
  • checking for portable file names ... OK
  • checking for sufficient/correct file permissions ... OK
  • checking whether package ‘future’ can be installed ... [3s/3s] OK
  • checking installed package size ... OK
  • checking package directory ... OK
  • checking ‘build’ directory ... OK
  • checking DESCRIPTION meta-information ... OK
  • checking top-level files ... OK
  • checking for left-over files ... OK
  • checking index information ... OK
  • checking package subdirectories ... OK
  • checking R files for non-ASCII characters ... OK
  • checking R files for syntax errors ... OK
  • checking whether the package can be loaded ... OK
  • checking whether the package can be loaded with stated dependencies ... OK
  • checking whether the package can be unloaded cleanly ... OK
  • checking whether the namespace can be loaded with stated dependencies ... OK
  • checking whether the namespace can be unloaded cleanly ... OK
  • checking loading without being on the library search path ... OK
  • checking dependencies in R code ... OK
  • checking S3 generic/method consistency ... OK
  • checking replacement functions ... OK
  • checking foreign function calls ... OK
  • checking R code for possible problems ... [4s/4s] OK
  • checking Rd files ... [0s/0s] OK
  • checking Rd metadata ... OK
  • checking Rd cross-references ... OK
  • checking for missing documentation entries ... OK
  • checking for code/documentation mismatches ... OK
  • checking Rd \usage sections ... OK
  • checking Rd contents ... OK
  • checking for unstated dependencies in examples ... OK
  • checking installed files from ‘inst/doc’ ... OK
  • checking files in ‘vignettes’ ... OK
  • checking examples ... [1s/1s] OK
  • checking for unstated dependencies in ‘tests’ ... OK
  • checking tests ... [55s/140s] OK
      Running ‘000.sessionDetails.R’ [0s/0s]
      Running ‘ClusterRegistry.R’ [0s/1s]
      Running ‘Future-class.R’ [0s/1s]
      Running ‘FutureError.R’ [0s/0s]
      Running ‘FutureGlobals.R’ [0s/0s]
      Running ‘FutureRegistry.R’ [0s/0s]
      Running ‘adhoc_native_to_utf8.R’ [0s/0s]
      Running ‘backtrace.R’ [1s/4s]
      Running ‘bquote.R’ [0s/0s]
      Running ‘cluster,worker-termination.R’ [0s/1s]
      Running ‘cluster-missing-future-pkg.R’ [0s/0s]
      Running ‘cluster.R’ [1s/2s]
      Running ‘constant.R’ [0s/0s]
      Running ‘demo.R’ [2s/3s]
      Running ‘dotdotdot.R’ [1s/1s]
      Running ‘early-signaling.R’ [0s/9s]
      Running ‘future,labels.R’ [1s/1s]
      Running ‘future,optsenvvars.R’ [1s/1s]
      Running ‘future.R’ [0s/0s]
      Running ‘futureAssign.R’ [1s/1s]
      Running ‘futureAssign_OP.R’ [1s/2s]
      Running ‘futureAssign_OP_with_environment.R’ [0s/0s]
      Running ‘futureAssign_OP_with_listenv.R’ [0s/0s]
      Running ‘futureCall.R’ [1s/2s]
      Running ‘futureOf.R’ [0s/0s]
      Running ‘futureOf_with_environment.R’ [0s/0s]
      Running ‘futureOf_with_listenv.R’ [0s/0s]
      Running ‘futureSessionInfo.R’ [0s/0s]
      Running ‘futures.R’ [3s/4s]
      Running ‘globals,NSE.R’ [1s/2s]
      Running ‘globals,S4methods.R’ [1s/1s]
      Running ‘globals,formulas.R’ [2s/2s]
      Running ‘globals,locals.R’ [1s/2s]
      Running ‘globals,manual.R’ [2s/3s]
      Running ‘globals,resolve.R’ [1s/1s]
      Running ‘globals,subassignment.R’ [1s/2s]
      Running ‘globals,toolarge.R’ [1s/1s]
      Running ‘globals,tricky.R’ [3s/4s]
      Running ‘globals,tricky_recursive.R’ [1s/1s]
      Running ‘globalsOf,tweaks.R’ [0s/0s]
      Running ‘immediateCondition.R’ [0s/4s]
      Running ‘invalid-owner.R’ [1s/1s]
      Running ‘mandelbrot.R’ [0s/0s]
      Running ‘mpi.R’ [0s/0s]
      Running ‘multicore,multithreading.R’ [0s/0s]
      Running ‘multicore,worker-termination.R’ [0s/0s]
      Running ‘multicore.R’ [1s/1s]
      Running ‘multisession.R’ [1s/3s]
      Running ‘nbrOfWorkers.R’ [1s/2s]
      Running ‘nested_futures,mc.cores.R’ [1s/5s]
      Running ‘nested_futures.R’ [2s/3s]
      Running ‘non-exportable,connections.R’ [0s/1s]
      Running ‘objectSize.R’ [0s/0s]
      Running ‘plan.R’ [1s/2s]
      Running ‘relaying,muffle.R’ [0s/0s]
      Running ‘relaying,split.R’ [0s/0s]
      Running ‘relaying.R’ [1s/4s]
      Running ‘requestCore.R’ [0s/2s]
      Running ‘requestNode.R’ [0s/6s]
      Running ‘reserved-keyword-functions.R’ [0s/0s]
      Running ‘resolve.R’ [4s/21s]
      Running ‘resolved-non-blocking-test.R’ [1s/15s]
      Running ‘rng.R’ [4s/4s]
      Running ‘rng_utils.R’ [0s/0s]
      Running ‘sequential.R’ [0s/0s]
      Running ‘sessionDetails.R’ [0s/0s]
      Running ‘startup.R’ [0s/1s]
      Running ‘stdout.R’ [1s/1s]
      Running ‘tweak.R’ [0s/1s]
      Running ‘utils.R’ [4s/4s]
      Running ‘uuid.R’ [0s/0s]
      Running ‘whichIndex.R’ [0s/0s]
  • checking for unstated dependencies in vignettes ... OK
  • checking package vignettes in ‘inst/doc’ ... OK
  • checking running R code from vignettes ... [2s/2s] NONE
      ‘future-1-overview.md.rsp’... [0s/0s] OK
      ‘future-2-output.md.rsp’... [0s/0s] OK
      ‘future-3-topologies.md.rsp’... [0s/0s] OK
      ‘future-4-issues.md.rsp’... [0s/0s] OK
      ‘future-4-non-exportable-objects.md.rsp’... [0s/0s] OK
      ‘future-5-startup.md.rsp’... [0s/0s] OK
      ‘future-6-future-api-backend-specification.md.rsp’... [0s/0s] OK
      ‘future-7-for-package-developers.md.rsp’... [0s/0s] OK
      ‘future-8-how-future-is-validated.md.rsp’... [0s/0s] OK
  • checking re-building of vignette outputs ... [2s/2s] OK
  • checking PDF version of manual ... OK
  • DONE
    Status: OK
  • using check arguments '--no-clean-on-error '