• using R version 4.4.1 (2024-06-14)
  • using platform: aarch64-apple-darwin20
  • R was compiled by     Apple clang version 14.0.0 (clang-1400.0.29.202)     GNU Fortran (GCC) 12.2.0
  • running under: macOS Ventura 13.4
  • using session charset: UTF-8
  • checking for file ‘diptest/DESCRIPTION’ ... OK
  • this is package ‘diptest’ version ‘0.77-1’
  • checking package namespace information ... OK
  • checking package dependencies ... OK
  • checking if this is a source package ... OK
  • checking if there is a namespace ... OK
  • checking for executable files ... OK
  • checking for hidden files and directories ... OK
  • checking for portable file names ... OK
  • checking for sufficient/correct file permissions ... OK
  • checking whether package ‘diptest’ can be installed ... [2s/3s] OK See the install log for details.
  • used C compiler: ‘Apple clang version 14.0.0 (clang-1400.0.29.202)’
  • used SDK: ‘MacOSX11.3.sdk’
  • checking installed package size ... OK
  • checking package directory ... OK
  • checking ‘build’ directory ... OK
  • checking DESCRIPTION meta-information ... OK
  • checking top-level files ... OK
  • checking for left-over files ... OK
  • checking index information ... OK
  • checking package subdirectories ... OK
  • checking code files for non-ASCII characters ... OK
  • checking R files for syntax errors ... OK
  • checking whether the package can be loaded ... [0s/0s] OK
  • checking whether the package can be loaded with stated dependencies ... [0s/0s] OK
  • checking whether the package can be unloaded cleanly ... [0s/0s] OK
  • checking whether the namespace can be loaded with stated dependencies ... [0s/0s] OK
  • checking whether the namespace can be unloaded cleanly ... [0s/0s] OK
  • checking loading without being on the library search path ... [0s/0s] OK
  • checking dependencies in R code ... OK
  • checking S3 generic/method consistency ... OK
  • checking replacement functions ... OK
  • checking foreign function calls ... OK
  • checking R code for possible problems ... [1s/1s] OK
  • checking Rd files ... [0s/0s] OK
  • checking Rd metadata ... OK
  • checking Rd cross-references ... OK
  • checking for missing documentation entries ... OK
  • checking for code/documentation mismatches ... OK
  • checking Rd \usage sections ... OK
  • checking Rd contents ... OK
  • checking for unstated dependencies in examples ... OK
  • checking contents of ‘data’ directory ... OK
  • checking data for non-ASCII characters ... [0s/0s] OK
  • checking data for ASCII and uncompressed saves ... OK
  • checking line endings in C/C++/Fortran sources/headers ... OK
  • checking compiled code ... OK
  • checking sizes of PDF files under ‘inst/doc’ ... OK
  • checking installed files from ‘inst/doc’ ... OK
  • checking files in ‘vignettes’ ... OK
  • checking examples ... [1s/1s] OK
  • checking for unstated dependencies in ‘tests’ ... OK
  • checking tests ... [2s/2s] OK   Running ‘ex1.R’ [0s/0s]   Comparing ‘ex1.Rout’ to ‘ex1.Rout.save’ ...53c53 < $ lo.hi : int [1:2] 1 2 --- > $ lo.hi : int [1:2] 3 4 55,56c55,56 < $ gcm : int [1:2] 2 1 < $ lcm : int [1:2] 1 2 --- > $ gcm : int [1:2] 4 3 > $ lcm : int [1:2] 3 4 61,62c61,62 < $ xl : num 0 < $ xu : num 1 --- > $ xl : num 3 > $ xu : num 4   Running ‘mechler-ex.R’ [0s/0s]   Comparing ‘mechler-ex.Rout’ to ‘mechler-ex.Rout.save’ ... OK   Running ‘sim1.R’ [1s/1s]   Comparing ‘sim1.Rout’ to ‘sim1.Rout.save’ ... OK
  • checking for unstated dependencies in vignettes ... OK
  • checking package vignettes ... OK
  • checking re-building of vignette outputs ... [10s/11s] OK
  • checking PDF version of manual ... [4s/4s] OK
  • DONE Status: OK
  • using check arguments '--no-clean-on-error '