• using R version 4.1.1 Patched (2021-09-05 r80862)
  • using platform: aarch64-apple-darwin20 (64-bit)
  • using session charset: UTF-8
  • checking for file ‘cluster/DESCRIPTION’ ... OK
  • this is package ‘cluster’ version ‘2.1.3’
  • checking package namespace information ... OK
  • checking package dependencies ... OK
  • checking if this is a source package ... OK
  • checking if there is a namespace ... OK
  • checking for executable files ... OK
  • checking for hidden files and directories ... OK
  • checking for portable file names ... OK
  • checking for sufficient/correct file permissions ... OK
  • checking whether package ‘cluster’ can be installed ... [4s/5s] OK
  • checking installed package size ... OK
  • checking package directory ... OK
  • checking DESCRIPTION meta-information ... OK
  • checking top-level files ... OK
  • checking for left-over files ... OK
  • checking index information ... OK
  • checking package subdirectories ... OK
  • checking R files for non-ASCII characters ... OK
  • checking R files for syntax errors ... OK
  • checking whether the package can be loaded ... OK
  • checking whether the package can be loaded with stated dependencies ... OK
  • checking whether the package can be unloaded cleanly ... OK
  • checking whether the namespace can be loaded with stated dependencies ... OK
  • checking whether the namespace can be unloaded cleanly ... OK
  • checking dependencies in R code ... OK
  • checking S3 generic/method consistency ... OK
  • checking replacement functions ... OK
  • checking foreign function calls ... OK
  • checking R code for possible problems ... [3s/3s] OK
  • checking Rd files ... [1s/1s] OK
  • checking Rd metadata ... OK
  • checking Rd cross-references ... OK
  • checking for missing documentation entries ... OK
  • checking for code/documentation mismatches ... OK
  • checking Rd \usage sections ... OK
  • checking Rd contents ... OK
  • checking for unstated dependencies in examples ... OK
  • checking contents of ‘data’ directory ... OK
  • checking data for non-ASCII characters ... OK
  • checking LazyData ... OK
  • checking data for ASCII and uncompressed saves ... OK
  • checking line endings in C/C++/Fortran sources/headers ... OK
  • checking compiled code ... OK
  • checking examples ... [2s/2s] OK
  • checking for unstated dependencies in ‘tests’ ... OK
  • checking tests ... [22s/23s] OK
      Running ‘agnes-ex.R’ [1s/1s]
      Comparing ‘agnes-ex.Rout’ to ‘agnes-ex.Rout.save’ ... OK
      Running ‘clara-NAs.R’ [0s/0s]
      Comparing ‘clara-NAs.Rout’ to ‘clara-NAs.Rout.save’ ... OK
      Running ‘clara-ex.R’ [1s/1s]
      Running ‘clara.R’ [2s/2s]
      Comparing ‘clara.Rout’ to ‘clara.Rout.save’ ... OK
      Running ‘clusplot-out.R’ [0s/0s]
      Comparing ‘clusplot-out.Rout’ to ‘clusplot-out.Rout.save’ ... OK
      Running ‘daisy-ex.R’ [0s/0s]
      Comparing ‘daisy-ex.Rout’ to ‘daisy-ex.Rout.save’ ... OK
      Running ‘diana-boots.R’ [1s/1s]
      Running ‘diana-ex.R’ [0s/0s]
      Comparing ‘diana-ex.Rout’ to ‘diana-ex.Rout.save’ ... OK
      Running ‘ellipsoid-ex.R’ [0s/0s]
      Comparing ‘ellipsoid-ex.Rout’ to ‘ellipsoid-ex.Rout.save’ ... OK
      Running ‘fanny-ex.R’ [0s/0s]
      Running ‘mona.R’ [0s/0s]
      Comparing ‘mona.Rout’ to ‘mona.Rout.save’ ... OK
      Running ‘pam.R’ [15s/15s]
      Comparing ‘pam.Rout’ to ‘pam.Rout.save’ ... OK
      Running ‘silhouette-default.R’ [1s/1s]
      Comparing ‘silhouette-default.Rout’ to ‘silhouette-default.Rout.save’ ... OK
      Running ‘sweep-ex.R’ [0s/0s]
      Running ‘withAutoprint.R’ [0s/0s]
  • checking PDF version of manual ... OK
  • DONE
    Status: OK
  • using check arguments '--no-clean-on-error '