• using R version 4.4.0 alpha (2024-03-31 r86238)
  • using platform: aarch64-apple-darwin20
  • R was compiled by     Apple clang version 14.0.0 (clang-1400.0.29.202)     GNU Fortran (GCC) 12.2.0
  • running under: macOS Ventura 13.4
  • using session charset: UTF-8
  • checking for file ‘bitmexr/DESCRIPTION’ ... OK
  • checking extension type ... Package
  • this is package ‘bitmexr’ version ‘0.3.3’
  • package encoding: UTF-8
  • checking package namespace information ... OK
  • checking package dependencies ... OK
  • checking if this is a source package ... OK
  • checking if there is a namespace ... OK
  • checking for executable files ... OK
  • checking for hidden files and directories ... OK
  • checking for portable file names ... OK
  • checking for sufficient/correct file permissions ... OK
  • checking whether package ‘bitmexr’ can be installed ... [3s/3s] OK See the install log for details.
  • checking installed package size ... OK
  • checking package directory ... OK
  • checking ‘build’ directory ... OK
  • checking DESCRIPTION meta-information ... OK
  • checking top-level files ... OK
  • checking for left-over files ... OK
  • checking index information ... OK
  • checking package subdirectories ... OK
  • checking code files for non-ASCII characters ... OK
  • checking R files for syntax errors ... OK
  • checking whether the package can be loaded ... [1s/1s] OK
  • checking whether the package can be loaded with stated dependencies ... [0s/0s] OK
  • checking whether the package can be unloaded cleanly ... [0s/0s] OK
  • checking whether the namespace can be loaded with stated dependencies ... [1s/1s] OK
  • checking whether the namespace can be unloaded cleanly ... [1s/1s] OK
  • checking loading without being on the library search path ... [1s/1s] OK
  • checking dependencies in R code ... OK
  • checking S3 generic/method consistency ... OK
  • checking replacement functions ... OK
  • checking foreign function calls ... OK
  • checking R code for possible problems ... [2s/2s] OK
  • checking Rd files ... [0s/0s] NOTE checkRd: (-1) bucket_trades.Rd:56: Lost braces in \itemize; \value handles \item{}{} directly checkRd: (-1) bucket_trades.Rd:57: Lost braces in \itemize; \value handles \item{}{} directly checkRd: (-1) bucket_trades.Rd:58: Lost braces in \itemize; \value handles \item{}{} directly checkRd: (-1) bucket_trades.Rd:59: Lost braces in \itemize; \value handles \item{}{} directly checkRd: (-1) bucket_trades.Rd:60: Lost braces in \itemize; \value handles \item{}{} directly checkRd: (-1) bucket_trades.Rd:61: Lost braces in \itemize; \value handles \item{}{} directly checkRd: (-1) bucket_trades.Rd:62: Lost braces in \itemize; \value handles \item{}{} directly checkRd: (-1) bucket_trades.Rd:63: Lost braces in \itemize; \value handles \item{}{} directly checkRd: (-1) bucket_trades.Rd:64: Lost braces in \itemize; \value handles \item{}{} directly checkRd: (-1) bucket_trades.Rd:65: Lost braces in \itemize; \value handles \item{}{} directly checkRd: (-1) bucket_trades.Rd:66: Lost braces in \itemize; \value handles \item{}{} directly checkRd: (-1) bucket_trades.Rd:67: Lost braces in \itemize; \value handles \item{}{} directly checkRd: (-1) bucket_trades.Rd:68: Lost braces in \itemize; \value handles \item{}{} directly checkRd: (-1) bucket_trades.Rd:91: Lost braces     91 | url{https://www.bitmex.com/api/explorer/#!/Trade/Trade_getBucketed}        | ^ checkRd: (-1) cancel_all_orders.Rd:13: Lost braces; missing escapes or markup?     13 | e.g. '{"side": "Buy"}'.}        | ^ checkRd: (-1) map_bucket_trades.Rd:45: Lost braces in \itemize; \value handles \item{}{} directly checkRd: (-1) map_bucket_trades.Rd:46: Lost braces in \itemize; \value handles \item{}{} directly checkRd: (-1) map_bucket_trades.Rd:47: Lost braces in \itemize; \value handles \item{}{} directly checkRd: (-1) map_bucket_trades.Rd:48: Lost braces in \itemize; \value handles \item{}{} directly checkRd: (-1) map_bucket_trades.Rd:49: Lost braces in \itemize; \value handles \item{}{} directly checkRd: (-1) map_bucket_trades.Rd:50: Lost braces in \itemize; \value handles \item{}{} directly checkRd: (-1) map_bucket_trades.Rd:51: Lost braces in \itemize; \value handles \item{}{} directly checkRd: (-1) map_bucket_trades.Rd:52: Lost braces in \itemize; \value handles \item{}{} directly checkRd: (-1) map_bucket_trades.Rd:53: Lost braces in \itemize; \value handles \item{}{} directly checkRd: (-1) map_bucket_trades.Rd:54: Lost braces in \itemize; \value handles \item{}{} directly checkRd: (-1) map_bucket_trades.Rd:55: Lost braces in \itemize; \value handles \item{}{} directly checkRd: (-1) map_bucket_trades.Rd:56: Lost braces in \itemize; \value handles \item{}{} directly checkRd: (-1) map_bucket_trades.Rd:57: Lost braces in \itemize; \value handles \item{}{} directly checkRd: (-1) map_trades.Rd:37: Lost braces in \itemize; \value handles \item{}{} directly checkRd: (-1) map_trades.Rd:38: Lost braces in \itemize; \value handles \item{}{} directly checkRd: (-1) map_trades.Rd:39: Lost braces in \itemize; \value handles \item{}{} directly checkRd: (-1) map_trades.Rd:40: Lost braces in \itemize; \value handles \item{}{} directly checkRd: (-1) map_trades.Rd:41: Lost braces in \itemize; \value handles \item{}{} directly checkRd: (-1) map_trades.Rd:42-43: Lost braces in \itemize; \value handles \item{}{} directly checkRd: (-1) map_trades.Rd:44: Lost braces in \itemize; \value handles \item{}{} directly checkRd: (-1) map_trades.Rd:45: Lost braces in \itemize; \value handles \item{}{} directly checkRd: (-1) map_trades.Rd:46: Lost braces in \itemize; \value handles \item{}{} directly checkRd: (-1) map_trades.Rd:47: Lost braces in \itemize; \value handles \item{}{} directly checkRd: (-1) tn_cancel_all_orders.Rd:13: Lost braces; missing escapes or markup?     13 | e.g. '{"side": "Buy"}'.}        | ^ checkRd: (-1) trades.Rd:48: Lost braces in \itemize; \value handles \item{}{} directly checkRd: (-1) trades.Rd:49: Lost braces in \itemize; \value handles \item{}{} directly checkRd: (-1) trades.Rd:50: Lost braces in \itemize; \value handles \item{}{} directly checkRd: (-1) trades.Rd:51: Lost braces in \itemize; \value handles \item{}{} directly checkRd: (-1) trades.Rd:52: Lost braces in \itemize; \value handles \item{}{} directly checkRd: (-1) trades.Rd:53: Lost braces in \itemize; \value handles \item{}{} directly checkRd: (-1) trades.Rd:54: Lost braces in \itemize; \value handles \item{}{} directly checkRd: (-1) trades.Rd:55: Lost braces in \itemize; \value handles \item{}{} directly checkRd: (-1) trades.Rd:56: Lost braces in \itemize; \value handles \item{}{} directly checkRd: (-1) trades.Rd:57: Lost braces in \itemize; \value handles \item{}{} directly
  • checking Rd metadata ... OK
  • checking Rd cross-references ... OK
  • checking for missing documentation entries ... OK
  • checking for code/documentation mismatches ... OK
  • checking Rd \usage sections ... OK
  • checking Rd contents ... OK
  • checking for unstated dependencies in examples ... OK
  • checking installed files from ‘inst/doc’ ... OK
  • checking files in ‘vignettes’ ... OK
  • checking examples ... [1s/1s] OK
  • checking for unstated dependencies in ‘tests’ ... OK
  • checking tests ... [1s/1s] OK   Running ‘testthat.R’ [1s/1s]
  • checking for unstated dependencies in vignettes ... OK
  • checking package vignettes ... OK
  • checking re-building of vignette outputs ... [11s/12s] OK
  • checking PDF version of manual ... [5s/6s] OK
  • DONE Status: 1 NOTE
  • using check arguments '--no-clean-on-error '