- using R Under development (unstable) (2022-03-20 r81946)
- using platform: aarch64-apple-darwin20 (64-bit)
- using session charset: UTF-8
- checking for file ‘actel/DESCRIPTION’ ... OK
- this is package ‘actel’ version ‘1.2.1’
- package encoding: UTF-8
- checking package namespace information ... OK
- checking package dependencies ... NOTE
Packages suggested but not available for checking:
'RGtk2', 'gWidgets2RGtk2'
- checking if this is a source package ... OK
- checking if there is a namespace ... OK
- checking for executable files ... OK
- checking for hidden files and directories ... OK
- checking for portable file names ... OK
- checking for sufficient/correct file permissions ... OK
- checking whether package ‘actel’ can be installed ... [6s/7s] OK
- checking installed package size ... NOTE
installed size is 5.0Mb
sub-directories of 1Mb or more:
doc 3.7Mb
- checking package directory ... OK
- checking ‘build’ directory ... OK
- checking DESCRIPTION meta-information ... OK
- checking top-level files ... OK
- checking for left-over files ... OK
- checking index information ... OK
- checking package subdirectories ... OK
- checking R files for non-ASCII characters ... OK
- checking R files for syntax errors ... OK
- checking whether the package can be loaded ... OK
- checking whether the package can be loaded with stated dependencies ... OK
- checking whether the package can be unloaded cleanly ... OK
- checking whether the namespace can be loaded with stated dependencies ... OK
- checking whether the namespace can be unloaded cleanly ... OK
- checking loading without being on the library search path ... OK
- checking dependencies in R code ... NOTE
Namespace in Imports field not imported from: ‘svglite’
All declared Imports should be used.
- checking S3 generic/method consistency ... OK
- checking replacement functions ... OK
- checking foreign function calls ... OK
- checking R code for possible problems ... [9s/10s] OK
- checking Rd files ... [0s/0s] OK
- checking Rd metadata ... OK
- checking Rd cross-references ... OK
- checking for missing documentation entries ... OK
- checking for code/documentation mismatches ... OK
- checking Rd \usage sections ... OK
- checking Rd contents ... OK
- checking for unstated dependencies in examples ... OK
- checking contents of ‘data’ directory ... OK
- checking data for non-ASCII characters ... OK
- checking LazyData ... OK
- checking data for ASCII and uncompressed saves ... OK
- checking R/sysdata.rda ... OK
- checking installed files from ‘inst/doc’ ... OK
- checking files in ‘vignettes’ ... OK
- checking examples ... [5s/5s] OK
- checking for unstated dependencies in ‘tests’ ... OK
- checking tests ... [7s/8s] OK
Running ‘testthat.R’ [7s/8s]
- checking for unstated dependencies in vignettes ... OK
- checking package vignettes in ‘inst/doc’ ... OK
- checking running R code from vignettes ... [4s/4s] NONE
‘a-0_workspace_requirements.Rmd’ using ‘UTF-8’... [0s/0s] OK
‘a-1_study_area.Rmd’ using ‘UTF-8’... [0s/0s] OK
‘a-2_distances_matrix.Rmd’ using ‘UTF-8’... [0s/0s] OK
‘a-3_preload.Rmd’ using ‘UTF-8’... [0s/0s] OK
‘b-0_explore.Rmd’ using ‘UTF-8’... [0s/0s] OK
‘b-1_explore_processes.Rmd’ using ‘UTF-8’... [0s/0s] OK
‘b-2_explore_results.Rmd’ using ‘UTF-8’... [0s/0s] OK
‘c-0_migration.Rmd’ using ‘UTF-8’... [0s/0s] OK
‘c-1_migration_processes.Rmd’ using ‘UTF-8’... [0s/0s] OK
‘c-2_migration_results.Rmd’ using ‘UTF-8’... [0s/0s] OK
‘c-3_migration_efficiency.Rmd’ using ‘UTF-8’... [0s/0s] OK
‘d-0_residency.Rmd’ using ‘UTF-8’... [0s/0s] OK
‘d-1_residency_processes.Rmd’ using ‘UTF-8’... [0s/0s] OK
‘d-2_residency_results.Rmd’ using ‘UTF-8’... [0s/0s] OK
‘d-3_residency_efficiency.Rmd’ using ‘UTF-8’... [0s/0s] OK
‘e-0_manual_mode.Rmd’ using ‘UTF-8’... [0s/0s] OK
‘f-0_post_functions.Rmd’ using ‘UTF-8’... [0s/0s] OK
- checking re-building of vignette outputs ... [8s/9s] OK
- checking PDF version of manual ... OK
- DONE
Status: 3 NOTEs
- using check arguments '--no-clean-on-error '