* using log directory ‘/Volumes/Builds/packages/big-sur-arm64/results/4.4/UNCLES.Rcheck’ * using R version 4.4.0 alpha (2024-03-31 r86238) * using platform: aarch64-apple-darwin20 * R was compiled by Apple clang version 14.0.0 (clang-1400.0.29.202) GNU Fortran (GCC) 12.2.0 * running under: macOS Ventura 13.4 * using session charset: UTF-8 * checking for file ‘UNCLES/DESCRIPTION’ ... OK * checking extension type ... Package * this is package ‘UNCLES’ version ‘2.0’ * checking package namespace information ... OK * checking package dependencies ... OK * checking if this is a source package ... OK * checking if there is a namespace ... OK * checking for executable files ... OK * checking for hidden files and directories ... OK * checking for portable file names ... OK * checking for sufficient/correct file permissions ... OK * checking whether package ‘UNCLES’ can be installed ... [2s/2s] OK See 'https://www.r-project.org/nosvn/R.check/r-oldrel-macos-arm64/UNCLES-00install.html' for details. * checking installed package size ... OK * checking package directory ... OK * checking DESCRIPTION meta-information ... OK * checking top-level files ... OK * checking for left-over files ... OK * checking index information ... OK * checking package subdirectories ... OK * checking code files for non-ASCII characters ... OK * checking R files for syntax errors ... OK * checking whether the package can be loaded ... [0s/0s] OK * checking whether the package can be loaded with stated dependencies ... [0s/0s] OK * checking whether the package can be unloaded cleanly ... [0s/0s] OK * checking whether the namespace can be loaded with stated dependencies ... [0s/0s] OK * checking whether the namespace can be unloaded cleanly ... [0s/0s] OK * checking loading without being on the library search path ... [0s/0s] OK * checking dependencies in R code ... OK * checking S3 generic/method consistency ... OK * checking replacement functions ... OK * checking foreign function calls ... OK * checking R code for possible problems ... [2s/2s] OK * checking Rd files ... [0s/0s] OK * checking Rd metadata ... OK * checking Rd cross-references ... OK * checking for missing documentation entries ... OK * checking for code/documentation mismatches ... OK * checking Rd \usage sections ... OK * checking Rd contents ... NOTE Argument items with no description in Rd file 'HC.Rd': ‘X’ ‘K’ Argument items with no description in Rd file 'KA.Rd': ‘X’ ‘K’ ‘distancemetric’ Argument items with no description in Rd file 'SOMs.Rd': ‘X’ ‘K’ ‘topo’ ‘rlen’ ‘alpha’ ‘n.hood’ Argument items with no description in Rd file 'binarise.Rd': ‘U’ ‘K’ ‘technique’ ‘parameter’ Argument items with no description in Rd file 'closestToSquareFactors.Rd': ‘n’ Argument items with no description in Rd file 'clustDist.Rd': ‘U1’ ‘U2’ ‘X’ ‘criterion’ Argument items with no description in Rd file 'clustVec2partMat.Rd': ‘C’ Argument items with no description in Rd file 'clusterDataset.Rd': ‘X’ ‘K’ ‘D’ ‘methods’ Argument items with no description in Rd file 'factors.Rd': ‘n’ ‘primeonly’ Argument items with no description in Rd file 'fixnans.Rd': ‘X’ ‘type’ Argument items with no description in Rd file 'fuzzystretch.Rd': ‘X’ ‘x0’ Argument items with no description in Rd file 'generateCoPaM.Rd': ‘U’ ‘relabel_technique’ ‘w’ ‘X’ ‘distCriterion’ ‘K’ ‘GDM’ Argument items with no description in Rd file 'isValidBPM.Rd': ‘U’ Argument items with no description in Rd file 'isempty.Rd': ‘X’ Argument items with no description in Rd file 'isnullorempty.Rd': ‘X’ Argument items with no description in Rd file 'kmeansKA.Rd': ‘X’ ‘K’ ‘distancemetric’ ‘iter.max’ ‘nstart’ ‘algorithm’ ‘trace’ Argument items with no description in Rd file 'mnplots.Rd': ‘Vmse’ ‘mseCache’ ‘subplotdim’ ‘subplotind’ ‘minimiseDistance’ Argument items with no description in Rd file 'mseclusters.Rd': ‘X’ ‘B’ ‘normalise’ Argument items with no description in Rd file 'normaliseMatrix.Rd': ‘X’ ‘type’ Argument items with no description in Rd file 'partMat2clustVec.rd': ‘U’ ‘skipValidity’ Argument items with no description in Rd file 'permutations.Rd': ‘n’ Argument items with no description in Rd file 'relabelClusts.Rd': ‘ref’ ‘input’ ‘technique’ ‘X’ ‘distCriterion’ * checking for unstated dependencies in examples ... OK * checking examples ... [0s/0s] OK * checking PDF version of manual ... [3s/3s] OK * DONE Status: 1 NOTE * using check arguments '--no-clean-on-error ' * elapsed time (check, wall clock): 0:18