• using R version 4.1.1 Patched (2021-09-05 r80862)
  • using platform: aarch64-apple-darwin20 (64-bit)
  • using session charset: UTF-8
  • checking for file ‘SPUTNIK/DESCRIPTION’ ... OK
  • checking extension type ... Package
  • this is package ‘SPUTNIK’ version ‘1.4.1’
  • package encoding: UTF-8
  • checking package namespace information ... OK
  • checking package dependencies ... OK
  • checking if this is a source package ... OK
  • checking if there is a namespace ... OK
  • checking for executable files ... OK
  • checking for hidden files and directories ... OK
  • checking for portable file names ... OK
  • checking for sufficient/correct file permissions ... OK
  • checking whether package ‘SPUTNIK’ can be installed ... [5s/6s] OK
  • checking installed package size ... OK
  • checking package directory ... OK
  • checking DESCRIPTION meta-information ... OK
  • checking top-level files ... OK
  • checking for left-over files ... OK
  • checking index information ... OK
  • checking package subdirectories ... OK
  • checking R files for non-ASCII characters ... OK
  • checking R files for syntax errors ... OK
  • checking whether the package can be loaded ... OK
  • checking whether the package can be loaded with stated dependencies ... OK
  • checking whether the package can be unloaded cleanly ... OK
  • checking whether the namespace can be loaded with stated dependencies ... OK
  • checking whether the namespace can be unloaded cleanly ... OK
  • checking loading without being on the library search path ... OK
  • checking dependencies in R code ... OK
  • checking S3 generic/method consistency ... OK
  • checking replacement functions ... OK
  • checking foreign function calls ... OK
  • checking R code for possible problems ... [4s/5s] OK
  • checking Rd files ... [0s/0s] OK
  • checking Rd metadata ... OK
  • checking Rd cross-references ... OK
  • checking for missing documentation entries ... OK
  • checking for code/documentation mismatches ... OK
  • checking Rd \usage sections ... OK
  • checking Rd contents ... OK
  • checking for unstated dependencies in examples ... OK
  • checking examples ... [2s/2s] OK
  • checking for unstated dependencies in ‘tests’ ... OK
  • checking tests ... [127s/139s] OK
      Running ‘test_constructors.R’ [3s/3s]
      Running ‘test_csr_filter.R’ [29s/32s]
      Running ‘test_ext_data.R’ [6s/9s]
      Running ‘test_global_ref_filter.R’ [41s/43s]
      Running ‘test_pixel_count_filter.R’ [49s/52s]
  • checking PDF version of manual ... OK
  • DONE
    Status: OK
  • using check arguments '--no-clean-on-error '