• using R version 4.2.0 (2022-04-22)
  • using platform: aarch64-apple-darwin20 (64-bit)
  • using session charset: UTF-8
  • checking for file ‘Rserve/DESCRIPTION’ ... OK
  • this is package ‘Rserve’ version ‘1.8-11’
  • checking package namespace information ... OK
  • checking package dependencies ... OK
  • checking if this is a source package ... OK
  • checking if there is a namespace ... OK
  • checking for executable files ... OK
  • checking for hidden files and directories ... OK
  • checking for portable file names ... OK
  • checking for sufficient/correct file permissions ... OK
  • checking whether package ‘Rserve’ can be installed ... [21s/25s] OK
  • checking installed package size ... NOTE
      installed size is 10.4Mb
      sub-directories of 1Mb or more:
        libs 10.2Mb
  • checking package directory ... OK
  • checking DESCRIPTION meta-information ... OK
  • checking top-level files ... OK
  • checking for left-over files ... OK
  • checking index information ... OK
  • checking package subdirectories ... OK
  • checking R files for non-ASCII characters ... OK
  • checking R files for syntax errors ... OK
  • checking whether the package can be loaded ... OK
  • checking whether the package can be loaded with stated dependencies ... OK
  • checking whether the package can be unloaded cleanly ... OK
  • checking whether the namespace can be loaded with stated dependencies ... OK
  • checking whether the namespace can be unloaded cleanly ... OK
  • checking loading without being on the library search path ... OK
  • checking dependencies in R code ... OK
  • checking S3 generic/method consistency ... OK
  • checking replacement functions ... OK
  • checking foreign function calls ... OK
  • checking R code for possible problems ... [1s/1s] OK
  • checking Rd files ... [0s/0s] OK
  • checking Rd metadata ... OK
  • checking Rd cross-references ... OK
  • checking for missing documentation entries ... OK
  • checking for code/documentation mismatches ... OK
  • checking Rd \usage sections ... OK
  • checking Rd contents ... OK
  • checking for unstated dependencies in examples ... OK
  • checking line endings in shell scripts ... OK
  • checking line endings in C/C++/Fortran sources/headers ... OK
  • checking line endings in Makefiles ... OK
  • checking compilation flags in Makevars ... OK
  • checking for GNU extensions in Makefiles ... NOTE
    GNU make is a SystemRequirements.
  • checking for portable use of $(BLAS_LIBS) and $(LAPACK_LIBS) ... OK
  • checking use of PKG_*FLAGS in Makefiles ... OK
  • checking include directives in Makefiles ... OK
  • checking compiled code ... NOTE
    Note: information on .o files is not available
    File ‘/Volumes/Builds/packages/big-sur-arm64/results/4.2/Rserve.Rcheck/Rserve/libs/Rserve.so’:
      Found ‘___stderrp’, possibly from ‘stderr’ (C)
      Found ‘_abort’, possibly from ‘abort’ (C)
      Found ‘_exit’, possibly from ‘exit’ (C)
      Found ‘_rand’, possibly from ‘rand’ (C)
      Found ‘_random’, possibly from ‘random’ (C)
      Found ‘_srandom’, possibly from ‘srandom’ (C)
    File ‘Rserve/libs/Rserve.so’:
      Found non-API calls to R: ‘R_Consolefile’, ‘R_InputHandlers’,
        ‘R_Outputfile’, ‘R_TempDir’, ‘R_Visible’, ‘addInputHandler’,
        ‘ptr_R_Busy’, ‘ptr_R_ClearerrConsole’, ‘ptr_R_FlushConsole’,
        ‘ptr_R_ReadConsole’, ‘ptr_R_ResetConsole’, ‘ptr_R_ShowMessage’,
        ‘ptr_R_WriteConsole’, ‘ptr_R_WriteConsoleEx’

    Compiled code should not call entry points which might terminate R nor
    write to stdout/stderr instead of to the console, nor use Fortran I/O
    nor system RNGs. The detected symbols are linked into the code but
    might come from libraries and not actually be called.
    Compiled code should not call non-API entry points in R.

    See ‘Writing portable packages’ in the ‘Writing R Extensions’ manual.
  • checking examples ... [0s/0s] OK
  • checking PDF version of manual ... OK
  • DONE
    Status: 3 NOTEs
  • using check arguments '--no-clean-on-error '