- using R version 4.2.3 (2023-03-15)
- using platform: aarch64-apple-darwin20 (64-bit)
- using session charset: UTF-8
- checking for file ‘NNS/DESCRIPTION’ ... OK
- checking extension type ... Package
- this is package ‘NNS’ version ‘10.4’
- package encoding: UTF-8
- checking package namespace information ... OK
- checking package dependencies ... OK
- checking if this is a source package ... OK
- checking if there is a namespace ... OK
- checking for executable files ... OK
- checking for hidden files and directories ... OK
- checking for portable file names ... OK
- checking for sufficient/correct file permissions ... OK
- checking whether package ‘NNS’ can be installed ... [18s/21s] OK
See the install log for details.
- checking installed package size ... OK
- checking package directory ... OK
- checking ‘build’ directory ... OK
- checking DESCRIPTION meta-information ... OK
- checking top-level files ... OK
- checking for left-over files ... OK
- checking index information ... OK
- checking package subdirectories ... OK
- checking R files for non-ASCII characters ... OK
- checking R files for syntax errors ... OK
- checking whether the package can be loaded ... OK
- checking whether the package can be loaded with stated dependencies ... OK
- checking whether the package can be unloaded cleanly ... OK
- checking whether the namespace can be loaded with stated dependencies ... OK
- checking whether the namespace can be unloaded cleanly ... OK
- checking loading without being on the library search path ... OK
- checking dependencies in R code ... OK
- checking S3 generic/method consistency ... OK
- checking replacement functions ... OK
- checking foreign function calls ... OK
- checking R code for possible problems ... [7s/7s] OK
- checking Rd files ... [0s/0s] OK
- checking Rd metadata ... OK
- checking Rd cross-references ... OK
- checking for missing documentation entries ... OK
- checking for code/documentation mismatches ... OK
- checking Rd \usage sections ... OK
- checking Rd contents ... OK
- checking for unstated dependencies in examples ... OK
- checking line endings in C/C++/Fortran sources/headers ... OK
- checking line endings in Makefiles ... OK
- checking compilation flags in Makevars ... OK
- checking for GNU extensions in Makefiles ... NOTE
GNU make is a SystemRequirements.
- checking for portable use of $(BLAS_LIBS) and $(LAPACK_LIBS) ... OK
- checking use of PKG_*FLAGS in Makefiles ... OK
- checking compiled code ... OK
- checking installed files from ‘inst/doc’ ... OK
- checking files in ‘vignettes’ ... OK
- checking examples ... [2s/2s] OK
- checking for unstated dependencies in ‘tests’ ... OK
- checking tests ... [3s/3s] OK
Running ‘testthat.R’ [3s/3s]
- checking for unstated dependencies in vignettes ... OK
- checking package vignettes in ‘inst/doc’ ... OK
- checking running R code from vignettes ... [2s/2s] NONE
‘NNSvignette_Classification.Rmd’ using ‘UTF-8’... [0s/0s] OK
‘NNSvignette_Clustering_and_Regression.Rmd’ using ‘UTF-8’... [0s/0s] OK
‘NNSvignette_Comparing_Distributions.Rmd’ using ‘UTF-8’... [0s/0s] OK
‘NNSvignette_Correlation_and_Dependence.Rmd’ using ‘UTF-8’... [0s/0s] OK
‘NNSvignette_Forecasting.Rmd’ using ‘UTF-8’... [0s/0s] OK
‘NNSvignette_Partial_Moments.Rmd’ using ‘UTF-8’... [0s/0s] OK
‘NNSvignette_Sampling.Rmd’ using ‘UTF-8’... [0s/0s] OK
- checking re-building of vignette outputs ... [39s/42s] OK
- checking PDF version of manual ... OK
- DONE
Status: 1 NOTE
- using check arguments '--no-clean-on-error '