• using R version 4.4.0 alpha (2024-03-31 r86238)
  • using platform: aarch64-apple-darwin20
  • R was compiled by     Apple clang version 14.0.0 (clang-1400.0.29.202)     GNU Fortran (GCC) 12.2.0
  • running under: macOS Ventura 13.4
  • using session charset: UTF-8
  • checking for file ‘NHMSAR/DESCRIPTION’ ... OK
  • checking extension type ... Package
  • this is package ‘NHMSAR’ version ‘1.19’
  • checking package namespace information ... OK
  • checking package dependencies ... OK
  • checking if this is a source package ... OK
  • checking if there is a namespace ... OK
  • checking for executable files ... OK
  • checking for hidden files and directories ... OK
  • checking for portable file names ... OK
  • checking for sufficient/correct file permissions ... OK
  • checking whether package ‘NHMSAR’ can be installed ... [4s/4s] OK See the install log for details.
  • checking installed package size ... OK
  • checking package directory ... OK
  • checking DESCRIPTION meta-information ... OK
  • checking top-level files ... OK
  • checking for left-over files ... OK
  • checking index information ... OK
  • checking package subdirectories ... OK
  • checking code files for non-ASCII characters ... OK
  • checking R files for syntax errors ... OK
  • checking whether the package can be loaded ... [0s/0s] OK
  • checking whether the package can be loaded with stated dependencies ... [0s/0s] OK
  • checking whether the package can be unloaded cleanly ... [0s/0s] OK
  • checking whether the namespace can be loaded with stated dependencies ... [0s/0s] OK
  • checking whether the namespace can be unloaded cleanly ... [0s/0s] OK
  • checking loading without being on the library search path ... [0s/0s] OK
  • checking dependencies in R code ... OK
  • checking S3 generic/method consistency ... OK
  • checking replacement functions ... OK
  • checking foreign function calls ... OK
  • checking R code for possible problems ... [7s/7s] OK
  • checking Rd files ... [0s/0s] NOTE checkRd: (-1) init.theta.MSAR.Rd:56: Lost braces     56 | with \eqn{Z} the covariate and eqn{d_Z} its dimension (number of covariates)        | ^ checkRd: (-1) test.model.MSAR.Rd:47: Lost braces     47 | Marginal distribution: {\deqn{ S = \int_{-\infty}^{\infty} \left| F_n(x)-F(x) \right| dx} }        | ^ checkRd: (-1) test.model.MSAR.Rd:49: Lost braces     49 | Marginal distribution, based on Anderson Darling statistic: {\deqn{ S = \int_{-\infty}^{\infty} \left| \frac{F_n(x)-F(x)}{F(x)(1-F(x))} \right| dx} }        | ^ checkRd: (-1) test.model.MSAR.Rd:51: Lost braces     51 | Correlation function: {\deqn{ S = \int_0^L\left|C_n(l)-C(l)\right|dl} }        | ^
  • checking Rd metadata ... NOTE Invalid package aliases in Rd file 'NH-MSAR-package.Rd':   ‘NH-MSAR-package’
  • checking Rd cross-references ... OK
  • checking for missing documentation entries ... OK
  • checking for code/documentation mismatches ... OK
  • checking Rd \usage sections ... OK
  • checking Rd contents ... NOTE Argument items with no description in Rd file 'ENu_graph.Rd':   ‘N.s.data’ Argument items with no description in Rd file 'Estep.MSAR.VM.Rd':   ‘verbose’ Auto-generated content requiring editing in Rd file 'NH-MSAR-package.Rd':   \details: ‘...the package, including the most important ~~ ~~ functions ~~’ Argument items with no description in Rd file 'init.theta.MSAR.Rd':   ‘\dots’ Argument items with no description in Rd file 'init.theta.MSAR.VM.Rd':   ‘\dots’
  • checking for unstated dependencies in examples ... OK
  • checking contents of ‘data’ directory ... OK
  • checking data for non-ASCII characters ... [0s/0s] OK
  • checking data for ASCII and uncompressed saves ... OK
  • checking examples ... [5s/5s] OK
  • checking PDF version of manual ... [4s/4s] OK
  • DONE Status: 3 NOTEs
  • using check arguments '--no-clean-on-error '