• using R version 4.4.0 alpha (2024-03-31 r86238)
  • using platform: aarch64-apple-darwin20
  • R was compiled by     Apple clang version 14.0.0 (clang-1400.0.29.202)     GNU Fortran (GCC) 12.2.0
  • running under: macOS Ventura 13.4
  • using session charset: UTF-8
  • checking for file ‘MOEADr/DESCRIPTION’ ... OK
  • checking extension type ... Package
  • this is package ‘MOEADr’ version ‘1.1.3’
  • package encoding: UTF-8
  • checking package namespace information ... OK
  • checking package dependencies ... OK
  • checking if this is a source package ... OK
  • checking if there is a namespace ... OK
  • checking for executable files ... OK
  • checking for hidden files and directories ... OK
  • checking for portable file names ... OK
  • checking for sufficient/correct file permissions ... OK
  • checking whether package ‘MOEADr’ can be installed ... [2s/2s] OK See the install log for details.
  • checking installed package size ... OK
  • checking package directory ... OK
  • checking ‘build’ directory ... OK
  • checking DESCRIPTION meta-information ... OK
  • checking top-level files ... OK
  • checking for left-over files ... OK
  • checking index information ... OK
  • checking package subdirectories ... OK
  • checking code files for non-ASCII characters ... OK
  • checking R files for syntax errors ... OK
  • checking whether the package can be loaded ... [0s/0s] OK
  • checking whether the package can be loaded with stated dependencies ... [0s/0s] OK
  • checking whether the package can be unloaded cleanly ... [0s/0s] OK
  • checking whether the namespace can be loaded with stated dependencies ... [0s/0s] OK
  • checking whether the namespace can be unloaded cleanly ... [0s/0s] OK
  • checking loading without being on the library search path ... [0s/0s] OK
  • checking dependencies in R code ... OK
  • checking S3 generic/method consistency ... OK
  • checking replacement functions ... OK
  • checking foreign function calls ... OK
  • checking R code for possible problems ... [2s/2s] OK
  • checking Rd files ... [0s/0s] NOTE checkRd: (-1) box_constraints.Rd:34: Lost braces; missing escapes or markup?     34 | F. Campelo, L.S. Batista, C. Aranha (2020): The {MOEADr} Package: A        | ^ checkRd: (-1) check_stop_criteria.Rd:30: Lost braces; missing escapes or markup?     30 | F. Campelo, L.S. Batista, C. Aranha (2020): The {MOEADr} Package: A        | ^ checkRd: (-1) constraint_none.Rd:39: Lost braces; missing escapes or markup?     39 | F. Campelo, L.S. Batista, C. Aranha (2020): The {MOEADr} Package: A        | ^ checkRd: (-1) constraint_penalty.Rd:45: Lost braces; missing escapes or markup?     45 | F. Campelo, L.S. Batista, C. Aranha (2020): The {MOEADr} Package: A        | ^ checkRd: (-1) constraint_vbr.Rd:106: Lost braces; missing escapes or markup?    106 | \verb{[Campelo2017]} F. Campelo, L.S. Batista, C. Aranha (2020): The {MOEADr}        | ^ checkRd: (-1) create_population.Rd:28: Lost braces; missing escapes or markup?     28 | F. Campelo, L.S. Batista, C. Aranha (2020): The {MOEADr} Package: A        | ^ checkRd: (-1) decomposition_msld.Rd:42: Lost braces; missing escapes or markup?     42 | F. Campelo, L.S. Batista, C. Aranha (2020): The {MOEADr} Package: A        | ^ checkRd: (-1) decomposition_sld.Rd:44: Lost braces; missing escapes or markup?     44 | F. Campelo, L.S. Batista, C. Aranha (2020): The {MOEADr} Package: A        | ^ checkRd: (-1) decomposition_uniform.Rd:37: Lost braces; missing escapes or markup?     37 | F. Campelo, L.S. Batista, C. Aranha (2020): The {MOEADr} Package: A        | ^ checkRd: (-1) define_neighborhood.Rd:49: Lost braces; missing escapes or markup?     49 | F. Campelo, L.S. Batista, C. Aranha (2020): The {MOEADr} Package: A        | ^ checkRd: (-1) evaluate_population.Rd:37: Lost braces; missing escapes or markup?     37 | F. Campelo, L.S. Batista, C. Aranha (2020): The {MOEADr} Package: A        | ^ checkRd: (-1) generate_weights.Rd:31: Lost braces; missing escapes or markup?     31 | F. Campelo, L.S. Batista, C. Aranha (2020): The {MOEADr} Package: A        | ^ checkRd: (-1) ls_dvls.Rd:78: Lost braces; missing escapes or markup?     78 | F. Campelo, L.S. Batista, C. Aranha (2020): The {MOEADr} Package: A        | ^ checkRd: (-1) ls_tpqa.Rd:77: Lost braces; missing escapes or markup?     77 | F. Campelo, L.S. Batista, C. Aranha (2020): The {MOEADr} Package: A        | ^ checkRd: (-1) moead.Rd:236: Lost braces; missing escapes or markup?    236 | F. Campelo, L.S. Batista, C. Aranha (2020): The {MOEADr} Package: A        | ^ checkRd: (-1) order_neighborhood.Rd:48: Lost braces; missing escapes or markup?     48 | F. Campelo, L.S. Batista, C. Aranha (2020): The {MOEADr} Package: A        | ^ checkRd: (-1) perform_variation.Rd:40: Lost braces; missing escapes or markup?     40 | F. Campelo, L.S. Batista, C. Aranha (2020): The {MOEADr} Package: A        | ^ checkRd: (-1) plot.moead.Rd:54: Lost braces; missing escapes or markup?     54 | F. Campelo, L.S. Batista, C. Aranha (2020): The {MOEADr} Package: A        | ^ checkRd: (-1) preset_moead.Rd:30: Lost braces; missing escapes or markup?     30 | F. Campelo, L.S. Batista, C. Aranha (2020): The {MOEADr} Package: A        | ^ checkRd: (-1) print.moead.Rd:21: Lost braces; missing escapes or markup?     21 | F. Campelo, L.S. Batista, C. Aranha (2020): The {MOEADr} Package: A        | ^ checkRd: (-1) print_progress.Rd:28: Lost braces; missing escapes or markup?     28 | F. Campelo, L.S. Batista, C. Aranha (2020): The {MOEADr} Package: A        | ^ checkRd: (-1) scalarization_awt.Rd:40: Lost braces; missing escapes or markup?     40 | F. Campelo, L.S. Batista, C. Aranha (2020): The {MOEADr} Package: A        | ^ checkRd: (-1) scalarization_ipbi.Rd:46: Lost braces; missing escapes or markup?     46 | F. Campelo, L.S. Batista, C. Aranha (2020): The {MOEADr} Package: A        | ^ checkRd: (-1) scalarization_pbi.Rd:42: Lost braces; missing escapes or markup?     42 | F. Campelo, L.S. Batista, C. Aranha (2020): The {MOEADr} Package: A        | ^ checkRd: (-1) scalarization_ws.Rd:39: Lost braces; missing escapes or markup?     39 | F. Campelo, L.S. Batista, C. Aranha (2020): The {MOEADr} Package: A        | ^ checkRd: (-1) scalarization_wt.Rd:39: Lost braces; missing escapes or markup?     39 | F. Campelo, L.S. Batista, C. Aranha (2020): The {MOEADr} Package: A        | ^ checkRd: (-1) scalarize_values.Rd:40: Lost braces; missing escapes or markup?     40 | F. Campelo, L.S. Batista, C. Aranha (2020): The {MOEADr} Package: A        | ^ checkRd: (-1) scale_objectives.Rd:42: Lost braces; missing escapes or markup?     42 | F. Campelo, L.S. Batista, C. Aranha (2020): The {MOEADr} Package: A        | ^ checkRd: (-1) stop_maxeval.Rd:37: Lost braces; missing escapes or markup?     37 | F. Campelo, L.S. Batista, C. Aranha (2020): The {MOEADr} Package: A        | ^ checkRd: (-1) stop_maxiter.Rd:37: Lost braces; missing escapes or markup?     37 | F. Campelo, L.S. Batista, C. Aranha (2020): The {MOEADr} Package: A        | ^ checkRd: (-1) stop_maxtime.Rd:44: Lost braces; missing escapes or markup?     44 | F. Campelo, L.S. Batista, C. Aranha (2020): The {MOEADr} Package: A        | ^ checkRd: (-1) summary.moead.Rd:43: Lost braces; missing escapes or markup?     43 | F. Campelo, L.S. Batista, C. Aranha (2020): The {MOEADr} Package: A        | ^ checkRd: (-1) update_population.Rd:33: Lost braces; missing escapes or markup?     33 | F. Campelo, L.S. Batista, C. Aranha (2020): The {MOEADr} Package: A        | ^ checkRd: (-1) updt_best.Rd:79: Lost braces; missing escapes or markup?     79 | F. Campelo, L.S. Batista, C. Aranha (2020): The {MOEADr} Package: A        | ^ checkRd: (-1) updt_restricted.Rd:56: Lost braces; missing escapes or markup?     56 | F. Campelo, L.S. Batista, C. Aranha (2020): The {MOEADr} Package: A        | ^ checkRd: (-1) updt_standard.Rd:49: Lost braces; missing escapes or markup?     49 | F. Campelo, L.S. Batista, C. Aranha (2020): The {MOEADr} Package: A        | ^ checkRd: (-1) variation_binrec.Rd:34: Lost braces; missing escapes or markup?     34 | F. Campelo, L.S. Batista, C. Aranha (2020): The {MOEADr} Package: A        | ^ checkRd: (-1) variation_diffmut.Rd:58: Lost braces; missing escapes or markup?     58 | F. Campelo, L.S. Batista, C. Aranha (2020): The {MOEADr} Package: A        | ^ checkRd: (-1) variation_localsearch.Rd:51: Lost braces; missing escapes or markup?     51 | F. Campelo, L.S. Batista, C. Aranha (2020): The {MOEADr} Package: A        | ^ checkRd: (-1) variation_polymut.Rd:44: Lost braces; missing escapes or markup?     44 | F. Campelo, L.S. Batista, C. Aranha (2020): The {MOEADr} Package: A        | ^ checkRd: (-1) variation_sbx.Rd:45: Lost braces; missing escapes or markup?     45 | F. Campelo, L.S. Batista, C. Aranha (2020): The {MOEADr} Package: A        | ^ checkRd: (-1) variation_truncate.Rd:26: Lost braces; missing escapes or markup?     26 | F. Campelo, L.S. Batista, C. Aranha (2020): The {MOEADr} Package: A        | ^
  • checking Rd metadata ... OK
  • checking Rd cross-references ... OK
  • checking for missing documentation entries ... OK
  • checking for code/documentation mismatches ... OK
  • checking Rd \usage sections ... OK
  • checking Rd contents ... OK
  • checking for unstated dependencies in examples ... OK
  • checking installed files from ‘inst/doc’ ... OK
  • checking files in ‘vignettes’ ... OK
  • checking examples ... [13s/14s] OK
  • checking for unstated dependencies in ‘tests’ ... OK
  • checking tests ... [2s/2s] OK   Running ‘testthat.R’ [1s/1s]
  • checking for unstated dependencies in vignettes ... OK
  • checking package vignettes ... OK
  • checking re-building of vignette outputs ... [51s/54s] OK
  • checking PDF version of manual ... [5s/5s] OK
  • DONE Status: 1 NOTE
  • using check arguments '--no-clean-on-error '