- using R version 4.1.0 (2021-05-18)
- using platform: aarch64-apple-darwin20 (64-bit)
- using session charset: UTF-8
- checking for file ‘MIPHENO/DESCRIPTION’ ... OK
- this is package ‘MIPHENO’ version ‘1.2’
- checking package namespace information ... OK
- checking package dependencies ... OK
- checking if this is a source package ... OK
- checking if there is a namespace ... OK
- checking for executable files ... OK
- checking for hidden files and directories ... OK
- checking for portable file names ... OK
- checking for sufficient/correct file permissions ... OK
- checking whether package ‘MIPHENO’ can be installed ... [4s/4s] OK
- checking installed package size ... OK
- checking package directory ... OK
- checking DESCRIPTION meta-information ... OK
- checking top-level files ... OK
- checking for left-over files ... OK
- checking index information ... OK
- checking package subdirectories ... OK
- checking R files for non-ASCII characters ... OK
- checking R files for syntax errors ... OK
- checking whether the package can be loaded ... OK
- checking whether the package can be loaded with stated dependencies ... OK
- checking whether the package can be unloaded cleanly ... OK
- checking whether the namespace can be loaded with stated dependencies ... OK
- checking whether the namespace can be unloaded cleanly ... OK
- checking loading without being on the library search path ... OK
- checking dependencies in R code ... OK
- checking S3 generic/method consistency ... OK
- checking replacement functions ... OK
- checking foreign function calls ... OK
- checking R code for possible problems ... [3s/3s] NOTE
cdf.pval: no visible global function definition for ‘median’
cdf.pval: no visible binding for global variable ‘ecdf’
find_hits: no visible global function definition for ‘na.omit’
mad.scores: no visible global function definition for ‘as.formula’
mad.scores: no visible binding for global variable ‘median’
mad.scores: no visible binding for global variable ‘mad’
rm.outliers: no visible global function definition for ‘as.formula’
rm.outliers: no visible binding for global variable ‘median’
rm.outliers: no visible binding for global variable ‘mad’
Undefined global functions or variables:
as.formula ecdf mad median na.omit
Consider adding
importFrom("stats", "as.formula", "ecdf", "mad", "median", "na.omit")
to your NAMESPACE file.
- checking Rd files ... [0s/0s] OK
- checking Rd metadata ... OK
- checking Rd cross-references ... OK
- checking for missing documentation entries ... OK
- checking for code/documentation mismatches ... OK
- checking Rd \usage sections ... OK
- checking Rd contents ... OK
- checking for unstated dependencies in examples ... OK
- checking examples ... [1s/1s] OK
- checking PDF version of manual ... OK
- DONE
Status: 1 NOTE