• using R version 4.1.1 Patched (2021-09-05 r80862)
  • using platform: aarch64-apple-darwin20 (64-bit)
  • using session charset: UTF-8
  • checking for file ‘MCDA/DESCRIPTION’ ... OK
  • this is package ‘MCDA’ version ‘0.0.22’
  • package encoding: UTF-8
  • checking package namespace information ... OK
  • checking package dependencies ... NOTE
    Package suggested but not available for checking: ‘cplexAPI’
  • checking if this is a source package ... OK
  • checking if there is a namespace ... OK
  • checking for executable files ... OK
  • checking for hidden files and directories ... OK
  • checking for portable file names ... OK
  • checking for sufficient/correct file permissions ... OK
  • checking whether package ‘MCDA’ can be installed ... [6s/6s] OK
  • checking installed package size ... OK
  • checking package directory ... OK
  • checking DESCRIPTION meta-information ... OK
  • checking top-level files ... OK
  • checking for left-over files ... OK
  • checking index information ... OK
  • checking package subdirectories ... OK
  • checking R files for non-ASCII characters ... OK
  • checking R files for syntax errors ... OK
  • checking whether the package can be loaded ... OK
  • checking whether the package can be loaded with stated dependencies ... OK
  • checking whether the package can be unloaded cleanly ... OK
  • checking whether the namespace can be loaded with stated dependencies ... OK
  • checking whether the namespace can be unloaded cleanly ... OK
  • checking loading without being on the library search path ... OK
  • checking dependencies in R code ... OK
  • checking S3 generic/method consistency ... OK
  • checking replacement functions ... OK
  • checking foreign function calls ... OK
  • checking R code for possible problems ... [8s/9s] OK
  • checking Rd files ... [0s/0s] OK
  • checking Rd metadata ... OK
  • checking Rd cross-references ... OK
  • checking for missing documentation entries ... OK
  • checking for code/documentation mismatches ... OK
  • checking Rd \usage sections ... OK
  • checking Rd contents ... OK
  • checking for unstated dependencies in examples ... OK
  • checking examples ... [5s/5s] OK
  • checking for unstated dependencies in ‘tests’ ... OK
  • checking tests ... [136s/144s] OK
      Running ‘AHP.R’ [1s/1s]
      Running ‘ELECTREIIIDistillation.R’ [1s/1s]
      Running ‘LPDMRSort.R’ [1s/1s]
      Running ‘LPDMRSortIdentifyIncompatibleAssignments.R’ [2s/2s]
      Running ‘LPDMRSortIdentifyUsedDictatorProfiles.R’ [1s/1s]
      Running ‘LPDMRSortIdentifyUsedVetoProfiles.R’ [1s/1s]
      Running ‘LPDMRSortInferenceApprox.R’ [1s/1s]
      Running ‘LPDMRSortInferenceExact.R’ [1s/1s]
      Running ‘MARE.R’ [1s/1s]
      Running ‘MRSort.R’ [1s/1s]
      Running ‘MRSortIdentifyIncompatibleAssignments.R’ [1s/1s]
      Running ‘MRSortIdentifyUsedVetoProfiles.R’ [1s/1s]
      Running ‘MRSortInferenceApprox.R’ [2s/2s]
      Running ‘MRSortInferenceExact.R’ [1s/1s]
      Running ‘MRSortInterval.R’ [1s/1s]
      Running ‘PROMETHEEI.R’ [1s/1s]
      Running ‘PROMETHEEII.R’ [1s/1s]
      Running ‘PROMETHEEOutrankingFlows.R’ [1s/1s]
      Running ‘PROMETHEEPreferenceIndices.R’ [0s/0s]
      Running ‘SRMP.R’ [0s/0s]
      Running ‘SRMPInference.R’ [2s/2s]
      Running ‘SRMPInferenceApprox.R’ [1s/1s]
      Running ‘SRMPInferenceApproxFixedLexicographicOrder.R’ [1s/1s]
      Running ‘SRMPInferenceApproxFixedProfilesNumber.R’ [1s/1s]
      Running ‘SRMPInferenceFixedLexicographicOrder.R’ [1s/1s]
      Running ‘SRMPInferenceFixedProfilesNumber.R’ [2s/2s]
      Running ‘SRMPInferenceNoInconsist.R’ [1s/1s]
      Running ‘SRMPInferenceNoInconsistFixedLexicographicOrder.R’ [2s/2s]
      Running ‘SRMPInferenceNoInconsistFixedProfilesNumber.R’ [2s/2s]
      Running ‘SURE.R’ [101s/107s]
      Running ‘TOPSIS.R’ [1s/1s]
      Running ‘UTA.R’ [1s/1s]
      Running ‘UTADIS.R’ [1s/1s]
      Running ‘UTASTAR.R’ [0s/0s]
      Running ‘additiveValueFunctionElicitation.R’ [0s/0s]
      Running ‘applyPiecewiseLinearValueFunctionsOnPerformanceTable.R’ [0s/0s]
      Running ‘assignAlternativesToCategoriesByThresholds.R’ [0s/0s]
      Running ‘normalizePerformanceTable.R’ [0s/0s]
      Running ‘pairwiseConsistencyMeasures.R’ [0s/0s]
      Running ‘plotAlternativesValuesPreorder.R’ [1s/1s]
      Running ‘plotMRSortSortingProblem.R’ [0s/0s]
      Running ‘plotRadarPerformanceTable.R’ [0s/0s]
      Running ‘weightedSum.R’ [0s/0s]
  • checking PDF version of manual ... OK
  • DONE
    Status: 1 NOTE
  • using check arguments '--no-clean-on-error '