- using R version 4.1.0 (2021-05-18)
- using platform: aarch64-apple-darwin20 (64-bit)
- using session charset: UTF-8
- checking for file ‘ISwR/DESCRIPTION’ ... OK
- this is package ‘ISwR’ version ‘2.0-8’
- checking package namespace information ... OK
- checking package dependencies ... OK
- checking if this is a source package ... OK
- checking if there is a namespace ... OK
- checking for executable files ... OK
- checking for hidden files and directories ... OK
- checking for portable file names ... OK
- checking for sufficient/correct file permissions ... OK
- checking whether package ‘ISwR’ can be installed ... [1s/1s] OK
- checking installed package size ... OK
- checking package directory ... OK
- checking DESCRIPTION meta-information ... OK
- checking top-level files ... OK
- checking for left-over files ... OK
- checking index information ... OK
- checking package subdirectories ... OK
- checking R files for non-ASCII characters ... OK
- checking R files for syntax errors ... OK
- checking whether the package can be loaded ... OK
- checking whether the package can be loaded with stated dependencies ... OK
- checking whether the package can be unloaded cleanly ... OK
- checking whether the namespace can be loaded with stated dependencies ... OK
- checking whether the namespace can be unloaded cleanly ... OK
- checking loading without being on the library search path ... OK
- checking dependencies in R code ... OK
- checking S3 generic/method consistency ... OK
- checking replacement functions ... OK
- checking foreign function calls ... OK
- checking R code for possible problems ... [1s/1s] OK
- checking Rd files ... [0s/0s] OK
- checking Rd metadata ... OK
- checking Rd cross-references ... OK
- checking for missing documentation entries ... OK
- checking for code/documentation mismatches ... OK
- checking Rd \usage sections ... OK
- checking Rd contents ... OK
- checking for unstated dependencies in examples ... OK
- checking contents of ‘data’ directory ... OK
- checking data for non-ASCII characters ... OK
- checking LazyData ... OK
- checking data for ASCII and uncompressed saves ... OK
- checking examples ... [1s/1s] OK
- checking for unstated dependencies in ‘tests’ ... OK
- checking tests ... [4s/4s] OK
Running ‘allexercises.R’ [2s/2s]
Comparing ‘allexercises.Rout’ to ‘allexercises.Rout.save’ ... OK
Running ‘allscripts.R’ [2s/2s]
Comparing ‘allscripts.Rout’ to ‘allscripts.Rout.save’ ...487c487
< [1] 186
---
> [1] 185
982c982
< alternative hypothesis: true difference in means between group lean and group obese is not equal to 0
---
> alternative hypothesis: true difference in means is not equal to 0
995c995
< alternative hypothesis: true difference in means between group lean and group obese is not equal to 0
---
> alternative hypothesis: true difference in means is not equal to 0
2749,2751c2749,2751
< gr 1 206698 206698 NaN NaN
< factor(gr) 4 17405 4351 NaN NaN
< Residuals 0 0 NaN
---
> gr 1 206698 206698
> factor(gr) 4 17405 4351
> Residuals 0 0
3004c3004
< alternative hypothesis: true difference in means between group Yes and group No is not equal to 0
---
> alternative hypothesis: true difference in means is not equal to 0
- checking PDF version of manual ... OK
- DONE
Status: OK