• using R version 4.4.0 alpha (2024-03-31 r86238)
  • using platform: aarch64-apple-darwin20
  • R was compiled by     Apple clang version 14.0.0 (clang-1400.0.29.202)     GNU Fortran (GCC) 12.2.0
  • running under: macOS Ventura 13.4
  • using session charset: UTF-8
  • checking for file ‘GB2/DESCRIPTION’ ... OK
  • this is package ‘GB2’ version ‘2.1.1’
  • checking package namespace information ... OK
  • checking package dependencies ... OK
  • checking if this is a source package ... OK
  • checking if there is a namespace ... OK
  • checking for executable files ... OK
  • checking for hidden files and directories ... OK
  • checking for portable file names ... OK
  • checking for sufficient/correct file permissions ... OK
  • checking whether package ‘GB2’ can be installed ... [4s/4s] OK See the install log for details.
  • checking installed package size ... OK
  • checking package directory ... OK
  • checking DESCRIPTION meta-information ... OK
  • checking top-level files ... OK
  • checking for left-over files ... OK
  • checking index information ... OK
  • checking package subdirectories ... OK
  • checking code files for non-ASCII characters ... OK
  • checking R files for syntax errors ... OK
  • checking whether the package can be loaded ... [1s/1s] OK
  • checking whether the package can be loaded with stated dependencies ... [1s/1s] OK
  • checking whether the package can be unloaded cleanly ... [1s/1s] OK
  • checking whether the namespace can be loaded with stated dependencies ... [1s/1s] OK
  • checking whether the namespace can be unloaded cleanly ... [1s/1s] OK
  • checking loading without being on the library search path ... [1s/1s] OK
  • checking dependencies in R code ... OK
  • checking S3 generic/method consistency ... OK
  • checking replacement functions ... OK
  • checking foreign function calls ... OK
  • checking R code for possible problems ... [4s/4s] OK
  • checking Rd files ... [0s/0s] NOTE checkRd: (-1) CompoundDensPlot.Rd:18: Lost braces     18 | \item{shape1, scale ,shape2, shape3}{numeric; positive parameters of the GB2 distribution. On the plot they are denotes as \code{a}, code{b}, \code{p}, \code{q} and \code{pl0} respectively.}        | ^ checkRd: (-1) CompoundVarest.Rd:58: Lost braces     58 | \code{scoreU.cgb2} returns a \eqn{N \times (L-1)} matrix of scores <code{U}.        | ^ checkRd: (-1) Fisk.Rd:26: Lost braces     26 | \value{\code{fisk} and \code{fiskh} return vectors of length 4 containing the estimated parameters \eqn{a}, eqn{b}, as well as \eqn{p=1} and \eqn{q=1}.        | ^ checkRd: (-1) MLfullGB2.Rd:23: Lost braces     23 | \item{method}{numeric; the method to be used by \code{optim}. By default, code{method = }1 and the used method is BFGS. If \code{method = }2, method L-BFGS-B is used.}        | ^ checkRd: (-1) MLprofGB2.Rd:16: Lost braces     16 | \item{method}{numeric; the method to be used by \code{optim}. By default, code{method = }1 and the used method is BFGS. If \code{method = }2, method L-BFGS-B is used.}        | ^
  • checking Rd metadata ... OK
  • checking Rd cross-references ... OK
  • checking for missing documentation entries ... OK
  • checking for code/documentation mismatches ... OK
  • checking Rd \usage sections ... OK
  • checking Rd contents ... OK
  • checking for unstated dependencies in examples ... OK
  • checking examples ... [2s/2s] OK
  • checking PDF version of manual ... [4s/5s] OK
  • DONE Status: 1 NOTE
  • using check arguments '--no-clean-on-error '