* using log directory ‘/Volumes/Builds/packages/big-sur-arm64/results/4.4/GAabbreviate.Rcheck’ * using R version 4.4.0 alpha (2024-03-31 r86238) * using platform: aarch64-apple-darwin20 * R was compiled by Apple clang version 14.0.0 (clang-1400.0.29.202) GNU Fortran (GCC) 12.2.0 * running under: macOS Ventura 13.4 * using session charset: UTF-8 * checking for file ‘GAabbreviate/DESCRIPTION’ ... OK * checking extension type ... Package * this is package ‘GAabbreviate’ version ‘1.3’ * checking package namespace information ... OK * checking package dependencies ... OK * checking if this is a source package ... OK * checking if there is a namespace ... OK * checking for executable files ... OK * checking for hidden files and directories ... OK * checking for portable file names ... OK * checking for sufficient/correct file permissions ... OK * checking whether package ‘GAabbreviate’ can be installed ... [2s/2s] OK See 'https://www.r-project.org/nosvn/R.check/r-oldrel-macos-arm64/GAabbreviate-00install.html' for details. * checking installed package size ... OK * checking package directory ... OK * checking DESCRIPTION meta-information ... OK * checking top-level files ... OK * checking for left-over files ... OK * checking index information ... OK * checking package subdirectories ... OK * checking code files for non-ASCII characters ... OK * checking R files for syntax errors ... OK * checking whether the package can be loaded ... [0s/0s] OK * checking whether the package can be loaded with stated dependencies ... [0s/0s] OK * checking whether the package can be unloaded cleanly ... [0s/0s] OK * checking whether the namespace can be loaded with stated dependencies ... [0s/0s] OK * checking whether the namespace can be unloaded cleanly ... [0s/0s] OK * checking loading without being on the library search path ... [0s/0s] OK * checking dependencies in R code ... OK * checking S3 generic/method consistency ... OK * checking replacement functions ... OK * checking foreign function calls ... OK * checking R code for possible problems ... [1s/1s] OK * checking Rd files ... [0s/0s] NOTE checkRd: (-1) GAabbreviate.Rd:53: Lost braces; missing escapes or markup? 53 | where \eqn{I} represents a user-specified fixed item cost, \eqn{k} represents the number of items retained by the GA (in any given iteration), \eqn{s} is the number of subscales in the measure, \eqn{w_i} are the weights (by default {w_i = 1} for any \eqn{i}) associated with each subscale (if there are any subsets to be retained), and \eqn{R_i^2} is the amount of variance in the ith subscale that can be explained by a linear combination of individual item scores. Adjusting the value of \eqn{I} low or high yields longer or shorter measures respectively. When the cost of each individual item retained in each generation outweighs the cost of a loss in explained variance, the GA yields a relatively brief measure. When the cost is low, the GA yields a relatively longer measure maximizing explained variance (Yarkoni, 2010). | ^ * checking Rd metadata ... NOTE Invalid package aliases in Rd file 'GAabbreviate-internal.Rd': ‘GAabbreviation-package’ * checking Rd cross-references ... OK * checking for missing documentation entries ... OK * checking for code/documentation mismatches ... OK * checking Rd \usage sections ... OK * checking Rd contents ... OK * checking for unstated dependencies in examples ... OK * checking examples ... [1s/1s] OK * checking PDF version of manual ... [3s/4s] OK * DONE Status: 2 NOTEs * using check arguments '--no-clean-on-error ' * elapsed time (check, wall clock): 0:20