• using R version 4.1.1 Patched (2021-09-05 r80862)
  • using platform: aarch64-apple-darwin20 (64-bit)
  • using session charset: UTF-8
  • checking for file ‘FrF2/DESCRIPTION’ ... OK
  • this is package ‘FrF2’ version ‘2.2-3’
  • package encoding: latin1
  • checking package namespace information ... OK
  • checking package dependencies ... OK
  • checking if this is a source package ... OK
  • checking if there is a namespace ... OK
  • checking for executable files ... OK
  • checking for hidden files and directories ... OK
  • checking for portable file names ... OK
  • checking for sufficient/correct file permissions ... OK
  • checking whether package ‘FrF2’ can be installed ... [5s/5s] OK
  • checking installed package size ... OK
  • checking package directory ... OK
  • checking DESCRIPTION meta-information ... OK
  • checking top-level files ... OK
  • checking for left-over files ... OK
  • checking index information ... OK
  • checking package subdirectories ... OK
  • checking R files for non-ASCII characters ... OK
  • checking R files for syntax errors ... OK
  • checking whether the package can be loaded ... OK
  • checking whether the package can be loaded with stated dependencies ... OK
  • checking whether the package can be unloaded cleanly ... OK
  • checking whether the namespace can be loaded with stated dependencies ... OK
  • checking whether the namespace can be unloaded cleanly ... OK
  • checking loading without being on the library search path ... OK
  • checking dependencies in R code ... OK
  • checking S3 generic/method consistency ... OK
  • checking replacement functions ... OK
  • checking foreign function calls ... OK
  • checking R code for possible problems ... [7s/7s] OK
  • checking Rd files ... [0s/0s] OK
  • checking Rd metadata ... OK
  • checking Rd cross-references ... OK
  • checking for missing documentation entries ... OK
  • checking for code/documentation mismatches ... OK
  • checking Rd \usage sections ... OK
  • checking Rd contents ... OK
  • checking for unstated dependencies in examples ... OK
  • checking R/sysdata.rda ... OK
  • checking examples ... [4s/4s] OK
  • checking for unstated dependencies in ‘tests’ ... OK
  • checking tests ... [12s/13s] OK
      Running ‘FrF2test.R’ [5s/5s]
      Comparing ‘FrF2test.Rout’ to ‘FrF2test.Rout.save’ ... OK
      Running ‘addcentertest.R’ [2s/2s]
      Comparing ‘addcentertest.Rout’ to ‘addcentertest.Rout.save’ ... OK
      Running ‘foldtest.R’ [2s/2s]
      Comparing ‘foldtest.Rout’ to ‘foldtest.Rout.save’ ... OK
      Running ‘generators.from.designtest.R’ [1s/1s]
      Comparing ‘generators.from.designtest.Rout’ to ‘generators.from.designtest.Rout.save’ ... OK
      Running ‘generators.summary.test.R’ [2s/2s]
      Comparing ‘generators.summary.test.Rout’ to ‘generators.summary.test.Rout.save’ ... OK
      Running ‘godolphintest.R’ [1s/1s]
      Comparing ‘godolphintest.Rout’ to ‘godolphintest.Rout.save’ ... OK
      Running ‘pbtest.R’ [1s/1s]
      Comparing ‘pbtest.Rout’ to ‘pbtest.Rout.save’ ... OK
  • checking PDF version of manual ... OK
  • DONE
    Status: OK
  • using check arguments '--no-clean-on-error '