* using log directory ‘/Volumes/Builds/packages/big-sur-arm64/results/4.4/BHTSpack.Rcheck’ * using R version 4.4.0 alpha (2024-03-31 r86238) * using platform: aarch64-apple-darwin20 * R was compiled by Apple clang version 14.0.0 (clang-1400.0.29.202) GNU Fortran (GCC) 12.2.0 * running under: macOS Ventura 13.4 * using session charset: UTF-8 * checking for file ‘BHTSpack/DESCRIPTION’ ... OK * checking extension type ... Package * this is package ‘BHTSpack’ version ‘0.6’ * checking package namespace information ... OK * checking package dependencies ... OK * checking if this is a source package ... OK * checking if there is a namespace ... OK * checking for executable files ... OK * checking for hidden files and directories ... OK * checking for portable file names ... OK * checking for sufficient/correct file permissions ... OK * checking whether package ‘BHTSpack’ can be installed ... [2s/3s] OK See 'https://www.r-project.org/nosvn/R.check/r-oldrel-macos-arm64/BHTSpack-00install.html' for details. * used C++ compiler: ‘Apple clang version 14.0.0 (clang-1400.0.29.202)’ * used SDK: ‘MacOSX11.3.sdk’ * checking installed package size ... OK * checking package directory ... OK * checking ‘build’ directory ... OK * checking DESCRIPTION meta-information ... OK * checking top-level files ... OK * checking for left-over files ... OK * checking index information ... OK * checking package subdirectories ... OK * checking code files for non-ASCII characters ... OK * checking R files for syntax errors ... OK * checking whether the package can be loaded ... [0s/0s] OK * checking whether the package can be loaded with stated dependencies ... [0s/0s] OK * checking whether the package can be unloaded cleanly ... [0s/0s] OK * checking whether the namespace can be loaded with stated dependencies ... [0s/0s] OK * checking whether the namespace can be unloaded cleanly ... [0s/0s] OK * checking loading without being on the library search path ... [0s/0s] OK * checking dependencies in R code ... OK * checking S3 generic/method consistency ... OK * checking replacement functions ... OK * checking foreign function calls ... OK * checking R code for possible problems ... [1s/1s] OK * checking Rd files ... [0s/0s] OK * checking Rd metadata ... OK * checking Rd cross-references ... OK * checking for missing documentation entries ... OK * checking for code/documentation mismatches ... OK * checking Rd \usage sections ... OK * checking Rd contents ... NOTE Argument items with no description in Rd file 'h.pr.u.Rd': ‘z’ ‘ih’ ‘mu’ ‘sigma’ ‘pk’ ‘K’ ‘H’ ‘n’ Argument items with no description in Rd file 'hatpai.u.Rd': ‘z’ ‘hk1’ ‘hk0’ ‘ph1’ ‘ph0’ ‘sigma1’ ‘sigma0’ ‘mu1’ ‘mu0’ ‘pai’ ‘H’ ‘n’ Argument items with no description in Rd file 'ind.u.Rd': ‘pr’ Argument items with no description in Rd file 'lambda.u.Rd': ‘nu’ Argument items with no description in Rd file 'mu.k.u.Rd': ‘k’ ‘ik’ ‘z’ ‘sigma’ ‘mu0’ Argument items with no description in Rd file 'nu.u.Rd': ‘ind’ ‘tau’ ‘H’ Argument items with no description in Rd file 'pai.u.Rd': ‘b’ ‘a.pai’ ‘b.pai’ Argument items with no description in Rd file 'sig.k.u.Rd': ‘k’ ‘ik’ ‘z’ ‘mu0’ ‘a0’ ‘b0’ Argument items with no description in Rd file 'z.pr.u.Rd': ‘z’ ‘hk’ ‘mu’ ‘sigma’ ‘ph’ ‘H’ ‘n’ * checking for unstated dependencies in examples ... OK * checking line endings in C/C++/Fortran sources/headers ... OK * checking compiled code ... OK * checking sizes of PDF files under ‘inst/doc’ ... OK * checking installed files from ‘inst/doc’ ... OK * checking files in ‘vignettes’ ... OK * checking examples ... [1s/1s] OK * checking for unstated dependencies in vignettes ... OK * checking package vignettes ... OK * checking re-building of vignette outputs ... [19s/19s] OK * checking PDF version of manual ... [4s/4s] OK * DONE Status: 1 NOTE * using check arguments '--no-clean-on-error ' * elapsed time (check, wall clock): 0:41